#\#CIF_1.1

#  CIF produced by WinGX routine CIF_UPDATE
#  Created on 2023-07-31 at 19:43:11
#  Using CIFtbx version 3.0.4  1 Sep 2006

#  Dictionary name : cif_core.dic
#  Dictionary vers : 2.4.5
#  Request file    : c:\program files (x86)\wingx\files\archive.reqdat
#  CIF files read  : shelx project

#------------------ SECTION 1. GLOBAL INFORMATION ---------------------------#

data_global

#------------------ AUDIT DETAILS -------------------------------------------#

_audit_creation_date            2023-07-31
_audit_creation_method          'WinGX routine CIF_UPDATE'
_audit_conform_dict_name        cif_core.dic
_audit_conform_dict_version     2.4.3
_audit_conform_dict_location    ftp://ftp.iucr.org/pub/cif_core.dic
_audit_update_record            ?

#------------------ AUTHOR DETAILS -------------------------------------------#

# Name and address of author for correspondence

_publ_contact_author_name       ' ,  '
_publ_contact_author_address
;

;
_publ_contact_author_email       ' '
_publ_contact_author_fax         ' '
_publ_contact_author_phone       ' '


# Insert blank lines between references

_publ_section_references
;
Blessing, R. H. (1995) Acta Cryst., A51, 33-38.

Blessing, R. H. (1987) Cryst. Rev. 1, 3-58.

Blessing, R. H. (1989) J. Appl. Cryst. 22, 396-397.

Bruker (2012) APEX2 (Version 2012.10-0), SAINT (version 8.27B), SADABS
(version 2012/1), BrukerAXS Inc, Madison, Wisconsin, USA.

ABSCOR: Higashi, T. (1995). ABSCOR. Rigaku Corporation, Tokyo, Japan.

CAD-4 Software: Enraf-Nonius (1989). CAD-4 Software (or CAD-4 EXPRESS).
Enraf-Nonius, Delft, The Netherlands.

Cambridge Structural Database: Allen, F. R. (2002). Acta Cryst. B58, 380-388.

CAMERON: Watkin, D. J., Prout, C. K. & Pearce, L. J. (1996). CAMERON.
Chemical Crystallography Laboratory, Oxford, England.

CrysAlis CCD, CrysAlis RED and associated programs: Oxford Diffraction (2006).
Program name(s). Oxford Diffraction Ltd, Abingdon, England.

CRYSTALS: Betteridge, P. W., Carruthers, J. R., Cooper, R. I., Prout, K. &
Watkin, D. J. (2003). J. Appl. Cryst. 36, 1487.

COLLECT: Nonius (1998). COLLECT. Nonius BV, Delft, The Netherlands.

DENZO/SCALEPACK:  Otwinowski, Z. & Minor, W. (1997). Methods in Enzymology,
Vol. 276, Macromolecular Crystallography, Part A, edited by C. W. Carter Jr
& R. M. Sweet, pp. 307-326. New York: Academic Press.

DIAMOND: Brandenburg, K.(2006). DIAMOND. Crystal Impact GbR, Bonn, Germany.

DIF4 and REDU4: Stoe & Cie (1991). Program name(s). Stoe & Cie, Darmstadt,
Germany.

DIFABS: Walker, N. &  Stuart, D. (1983). Acta Cryst., A39, 158 - 166.

DIRAX: Duisenberg, A. J. M. (1992). J. Appl. Cryst. 25, 92-96.

DIRDIF-2008: Beurskens, P.T., Beurskens, G., de Gelder, R., Garciía-Granda,
S., Gould, R.O. & Smits, J.M.M. (2008) The DIRDIF-2008 program
system, Crystallography Laboratory, Radboud University  Nijmegen,
The Netherlands.

EDMA: Palatinus, L., Prathapa, S. J. & van Smaalen, S. (2012) J. Appl. Cryst.
45, 575-580.

enCIFer: Allen, F. H., Johnson, O., Shields, G. P., Smith, B. R. & Towler,
M. (2004). J. Appl. Cryst. 37, 335-338.

EVALCCD: Duisenberg, A. J. M., Kroon-Batenburg, L. M. J. & Schreurs,
A. M. M. (2003). J. Appl. Cryst. 36, 220-229.

JANA2000: Petricek, V. & Dusek, M. (2000). JANA2000. Institute of Physics,
Czech Academy of Sciences, Prague, Czech Republic.

MERCURY: Macrae, C. F., Bruno, I. J., Chisholm, J. A., Edgington,
P. R., McCabe, P., Pidcock, E., Rodriguez-Monge, L., Taylor, R.,
van de Streek, J. & Wood, P. A. (2008). J. Appl. Cryst. 41, 466-470.

MOGUL: Bruno, I. J., Cole, J. C., Kessler, M., Luo, J., Motherwell,
W. D. S., Purkis, L. H., Smith, B. R., Taylor, R., Cooper, R. I., Harris,
S. E. & Orpen, A. G. (2004). J. Chem. Inf. Comput. Sci. 44, 2133-2144.

ORTEPII: Johnson, C. K. (1976). ORTEPII. Report ORNL-5138. Oak Ridge
National Laboratory, Tennessee, USA.

ORTEPIII:  Burnett, M. N. & Johnson, C. K. (1996). ORTEPIII.
Report ORNL-6895. Oak Ridge National Laboratory, Tennessee, USA.

ORTEP-3: Farrugia, L. J. (2012). J. Appl. Cryst. 45, 849-854.

PARST: Nardelli, M. (1995). J. Appl. Cryst. 28, 659.

PLATON: Spek, A. L. (2009). Acta. Cryst. D65, 148-155.

PROCESS: Rigaku (1996). PROCESS. Rigaku Corporation, Tokyo, Japan.

PROCESS-AUTO: Rigaku (1998). PROCESS-AUTO. Rigaku Corporation, Tokyo, Japan.

PublCIF: Westrip, S. P. (2010). J. Appl. Cryst. 43, 920-925.

SCHAKAL: Keller, E. (1999) University of Freiburg, Germany.

SHELX: Sheldrick, G. M. (2015). Acta Cryst. C71, 3-8.

SHELXD: Schneider, T. R. & Sheldrick, G. M. (2002) Acta Cryst. D58, 1772-1779.

SHELXT: Sheldrick, G. M. (2015). Acta Cryst. A71, 3-8.

SIR92: Altomare, A., Cascarano, G., Giacovazzo, C., Guagliardi, A., Burla,
M. C., Polidori, G. & Camalli, M. (1994). J. Appl. Cryst. 27, 435.

SIR97: Altomare, A., Burla, M. C., Camalli, M., Cascarano, G. L.,
Giacovazzo, C., Guagliardi, A., Moliterni, A. G. G., Polidori, G. &
Spagna, R. (1999). J. Appl. Cryst. 32, 115-119.

SIR2002: Burla, M. C., Camalli, M., Carrozzini, B., Cascarano, G. L.,
Giacovazzo, C., Polidori, G. & Spagna, R. (2003). J. Appl. Cryst. 36, 1103.

SIR2004: Burla, M. C., Caliandro, R., Camalli, M., Carrozzini, B.,
Cascarano, G. L., De Caro, L., Giacovazzo, C., Polidori, G. & Spagna, R.
(2005). J. Appl. Cryst. 38, 381-388.

SIR2008 & IL MILIONE: Burla, M. C., Caliandro, R., Camalli, M., Carrozzini, B.,
Cascarano, G. L., De Caro, L., Giacovazzo, C., Polidori, G., Siliqi, D.,
& Spagna, R. (2007). J. Appl. Cryst. 40, 609-613.

SIR2011: Burla, M. C., Caliandro, R., Camalli, M., Carrozzini, B.,
Cascarano, G. L., Giacovazzo, C., Mallamo, M., Mazzone, A., Polidori, G.
& Spagna, R. (2012). J. Appl. Cryst. 45, 357-361.

SUPERFLIP: Palatinus, L. & Chapuis, G. (2007) J. Appl. Cryst. 40, 786-790.

TEXSAN: Molecular Structure Corporation & Rigaku (2000). TEXSAN. MSC,
The Woodlands, Texas, USA, and Rigaku Corporation, Tokyo, Japan.

WinGX: Farrugia, L. J. (2012). J. Appl. Cryst. 45, 849-854.

X-AREA, X-RED, X-RED32, X-SHAPE:  Stoe & Cie (2002). Program name(s).
Stoe & Cie GmbH, Darmstadt, Germany.

XCAD4: Harms, K. & Wocadlo, S. (1995). XCAD4. University of Marburg, Germany.

XSCANS: Siemens (1994). XSCANS. Siemens Analytical X-ray Instruments Inc.,
Madison, Wisconsin, USA.

;

#------------------  SECTION 2. COMPOUND(S) DETAILS -------------------------#

data_shelx

_audit_creation_date                    2023-07-31T19:43:11-00:00
_audit_creation_method                  'WinGX routine CIF_UPDATE'
_audit_conform_dict_name                cif_core.dic
_audit_conform_dict_version             2.4.5
_audit_conform_dict_location            ftp://ftp.iucr.org/pub/cif_core.dic
_publ_requested_category                FI

#----------------------------------------------------------------------------#
#                   CHEMICAL INFORMATION                                     #
#----------------------------------------------------------------------------#

_chemical_formula_sum                   'Cr P2 S7 Tl'
_chemical_formula_weight                542.73
_chemical_absolute_configuration        unk

#----------------------------------------------------------------------------#
#                   UNIT CELL INFORMATION                                    #
#----------------------------------------------------------------------------#

_symmetry_cell_setting                  orthorhombic
_symmetry_space_group_name_H-M          'P 21 21 21'
_symmetry_space_group_name_Hall         'P 2ac 2ab'
_symmetry_Int_Tables_number             19
loop_
    _symmetry_equiv_pos_as_xyz
'x, y, z'
'-x+1/2, -y, z+1/2'
'-x, y+1/2, -z+1/2'
'x+1/2, -y+1/2, -z'

_cell_length_a                          8.4764(3)
_cell_length_b                          9.5292(4)
_cell_length_c                          12.2795(4)
_cell_angle_alpha                       90
_cell_angle_beta                        90
_cell_angle_gamma                       90
_cell_volume                            991.86(6)
_cell_formula_units_Z                   4
_cell_measurement_temperature           143(2)
_cell_measurement_reflns_used           30242
_cell_measurement_theta_min             2.91
_cell_measurement_theta_max             27.48
_cell_measurement_wavelength            0.71073

#----------------------------------------------------------------------------#
#                   CRYSTAL INFORMATION                                      #
#----------------------------------------------------------------------------#

_exptl_crystal_description              plate
_exptl_crystal_colour                   dark
_exptl_crystal_size_max                 0.13
_exptl_crystal_size_mid                 0.114
_exptl_crystal_size_min                 0.024
_exptl_crystal_density_diffrn           3.635
_exptl_crystal_density_method           'not measured'
_exptl_crystal_F_000                    988
loop_
    _exptl_crystal_face_index_h
    _exptl_crystal_face_index_k
    _exptl_crystal_face_index_l
    _exptl_crystal_face_perp_dist
1 1 0 0.057
-1 -1 0 0.057
1 -1 0 0.065
-1 1 0 0.065
0 0 1 0.012
0 0 -1 0.012
0 1 0 0.068
0 -1 0 0.056


#----------------------------------------------------------------------------#
#                   ABSORPTION CORRECTION                                    #
#----------------------------------------------------------------------------#

_exptl_absorpt_coefficient_mu           19.045
_exptl_absorpt_correction_type          multi-scan
_exptl_absorpt_process_details
;
        [c.f. r.h. blessing, acta cryst. (1995), a51, 33-38]
;
_exptl_absorpt_correction_T_min         0.2266
_exptl_absorpt_correction_T_max         0.4951
_shelx_estimated_absorpt_T_min          0.191
_shelx_estimated_absorpt_T_max          0.658

#----------------------------------------------------------------------------#
#                   DATA COLLECTION                                          #
#----------------------------------------------------------------------------#

_diffrn_source                          'Enraf Nonius FR590'
_diffrn_ambient_temperature             143(2)
_diffrn_radiation_wavelength            0.71073
_diffrn_radiation_type                  MoK\a
_diffrn_radiation_monochromator         'horizonally mounted graphite crystal'
_diffrn_radiation_probe                 x-ray
_diffrn_detector                        'CCD plate'
_diffrn_detector_area_resol_mean        9
_diffrn_orient_matrix_ub_11             0.107095
_diffrn_orient_matrix_ub_12             -0.014946
_diffrn_orient_matrix_ub_13             0.032129
_diffrn_orient_matrix_ub_21             -0.038558
_diffrn_orient_matrix_ub_22             -0.087072
_diffrn_orient_matrix_ub_23             0.036848
_diffrn_orient_matrix_ub_31             0.031016
_diffrn_orient_matrix_ub_32             -0.056636
_diffrn_orient_matrix_ub_33             -0.065129
_diffrn_measurement_device              '95mm CCD camera on κ-goniostat'
_diffrn_measurement_device_type         KappaCCD
_diffrn_measurement_method              'CCD rotation images, thick slices'
_diffrn_standards_number                0
_diffrn_standards_interval_time         .
_diffrn_standards_interval_count        .
_diffrn_standards_decay_%               ?
_diffrn_reflns_av_R_equivalents         0.1397
_diffrn_reflns_av_unetI/netI            0.0926
_diffrn_reflns_number                   8377
_diffrn_reflns_limit_h_min              -11
_diffrn_reflns_limit_h_max              11
_diffrn_reflns_limit_k_min              -12
_diffrn_reflns_limit_k_max              12
_diffrn_reflns_limit_l_min              -15
_diffrn_reflns_limit_l_max              15
_diffrn_reflns_theta_min                2.92
_diffrn_reflns_theta_max                27.515
_diffrn_reflns_theta_full               25.242
_diffrn_measured_fraction_theta_full
                                        0.975
_diffrn_measured_fraction_theta_max
                                        0.973
_diffrn_reflns_Laue_measured_fraction_full
                                        0.975
_diffrn_reflns_Laue_measured_fraction_max
                                        0.973
_diffrn_reflns_point_group_measured_fraction_full
                                        0.968
_diffrn_reflns_point_group_measured_fraction_max
                                        0.961
_reflns_Friedel_fraction_full           0.958
_reflns_Friedel_fraction_max            0.945
_reflns_Friedel_coverage                0.694
_reflns_number_total                    2184
_reflns_number_gt                       1890
_reflns_threshold_expression            'I > 2σ(I)'

#----------------------------------------------------------------------------#
#                   COMPUTER PROGRAMS USED                                   #
#----------------------------------------------------------------------------#

_computing_data_collection              'Collect (Bruker AXS BV, 1997-2004)'
_computing_cell_refinement
                                       'HKL Scalepack (Otwinowski & Minor 1997)'
_computing_data_reduction
                             'HKL Denzo and Scalepack (Otwinowski & Minor 1997)'
_computing_structure_refinement         'SHELXL-2018/3 (Sheldrick, 2018)'
_computing_molecular_graphics           'Ortep for Windows (Farrugia, 2012)'
_computing_publication_material
                                   'WinGX publication routines (Farrugia, 2012)'

#----------------------------------------------------------------------------#
#                   STRUCTURE SOLUTION                                       #
#----------------------------------------------------------------------------#


#----------------------------------------------------------------------------#
#                   REFINEMENT INFORMATION                                   #
#----------------------------------------------------------------------------#

_shelx_SHELXL_version_number            2018/3
_refine_ls_structure_factor_coef        Fsqd
_refine_ls_matrix_type                  full
_refine_ls_weighting_scheme             calc
_refine_ls_weighting_details
                      'w=1/[σ²(Fo²)+(0.1220P)²] where P=(Fo²+2Fc²)/3'
_refine_ls_hydrogen_treatment           undef
_refine_ls_extinction_method            none
_refine_ls_number_reflns                2184
_refine_ls_number_parameters            100
_refine_ls_number_restraints            0
_refine_ls_number_constraints           0
_refine_ls_R_factor_all                 0.0803
_refine_ls_R_factor_gt                  0.07
_refine_ls_wR_factor_ref                0.1809
_refine_ls_wR_factor_gt                 0.1723
_refine_ls_goodness_of_fit_ref          1.065
_refine_ls_restrained_S_all             1.065
_refine_ls_shift/su_max                 0
_refine_ls_shift/su_mean                0
_refine_ls_abs_structure_details
;
 Flack x determined using 679 quotients [(I+)-(I-)]/[(I+)+(I-)]
 (Parsons, Flack and Wagner, Acta Cryst. B69 (2013) 249-259).
;
_refine_ls_abs_structure_Flack          -0.011(9)
_refine_diff_density_max                4.461
_refine_diff_density_min                -5.625
_refine_diff_density_rms                0.608

#----------------------------------------------------------------------------#
#                   CONSTRAINTS AND RESTRAINTS                               #
#----------------------------------------------------------------------------#


#----------------------------------------------------------------------------#
#                   ATOMIC TYPES, COORDINATES AND THERMAL PARAMETERS         #
#----------------------------------------------------------------------------#

loop_
    _atom_type_symbol
    _atom_type_description
    _atom_type_scat_dispersion_real
    _atom_type_scat_dispersion_imag
    _atom_type_scat_source
Cr Cr 0.3209 0.6236 'International Tables Vol C Tables 4.2.6.8 and 6.1.1.4'
P P 0.1023 0.0942 'International Tables Vol C Tables 4.2.6.8 and 6.1.1.4'
S S 0.1246 0.1234 'International Tables Vol C Tables 4.2.6.8 and 6.1.1.4'
Tl Tl -2.8358 9.6688 'International Tables Vol C Tables 4.2.6.8 and 6.1.1.4'

loop_
    _atom_site_label
    _atom_site_type_symbol
    _atom_site_fract_x
    _atom_site_fract_y
    _atom_site_fract_z
    _atom_site_U_iso_or_equiv
    _atom_site_adp_type
    _atom_site_occupancy
    _atom_site_site_symmetry_order
    _atom_site_calc_flag
    _atom_site_refinement_flags_posn
    _atom_site_refinement_flags_adp
    _atom_site_refinement_flags_occupancy
    _atom_site_disorder_assembly
    _atom_site_disorder_group
Tl1 Tl 0.31443(11) 0.45992(14) 0.50950(7) 0.0354(4) Uani 1 1 d . . . . .
Cr1 Cr 0.2581(3) 0.9043(4) 0.7511(2) 0.0138(7) Uani 1 1 d . . . . .
S1 S 1.0676(5) 0.8734(6) 0.8937(4) 0.0167(11) Uani 1 1 d . . . . .
S2 S 0.4311(5) 0.7375(5) 0.8395(4) 0.0161(10) Uani 1 1 d . . . . .
S3 S 0.8673(6) 0.5798(5) 0.8641(4) 0.0168(10) Uani 1 1 d . . . . .
S4 S 1.1024(6) 0.7272(6) 0.6596(4) 0.0174(11) Uani 1 1 d . . . . .
P1 P 0.9509(5) 0.7505(5) 0.7855(4) 0.0136(10) Uani 1 1 d . . . . .
P2 P 0.5634(5) 0.7561(6) 0.7031(4) 0.0143(11) Uani 1 1 d . . . . .
S5 S 0.4411(6) 0.8831(6) 0.6037(4) 0.0164(10) Uani 1 1 d . . . . .
S6 S 0.7622(5) 0.8839(6) 0.7353(5) 0.0194(11) Uani 1 1 d . . . . .
S7 S 0.6264(6) 0.5768(6) 0.6277(4) 0.0172(10) Uani 1 1 d . . . . .

loop_
    _atom_site_aniso_label
    _atom_site_aniso_U_11
    _atom_site_aniso_U_22
    _atom_site_aniso_U_33
    _atom_site_aniso_U_23
    _atom_site_aniso_U_13
    _atom_site_aniso_U_12
Tl1 0.0235(5) 0.0526(8) 0.0301(5) -0.0026(5) 0.0014(3) -0.0027(4)
Cr1 0.0095(14) 0.0127(17) 0.0192(17) -0.0004(13) 0.0011(12) 0.0010(12)
S1 0.009(2) 0.019(3) 0.022(2) -0.002(2) 0.0023(18) -0.005(2)
S2 0.016(2) 0.012(3) 0.021(2) 0.0039(18) 0.0027(17) 0.003(2)
S3 0.015(2) 0.010(2) 0.025(2) 0.0008(19) -0.0007(18) -0.0024(19)
S4 0.013(2) 0.017(3) 0.022(2) -0.001(2) 0.0025(18) -0.0010(19)
P1 0.011(2) 0.011(3) 0.019(2) -0.0015(18) -0.0003(18) -0.002(2)
P2 0.008(2) 0.016(3) 0.019(2) 0.0006(19) 0.0016(16) 0.000(2)
S5 0.012(2) 0.019(3) 0.018(2) 0.0022(18) 0.0032(17) 0.001(2)
S6 0.013(2) 0.018(3) 0.028(3) 0.000(2) -0.0035(18) 0.001(2)
S7 0.016(2) 0.013(3) 0.023(2) -0.0011(19) -0.0026(18) 0.004(2)


#----------------------------------------------------------------------------#
#                   MOLECULAR GEOMETRY                                       #
#----------------------------------------------------------------------------#

_geom_special_details
;
 All esds (except the esd in the dihedral angle between two l.s. planes)
 are estimated using the full covariance matrix.  The cell esds are taken
 into account individually in the estimation of esds in distances, angles
 and torsion angles; correlations between esds in cell parameters are only
 used when they are defined by crystal symmetry.  An approximate (isotropic)
 treatment of cell esds is used for estimating esds involving l.s. planes.
;
loop_
    _geom_bond_atom_site_label_1
    _geom_bond_atom_site_label_2
    _geom_bond_distance
    _geom_bond_site_symmetry_2
    _geom_bond_publ_flag
Cr1 S5 2.392(5) . ?
Cr1 S1 2.401(5) 1_455 ?
Cr1 S4 2.418(6) 1_455 ?
Cr1 S2 2.420(6) . ?
Cr1 S7 2.424(6) 3_656 ?
Cr1 S3 2.435(6) 3_656 ?
S1 P1 2.030(7) . ?
S2 P2 2.024(7) . ?
S3 P1 2.020(7) . ?
S4 P1 2.022(7) . ?
P1 S6 2.134(7) . ?
P2 S5 2.007(7) . ?
P2 S7 2.014(7) . ?
P2 S6 2.117(7) . ?

loop_
    _geom_angle_atom_site_label_1
    _geom_angle_atom_site_label_2
    _geom_angle_atom_site_label_3
    _geom_angle
    _geom_angle_site_symmetry_1
    _geom_angle_site_symmetry_3
    _geom_angle_publ_flag
S5 Cr1 S1 168.0(2) . 1_455 ?
S5 Cr1 S4 86.8(2) . 1_455 ?
S1 Cr1 S4 83.48(19) 1_455 1_455 ?
S5 Cr1 S2 83.76(19) . . ?
S1 Cr1 S2 89.98(19) 1_455 . ?
S4 Cr1 S2 94.6(2) 1_455 . ?
S5 Cr1 S7 105.1(2) . 3_656 ?
S1 Cr1 S7 84.65(19) 1_455 3_656 ?
S4 Cr1 S7 168.1(2) 1_455 3_656 ?
S2 Cr1 S7 85.7(2) . 3_656 ?
S5 Cr1 S3 84.36(19) . 3_656 ?
S1 Cr1 S3 102.4(2) 1_455 3_656 ?
S4 Cr1 S3 88.3(2) 1_455 3_656 ?
S2 Cr1 S3 167.6(2) . 3_656 ?
S7 Cr1 S3 93.8(2) 3_656 3_656 ?
P1 S1 Cr1 85.4(2) . 1_655 ?
P2 S2 Cr1 84.6(2) . . ?
P1 S3 Cr1 115.4(3) . 3_646 ?
P1 S4 Cr1 85.1(2) . 1_655 ?
S3 P1 S4 120.0(3) . . ?
S3 P1 S1 108.8(3) . . ?
S4 P1 S1 104.7(3) . . ?
S3 P1 S6 110.8(3) . . ?
S4 P1 S6 108.7(3) . . ?
S1 P1 S6 102.2(3) . . ?
S5 P2 S7 111.7(3) . . ?
S5 P2 S2 105.7(3) . . ?
S7 P2 S2 116.9(3) . . ?
S5 P2 S6 100.2(3) . . ?
S7 P2 S6 111.3(3) . . ?
S2 P2 S6 109.7(3) . . ?
P2 S5 Cr1 85.7(2) . . ?
P2 S6 P1 107.9(3) . . ?
P2 S7 Cr1 113.6(3) . 3_646 ?

_iucr_refine_instructions_details
;
TITL shelxt_a.res in P2(1)2(1)2(1)
    shelx.res
    created by SHELXL-2018/3 at 19:41:52 on 31-Jul-2023
CELL  0.71073   8.4764   9.5292  12.2795   90.000   90.000   90.000
ZERR     4.00   0.0003   0.0004   0.0004    0.000    0.000    0.000
LATT  -1
SYMM  1/2 - X, - Y, 1/2 + Z
SYMM  - X, 1/2 + Y, 1/2 - Z
SYMM  1/2 + X, 1/2 - Y, - Z
SFAC  CR   P    S    TL
UNIT  4 8 28 4
TEMP -130
SIZE 0.024 0.114 0.13
MERG   2
FMAP   2
PLAN   20
ACTA
BOND
LIST   4
L.S.  10
WGHT    0.122000
FVAR       0.13545
TL1   4    0.314431    0.459922    0.509496    11.00000    0.02349    0.05260 =
         0.03013   -0.00264    0.00140   -0.00275
CR1   1    0.258143    0.904252    0.751074    11.00000    0.00955    0.01266 =
         0.01920   -0.00036    0.00105    0.00096
S1    3    1.067618    0.873413    0.893747    11.00000    0.00860    0.01929 =
         0.02226   -0.00202    0.00234   -0.00500
S2    3    0.431087    0.737463    0.839503    11.00000    0.01558    0.01212 =
         0.02068    0.00389    0.00266    0.00316
S3    3    0.867344    0.579797    0.864115    11.00000    0.01545    0.01036 =
         0.02454    0.00083   -0.00066   -0.00237
S4    3    1.102432    0.727238    0.659605    11.00000    0.01328    0.01662 =
         0.02229   -0.00094    0.00245   -0.00099
P1    2    0.950877    0.750509    0.785456    11.00000    0.01087    0.01074 =
         0.01928   -0.00149   -0.00029   -0.00227
P2    2    0.563399    0.756056    0.703063    11.00000    0.00817    0.01553 =
         0.01918    0.00064    0.00157    0.00022
S5    3    0.441136    0.883085    0.603701    11.00000    0.01193    0.01890 =
         0.01823    0.00223    0.00317    0.00133
S6    3    0.762201    0.883890    0.735266    11.00000    0.01276    0.01752 =
         0.02801   -0.00006   -0.00347    0.00083
S7    3    0.626357    0.576817    0.627739    11.00000    0.01612    0.01251 =
         0.02302   -0.00108   -0.00262    0.00414
HKLF    4




REM  shelxt_a.res in P2(1)2(1)2(1)
REM wR2 = 0.1809, GooF = S = 1.065, Restrained GooF = 1.065 for all data
REM R1 = 0.0700 for 1890 Fo > 4sig(Fo) and 0.0803 for all 2184 data
REM 100 parameters refined using 0 restraints

END

WGHT      0.1220      0.0000

REM Highest difference peak  4.461,  deepest hole -5.625,  1-sigma level  0.608
Q1    1   0.3197  0.5483  0.4992  11.00000  0.05    4.46
Q2    1   0.3143  0.4593  0.4412  11.00000  0.05    3.72
Q3    1   0.3155  0.4613  0.5786  11.00000  0.05    3.00
Q4    1   0.3470  0.5440  0.5890  11.00000  0.05    2.06
Q5    1   0.8441  0.5550  0.9438  11.00000  0.05    2.00
Q6    1   1.0762  0.8884  0.9808  11.00000  0.05    1.68
Q7    1   0.8298  0.5561  1.0017  11.00000  0.05    1.67
Q8    1   0.2307  0.4003  0.5979  11.00000  0.05    1.59
Q9    1   0.4428  0.8923  0.5361  11.00000  0.05    1.58
Q10   1   0.3078  0.8339  0.4845  11.00000  0.05    1.56
Q11   1   0.3510  0.9610  0.6715  11.00000  0.05    1.53
Q12   1   0.2732  0.2414  0.5001  11.00000  0.05    1.49
Q13   1   0.3379  0.8181  0.6768  11.00000  0.05    1.49
Q14   1   0.3232  0.3553  0.5042  11.00000  0.05    1.49
Q15   1   0.6978  0.6394  0.5635  11.00000  0.05    1.46
Q16   1   0.2101  0.4211  0.4236  11.00000  0.05    1.46
Q17   1   0.6913  0.8809  0.8352  11.00000  0.05    1.43
Q18   1   0.1797  0.3791  0.5098  11.00000  0.05    1.40
Q19   1   0.8513  0.5607  0.7968  11.00000  0.05    1.40
Q20   1   0.3637  0.5425  0.4237  11.00000  0.05    1.39
;

# END of CIF
