#\#CIF_1.1

#  CIF produced by WinGX routine CIF_UPDATE
#  Created on 2023-08-01 at 18:08:25
#  Using CIFtbx version 3.0.4  1 Sep 2006

#  Dictionary name : cif_core.dic
#  Dictionary vers : 2.4.5
#  Request file    : c:\program files (x86)\wingx\files\archive.reqdat
#  CIF files read  : shelx project

#------------------ SECTION 1. GLOBAL INFORMATION ---------------------------#

data_global

#------------------ AUDIT DETAILS -------------------------------------------#

_audit_creation_date            2023-08-01
_audit_creation_method          'WinGX routine CIF_UPDATE'
_audit_conform_dict_name        cif_core.dic
_audit_conform_dict_version     2.4.3
_audit_conform_dict_location    ftp://ftp.iucr.org/pub/cif_core.dic
_audit_update_record            ?

#------------------ AUTHOR DETAILS -------------------------------------------#

# Name and address of author for correspondence

_publ_contact_author_name       ' ,  '
_publ_contact_author_address
;

;
_publ_contact_author_email       ' '
_publ_contact_author_fax         ' '
_publ_contact_author_phone       ' '


# Insert blank lines between references

_publ_section_references
;
Blessing, R. H. (1995) Acta Cryst., A51, 33-38.

Blessing, R. H. (1987) Cryst. Rev. 1, 3-58.

Blessing, R. H. (1989) J. Appl. Cryst. 22, 396-397.

Bruker (2012) APEX2 (Version 2012.10-0), SAINT (version 8.27B), SADABS
(version 2012/1), BrukerAXS Inc, Madison, Wisconsin, USA.

ABSCOR: Higashi, T. (1995). ABSCOR. Rigaku Corporation, Tokyo, Japan.

CAD-4 Software: Enraf-Nonius (1989). CAD-4 Software (or CAD-4 EXPRESS).
Enraf-Nonius, Delft, The Netherlands.

Cambridge Structural Database: Allen, F. R. (2002). Acta Cryst. B58, 380-388.

CAMERON: Watkin, D. J., Prout, C. K. & Pearce, L. J. (1996). CAMERON.
Chemical Crystallography Laboratory, Oxford, England.

CrysAlis CCD, CrysAlis RED and associated programs: Oxford Diffraction (2006).
Program name(s). Oxford Diffraction Ltd, Abingdon, England.

CRYSTALS: Betteridge, P. W., Carruthers, J. R., Cooper, R. I., Prout, K. &
Watkin, D. J. (2003). J. Appl. Cryst. 36, 1487.

COLLECT: Nonius (1998). COLLECT. Nonius BV, Delft, The Netherlands.

DENZO/SCALEPACK:  Otwinowski, Z. & Minor, W. (1997). Methods in Enzymology,
Vol. 276, Macromolecular Crystallography, Part A, edited by C. W. Carter Jr
& R. M. Sweet, pp. 307-326. New York: Academic Press.

DIAMOND: Brandenburg, K.(2006). DIAMOND. Crystal Impact GbR, Bonn, Germany.

DIF4 and REDU4: Stoe & Cie (1991). Program name(s). Stoe & Cie, Darmstadt,
Germany.

DIFABS: Walker, N. &  Stuart, D. (1983). Acta Cryst., A39, 158 - 166.

DIRAX: Duisenberg, A. J. M. (1992). J. Appl. Cryst. 25, 92-96.

DIRDIF-2008: Beurskens, P.T., Beurskens, G., de Gelder, R., Garciía-Granda,
S., Gould, R.O. & Smits, J.M.M. (2008) The DIRDIF-2008 program
system, Crystallography Laboratory, Radboud University  Nijmegen,
The Netherlands.

EDMA: Palatinus, L., Prathapa, S. J. & van Smaalen, S. (2012) J. Appl. Cryst.
45, 575-580.

enCIFer: Allen, F. H., Johnson, O., Shields, G. P., Smith, B. R. & Towler,
M. (2004). J. Appl. Cryst. 37, 335-338.

EVALCCD: Duisenberg, A. J. M., Kroon-Batenburg, L. M. J. & Schreurs,
A. M. M. (2003). J. Appl. Cryst. 36, 220-229.

JANA2000: Petricek, V. & Dusek, M. (2000). JANA2000. Institute of Physics,
Czech Academy of Sciences, Prague, Czech Republic.

MERCURY: Macrae, C. F., Bruno, I. J., Chisholm, J. A., Edgington,
P. R., McCabe, P., Pidcock, E., Rodriguez-Monge, L., Taylor, R.,
van de Streek, J. & Wood, P. A. (2008). J. Appl. Cryst. 41, 466-470.

MOGUL: Bruno, I. J., Cole, J. C., Kessler, M., Luo, J., Motherwell,
W. D. S., Purkis, L. H., Smith, B. R., Taylor, R., Cooper, R. I., Harris,
S. E. & Orpen, A. G. (2004). J. Chem. Inf. Comput. Sci. 44, 2133-2144.

ORTEPII: Johnson, C. K. (1976). ORTEPII. Report ORNL-5138. Oak Ridge
National Laboratory, Tennessee, USA.

ORTEPIII:  Burnett, M. N. & Johnson, C. K. (1996). ORTEPIII.
Report ORNL-6895. Oak Ridge National Laboratory, Tennessee, USA.

ORTEP-3: Farrugia, L. J. (2012). J. Appl. Cryst. 45, 849-854.

PARST: Nardelli, M. (1995). J. Appl. Cryst. 28, 659.

PLATON: Spek, A. L. (2009). Acta. Cryst. D65, 148-155.

PROCESS: Rigaku (1996). PROCESS. Rigaku Corporation, Tokyo, Japan.

PROCESS-AUTO: Rigaku (1998). PROCESS-AUTO. Rigaku Corporation, Tokyo, Japan.

PublCIF: Westrip, S. P. (2010). J. Appl. Cryst. 43, 920-925.

SCHAKAL: Keller, E. (1999) University of Freiburg, Germany.

SHELX: Sheldrick, G. M. (2015). Acta Cryst. C71, 3-8.

SHELXD: Schneider, T. R. & Sheldrick, G. M. (2002) Acta Cryst. D58, 1772-1779.

SHELXT: Sheldrick, G. M. (2015). Acta Cryst. A71, 3-8.

SIR92: Altomare, A., Cascarano, G., Giacovazzo, C., Guagliardi, A., Burla,
M. C., Polidori, G. & Camalli, M. (1994). J. Appl. Cryst. 27, 435.

SIR97: Altomare, A., Burla, M. C., Camalli, M., Cascarano, G. L.,
Giacovazzo, C., Guagliardi, A., Moliterni, A. G. G., Polidori, G. &
Spagna, R. (1999). J. Appl. Cryst. 32, 115-119.

SIR2002: Burla, M. C., Camalli, M., Carrozzini, B., Cascarano, G. L.,
Giacovazzo, C., Polidori, G. & Spagna, R. (2003). J. Appl. Cryst. 36, 1103.

SIR2004: Burla, M. C., Caliandro, R., Camalli, M., Carrozzini, B.,
Cascarano, G. L., De Caro, L., Giacovazzo, C., Polidori, G. & Spagna, R.
(2005). J. Appl. Cryst. 38, 381-388.

SIR2008 & IL MILIONE: Burla, M. C., Caliandro, R., Camalli, M., Carrozzini, B.,
Cascarano, G. L., De Caro, L., Giacovazzo, C., Polidori, G., Siliqi, D.,
& Spagna, R. (2007). J. Appl. Cryst. 40, 609-613.

SIR2011: Burla, M. C., Caliandro, R., Camalli, M., Carrozzini, B.,
Cascarano, G. L., Giacovazzo, C., Mallamo, M., Mazzone, A., Polidori, G.
& Spagna, R. (2012). J. Appl. Cryst. 45, 357-361.

SUPERFLIP: Palatinus, L. & Chapuis, G. (2007) J. Appl. Cryst. 40, 786-790.

TEXSAN: Molecular Structure Corporation & Rigaku (2000). TEXSAN. MSC,
The Woodlands, Texas, USA, and Rigaku Corporation, Tokyo, Japan.

WinGX: Farrugia, L. J. (2012). J. Appl. Cryst. 45, 849-854.

X-AREA, X-RED, X-RED32, X-SHAPE:  Stoe & Cie (2002). Program name(s).
Stoe & Cie GmbH, Darmstadt, Germany.

XCAD4: Harms, K. & Wocadlo, S. (1995). XCAD4. University of Marburg, Germany.

XSCANS: Siemens (1994). XSCANS. Siemens Analytical X-ray Instruments Inc.,
Madison, Wisconsin, USA.

;

#------------------  SECTION 2. COMPOUND(S) DETAILS -------------------------#

data_shelx

_audit_creation_date                    2023-08-01T18:08:25-00:00
_audit_creation_method                  'WinGX routine CIF_UPDATE'
_audit_conform_dict_name                cif_core.dic
_audit_conform_dict_version             2.4.5
_audit_conform_dict_location            ftp://ftp.iucr.org/pub/cif_core.dic
_publ_requested_category                FI

#----------------------------------------------------------------------------#
#                   CHEMICAL INFORMATION                                     #
#----------------------------------------------------------------------------#

_chemical_formula_sum                   'Cr P2 S7 Tl'
_chemical_formula_weight                542.73
_chemical_absolute_configuration        unk

#----------------------------------------------------------------------------#
#                   UNIT CELL INFORMATION                                    #
#----------------------------------------------------------------------------#

_symmetry_cell_setting                  orthorhombic
_symmetry_space_group_name_H-M          'P 21 21 21'
_symmetry_space_group_name_Hall         'P 2ac 2ab'
_symmetry_Int_Tables_number             19
loop_
    _symmetry_equiv_pos_as_xyz
'x, y, z'
'-x+1/2, -y, z+1/2'
'-x, y+1/2, -z+1/2'
'x+1/2, -y+1/2, -z'

_cell_length_a                          8.4903(5)
_cell_length_b                          9.5346(7)
_cell_length_c                          12.3579(7)
_cell_angle_alpha                       90
_cell_angle_beta                        90
_cell_angle_gamma                       90
_cell_volume                            1000.39(11)
_cell_formula_units_Z                   4
_cell_measurement_temperature           273(2)
_cell_measurement_reflns_used           16469
_cell_measurement_theta_min             2.91
_cell_measurement_theta_max             27.48
_cell_measurement_wavelength            0.71073

#----------------------------------------------------------------------------#
#                   CRYSTAL INFORMATION                                      #
#----------------------------------------------------------------------------#

_exptl_crystal_description              plate
_exptl_crystal_colour                   dark
_exptl_crystal_size_max                 0.13
_exptl_crystal_size_mid                 0.114
_exptl_crystal_size_min                 0.024
_exptl_crystal_density_diffrn           3.603
_exptl_crystal_density_method           'not measured'
_exptl_crystal_F_000                    988
loop_
    _exptl_crystal_face_index_h
    _exptl_crystal_face_index_k
    _exptl_crystal_face_index_l
    _exptl_crystal_face_perp_dist
1 1 0 0.057
-1 -1 0 0.057
1 -1 0 0.065
-1 1 0 0.065
0 0 1 0.012
0 0 -1 0.012
0 1 0 0.068
0 -1 0 0.056


#----------------------------------------------------------------------------#
#                   ABSORPTION CORRECTION                                    #
#----------------------------------------------------------------------------#

_exptl_absorpt_coefficient_mu           18.882
_exptl_absorpt_correction_type          multi-scan
_exptl_absorpt_process_details
;
        [c.f. r.h. blessing, acta cryst. (1995), a51, 33-38]
;
_exptl_absorpt_correction_T_min         0.2305
_exptl_absorpt_correction_T_max         0.548
_shelx_estimated_absorpt_T_min          0.193
_shelx_estimated_absorpt_T_max          0.66

#----------------------------------------------------------------------------#
#                   DATA COLLECTION                                          #
#----------------------------------------------------------------------------#

_diffrn_source                          'Enraf Nonius FR590'
_diffrn_ambient_temperature             273(2)
_diffrn_radiation_wavelength            0.71073
_diffrn_radiation_type                  MoK\a
_diffrn_radiation_monochromator         'horizonally mounted graphite crystal'
_diffrn_radiation_probe                 x-ray
_diffrn_detector                        'CCD plate'
_diffrn_detector_area_resol_mean        9
_diffrn_orient_matrix_ub_11             0.104335
_diffrn_orient_matrix_ub_12             0.022495
_diffrn_orient_matrix_ub_13             0.033294
_diffrn_orient_matrix_ub_21             0.006549
_diffrn_orient_matrix_ub_22             -0.097479
_diffrn_orient_matrix_ub_23             0.029519
_diffrn_orient_matrix_ub_31             0.054256
_diffrn_orient_matrix_ub_32             -0.031493
_diffrn_orient_matrix_ub_33             -0.067588
_diffrn_measurement_device              '95mm CCD camera on κ-goniostat'
_diffrn_measurement_device_type         KappaCCD
_diffrn_measurement_method              'CCD rotation images, thick slices'
_diffrn_standards_number                0
_diffrn_standards_interval_time         .
_diffrn_standards_interval_count        .
_diffrn_standards_decay_%               ?
_diffrn_reflns_av_R_equivalents         0.1553
_diffrn_reflns_av_unetI/netI            0.1182
_diffrn_reflns_number                   9077
_diffrn_reflns_limit_h_min              -11
_diffrn_reflns_limit_h_max              11
_diffrn_reflns_limit_k_min              -12
_diffrn_reflns_limit_k_max              12
_diffrn_reflns_limit_l_min              -16
_diffrn_reflns_limit_l_max              16
_diffrn_reflns_theta_min                3.213
_diffrn_reflns_theta_max                27.525
_diffrn_reflns_theta_full               25.242
_diffrn_measured_fraction_theta_full
                                        0.984
_diffrn_measured_fraction_theta_max
                                        0.975
_diffrn_reflns_Laue_measured_fraction_full
                                        0.984
_diffrn_reflns_Laue_measured_fraction_max
                                        0.975
_diffrn_reflns_point_group_measured_fraction_full
                                        0.977
_diffrn_reflns_point_group_measured_fraction_max
                                        0.963
_reflns_Friedel_fraction_full           0.966
_reflns_Friedel_fraction_max            0.947
_reflns_Friedel_coverage                0.691
_reflns_number_total                    2215
_reflns_number_gt                       899
_reflns_threshold_expression            'I > 2σ(I)'

#----------------------------------------------------------------------------#
#                   COMPUTER PROGRAMS USED                                   #
#----------------------------------------------------------------------------#

_computing_data_collection              'Collect (Bruker AXS BV, 1997-2004)'
_computing_cell_refinement
                                       'HKL Scalepack (Otwinowski & Minor 1997)'
_computing_data_reduction
                             'HKL Denzo and Scalepack (Otwinowski & Minor 1997)'
_computing_structure_refinement         'SHELXL-2018/3 (Sheldrick, 2018)'
_computing_molecular_graphics           'Ortep for Windows (Farrugia, 2012)'
_computing_publication_material
                                   'WinGX publication routines (Farrugia, 2012)'

#----------------------------------------------------------------------------#
#                   STRUCTURE SOLUTION                                       #
#----------------------------------------------------------------------------#


#----------------------------------------------------------------------------#
#                   REFINEMENT INFORMATION                                   #
#----------------------------------------------------------------------------#

_shelx_SHELXL_version_number            2018/3
_refine_ls_structure_factor_coef        Fsqd
_refine_ls_matrix_type                  full
_refine_ls_weighting_scheme             calc
_refine_ls_weighting_details
                      'w=1/[σ²(Fo²)+(0.1280P)²] where P=(Fo²+2Fc²)/3'
_refine_ls_hydrogen_treatment           undef
_refine_ls_extinction_method            'SHELXL-2018/3 (Sheldrick 2018)'
_refine_ls_extinction_expression
                                    Fc^*^=kFc[1+0.001xFc²λ³/sin(2θ)]^-1/4^
_refine_ls_extinction_coef              0.0046(12)
_refine_ls_number_reflns                2215
_refine_ls_number_parameters            101
_refine_ls_number_restraints            0
_refine_ls_number_constraints           0
_refine_ls_R_factor_all                 0.1506
_refine_ls_R_factor_gt                  0.0693
_refine_ls_wR_factor_ref                0.2328
_refine_ls_wR_factor_gt                 0.1764
_refine_ls_goodness_of_fit_ref          0.88
_refine_ls_restrained_S_all             0.88
_refine_ls_shift/su_max                 0
_refine_ls_shift/su_mean                0
_refine_ls_abs_structure_details
;
 Flack x determined using 278 quotients [(I+)-(I-)]/[(I+)+(I-)]
 (Parsons, Flack and Wagner, Acta Cryst. B69 (2013) 249-259).
;
_refine_ls_abs_structure_Flack          -0.025(10)
_refine_diff_density_max                2.817
_refine_diff_density_min                -2.997
_refine_diff_density_rms                0.367

#----------------------------------------------------------------------------#
#                   CONSTRAINTS AND RESTRAINTS                               #
#----------------------------------------------------------------------------#


#----------------------------------------------------------------------------#
#                   ATOMIC TYPES, COORDINATES AND THERMAL PARAMETERS         #
#----------------------------------------------------------------------------#

loop_
    _atom_type_symbol
    _atom_type_description
    _atom_type_scat_dispersion_real
    _atom_type_scat_dispersion_imag
    _atom_type_scat_source
Cr Cr 0.3209 0.6236 'International Tables Vol C Tables 4.2.6.8 and 6.1.1.4'
P P 0.1023 0.0942 'International Tables Vol C Tables 4.2.6.8 and 6.1.1.4'
S S 0.1246 0.1234 'International Tables Vol C Tables 4.2.6.8 and 6.1.1.4'
Tl Tl -2.8358 9.6688 'International Tables Vol C Tables 4.2.6.8 and 6.1.1.4'

loop_
    _atom_site_label
    _atom_site_type_symbol
    _atom_site_fract_x
    _atom_site_fract_y
    _atom_site_fract_z
    _atom_site_U_iso_or_equiv
    _atom_site_adp_type
    _atom_site_occupancy
    _atom_site_site_symmetry_order
    _atom_site_calc_flag
    _atom_site_refinement_flags_posn
    _atom_site_refinement_flags_adp
    _atom_site_refinement_flags_occupancy
    _atom_site_disorder_assembly
    _atom_site_disorder_group
Tl1 Tl 0.31448(16) 0.49652(18) 0.50105(15) 0.0838(9) Uani 1 1 d . . . . .
Cr1 Cr 0.2505(5) 0.9042(4) 0.7499(4) 0.0234(8) Uani 1 1 d . . . . .
S1 S 1.0620(9) 0.8769(9) 0.8945(6) 0.030(2) Uani 1 1 d . . . . .
S2 S 0.4165(11) 0.7334(11) 0.8383(7) 0.038(3) Uani 1 1 d . . . . .
S3 S 0.8687(9) 0.5793(8) 0.8672(6) 0.031(2) Uani 1 1 d . . . . .
S4 S 1.0845(10) 0.7323(9) 0.6596(6) 0.028(2) Uani 1 1 d . . . . .
P1 P 0.9450(10) 0.7530(9) 0.7917(7) 0.026(2) Uani 1 1 d . . . . .
P2 P 0.5578(10) 0.7540(10) 0.7091(7) 0.027(2) Uani 1 1 d . . . . .
S5 S 0.4364(8) 0.8774(9) 0.6055(6) 0.028(2) Uani 1 1 d . . . . .
S6 S 0.7507(10) 0.8849(6) 0.7504(8) 0.0361(15) Uani 1 1 d . . . . .
S7 S 0.6307(9) 0.5789(9) 0.6327(6) 0.031(2) Uani 1 1 d . . . . .

loop_
    _atom_site_aniso_label
    _atom_site_aniso_U_11
    _atom_site_aniso_U_22
    _atom_site_aniso_U_33
    _atom_site_aniso_U_23
    _atom_site_aniso_U_13
    _atom_site_aniso_U_12
Tl1 0.0469(8) 0.150(2) 0.0543(10) -0.0163(10) 0.0009(14) -0.0020(13)
Cr1 0.0167(14) 0.0212(18) 0.0322(19) 0.001(3) 0.0025(13) 0.003(2)
S1 0.026(5) 0.032(5) 0.031(4) -0.008(4) 0.003(4) -0.003(4)
S2 0.035(6) 0.044(6) 0.035(5) 0.008(5) 0.010(4) 0.008(5)
S3 0.031(6) 0.021(6) 0.040(5) 0.002(4) -0.002(4) -0.010(4)
S4 0.029(5) 0.025(5) 0.030(4) -0.008(4) 0.006(4) -0.009(4)
P1 0.017(4) 0.015(4) 0.045(5) 0.003(5) -0.001(4) -0.001(3)
P2 0.022(5) 0.037(5) 0.021(4) 0.002(5) 0.001(4) 0.003(4)
S5 0.014(4) 0.033(5) 0.037(5) 0.002(4) 0.003(4) 0.004(3)
S6 0.024(2) 0.028(3) 0.056(4) 0.000(6) -0.009(3) 0.000(4)
S7 0.030(5) 0.028(6) 0.034(5) -0.006(4) -0.006(4) 0.009(4)


#----------------------------------------------------------------------------#
#                   MOLECULAR GEOMETRY                                       #
#----------------------------------------------------------------------------#

_geom_special_details
;
 All esds (except the esd in the dihedral angle between two l.s. planes)
 are estimated using the full covariance matrix.  The cell esds are taken
 into account individually in the estimation of esds in distances, angles
 and torsion angles; correlations between esds in cell parameters are only
 used when they are defined by crystal symmetry.  An approximate (isotropic)
 treatment of cell esds is used for estimating esds involving l.s. planes.
;
loop_
    _geom_bond_atom_site_label_1
    _geom_bond_atom_site_label_2
    _geom_bond_distance
    _geom_bond_site_symmetry_2
    _geom_bond_publ_flag
Cr1 S5 2.396(9) . ?
Cr1 S1 2.414(9) 1_455 ?
Cr1 S2 2.415(11) . ?
Cr1 S7 2.428(9) 3_656 ?
Cr1 S3 2.429(9) 3_656 ?
Cr1 S4 2.433(9) 1_455 ?
S1 P1 1.999(11) . ?
S2 P2 2.007(13) . ?
S3 P1 2.008(11) . ?
S4 P1 2.027(13) . ?
P1 S6 2.136(12) . ?
P2 S7 2.016(12) . ?
P2 S5 2.021(11) . ?
P2 S6 2.121(13) . ?

loop_
    _geom_angle_atom_site_label_1
    _geom_angle_atom_site_label_2
    _geom_angle_atom_site_label_3
    _geom_angle
    _geom_angle_site_symmetry_1
    _geom_angle_site_symmetry_3
    _geom_angle_publ_flag
S5 Cr1 S1 167.7(3) . 1_455 ?
S5 Cr1 S2 83.1(3) . . ?
S1 Cr1 S2 88.8(3) 1_455 . ?
S5 Cr1 S7 104.2(3) . 3_656 ?
S1 Cr1 S7 84.6(3) 1_455 3_656 ?
S2 Cr1 S7 87.1(4) . 3_656 ?
S5 Cr1 S3 84.5(3) . 3_656 ?
S1 Cr1 S3 103.8(3) 1_455 3_656 ?
S2 Cr1 S3 167.4(3) . 3_656 ?
S7 Cr1 S3 93.3(2) 3_656 3_656 ?
S5 Cr1 S4 88.2(3) . 1_455 ?
S1 Cr1 S4 83.3(3) 1_455 1_455 ?
S2 Cr1 S4 95.2(3) . 1_455 ?
S7 Cr1 S4 167.6(3) 3_656 1_455 ?
S3 Cr1 S4 87.0(3) 3_656 1_455 ?
P1 S1 Cr1 85.6(4) . 1_655 ?
P2 S2 Cr1 85.6(4) . . ?
P1 S3 Cr1 115.1(4) . 3_646 ?
P1 S4 Cr1 84.5(4) . 1_655 ?
S1 P1 S3 110.6(5) . . ?
S1 P1 S4 106.2(5) . . ?
S3 P1 S4 118.8(6) . . ?
S1 P1 S6 100.8(5) . . ?
S3 P1 S6 110.3(5) . . ?
S4 P1 S6 108.4(6) . . ?
S2 P2 S7 118.4(7) . . ?
S2 P2 S5 104.9(6) . . ?
S7 P2 S5 110.0(5) . . ?
S2 P2 S6 109.1(6) . . ?
S7 P2 S6 111.3(5) . . ?
S5 P2 S6 101.8(5) . . ?
P2 S5 Cr1 85.8(4) . . ?
P2 S6 P1 107.9(3) . . ?
P2 S7 Cr1 114.6(4) . 3_646 ?

_iucr_refine_instructions_details
;
TITL shelxt_d.res in P2(1)2(1)2(1)
    shelx.res
    created by SHELXL-2018/3 at 18:07:24 on 01-Aug-2023
CELL  0.71073   8.4903   9.5346  12.3579   90.000   90.000   90.000
ZERR     4.00   0.0005   0.0007   0.0007    0.000    0.000    0.000
LATT  -1
SYMM  1/2 - X, - Y, 1/2 + Z
SYMM  - X, 1/2 + Y, 1/2 - Z
SYMM  1/2 + X, 1/2 - Y, - Z
SFAC  CR   P    S    TL
UNIT  4 8 28 4
TEMP 0
SIZE 0.024 0.114 0.13
MERG   2
FMAP   2
PLAN   20
ACTA
BOND
LIST   4
L.S.  10
WGHT    0.128000
EXTI    0.004603
FVAR       0.11606
TL1   4    0.314479    0.496518    0.501052    11.00000    0.04687    0.15031 =
         0.05434   -0.01634    0.00086   -0.00199
CR1   1    0.250507    0.904235    0.749853    11.00000    0.01675    0.02124 =
         0.03217    0.00107    0.00255    0.00310
S1    3    1.061968    0.876889    0.894537    11.00000    0.02642    0.03171 =
         0.03077   -0.00813    0.00263   -0.00342
S2    3    0.416505    0.733404    0.838285    11.00000    0.03459    0.04353 =
         0.03471    0.00799    0.00960    0.00752
S3    3    0.868688    0.579262    0.867181    11.00000    0.03132    0.02085 =
         0.03955    0.00202   -0.00197   -0.00955
S4    3    1.084455    0.732332    0.659584    11.00000    0.02948    0.02549 =
         0.03019   -0.00822    0.00570   -0.00917
P1    2    0.945022    0.752992    0.791728    11.00000    0.01710    0.01546 =
         0.04478    0.00268   -0.00085   -0.00123
P2    2    0.557772    0.754044    0.709074    11.00000    0.02198    0.03675 =
         0.02145    0.00158    0.00141    0.00326
S5    3    0.436409    0.877396    0.605492    11.00000    0.01423    0.03292 =
         0.03732    0.00194    0.00321    0.00382
S6    3    0.750699    0.884874    0.750397    11.00000    0.02389    0.02819 =
         0.05631   -0.00025   -0.00877    0.00046
S7    3    0.630725    0.578914    0.632698    11.00000    0.02975    0.02794 =
         0.03440   -0.00649   -0.00580    0.00938
HKLF    4




REM  shelxt_d.res in P2(1)2(1)2(1)
REM wR2 = 0.2328, GooF = S = 0.880, Restrained GooF = 0.880 for all data
REM R1 = 0.0693 for 899 Fo > 4sig(Fo) and 0.1506 for all 2215 data
REM 101 parameters refined using 0 restraints

END

WGHT      0.1279      0.0000

REM Highest difference peak  2.817,  deepest hole -2.997,  1-sigma level  0.367
Q1    1   0.3168  0.5039  0.5779  11.00000  0.05    2.82
Q2    1   0.3182  0.4963  0.4251  11.00000  0.05    2.72
Q3    1   0.3457  0.5756  0.4934  11.00000  0.05    1.85
Q4    1   0.3462  0.4243  0.5093  11.00000  0.05    1.68
Q5    1   0.9542  0.7662  0.8629  11.00000  0.05    1.27
Q6    1   0.5474  0.7656  0.6359  11.00000  0.05    1.23
Q7    1   0.6405  0.5676  0.7015  11.00000  0.05    1.05
Q8    1   1.0758  0.7345  0.7240  11.00000  0.05    1.03
Q9    1   0.8597  0.5691  0.7963  11.00000  0.05    1.01
Q10   1   0.2370  0.9023  0.8234  11.00000  0.05    1.00
Q11   1   0.2636  0.9027  0.6785  11.00000  0.05    0.96
Q12   1   0.4224  0.7334  0.7773  11.00000  0.05    0.94
Q13   1   0.2091  0.4938  0.4174  11.00000  0.05    0.93
Q14   1   0.6259  0.4957  0.6266  11.00000  0.05    0.92
Q15   1   0.8841  0.4883  0.8663  11.00000  0.05    0.92
Q16   1   1.2532  0.9201  0.8941  11.00000  0.05    0.86
Q17   1   0.4316  0.8604  0.5322  11.00000  0.05    0.84
Q18   1   1.0670  0.8619  0.9692  11.00000  0.05    0.82
Q19   1   1.0440  0.8825  0.8374  11.00000  0.05    0.82
Q20   1   0.8408  0.5909  0.9589  11.00000  0.05    0.82
;

# END of CIF
