#\#CIF_1.1

#  CIF produced by WinGX routine CIF_UPDATE
#  Created on 2022-03-28 at 16:29:05
#  Using CIFtbx version 3.0.4  1 Sep 2006

#  Dictionary name : cif_core.dic
#  Dictionary vers : 2.4.5
#  Request file    : c:\program files (x86)\wingx\files\archive.reqdat
#  CIF files read  : shelx project

#------------------ SECTION 1. GLOBAL INFORMATION ---------------------------#

data_global

#------------------ AUDIT DETAILS -------------------------------------------#

_audit_creation_date            2022-03-28
_audit_creation_method          'WinGX routine CIF_UPDATE'
_audit_conform_dict_name        cif_core.dic
_audit_conform_dict_version     2.4.3
_audit_conform_dict_location    ftp://ftp.iucr.org/pub/cif_core.dic
_audit_update_record            ?

#------------------ AUTHOR DETAILS -------------------------------------------#

# Name and address of author for correspondence

_publ_contact_author_name       ' ,  '
_publ_contact_author_address
;

;
_publ_contact_author_email       ' '
_publ_contact_author_fax         ' '
_publ_contact_author_phone       ' '


# Insert blank lines between references

_publ_section_references
;
Blessing, R. H. (1995) Acta Cryst., A51, 33-38.

Blessing, R. H. (1987) Cryst. Rev. 1, 3-58.

Blessing, R. H. (1989) J. Appl. Cryst. 22, 396-397.

Bruker (2012) APEX2 (Version 2012.10-0), SAINT (version 8.27B), SADABS
(version 2012/1), BrukerAXS Inc, Madison, Wisconsin, USA.

ABSCOR: Higashi, T. (1995). ABSCOR. Rigaku Corporation, Tokyo, Japan.

CAD-4 Software: Enraf-Nonius (1989). CAD-4 Software (or CAD-4 EXPRESS).
Enraf-Nonius, Delft, The Netherlands.

Cambridge Structural Database: Allen, F. R. (2002). Acta Cryst. B58, 380-388.

CAMERON: Watkin, D. J., Prout, C. K. & Pearce, L. J. (1996). CAMERON.
Chemical Crystallography Laboratory, Oxford, England.

CrysAlis CCD, CrysAlis RED and associated programs: Oxford Diffraction (2006).
Program name(s). Oxford Diffraction Ltd, Abingdon, England.

CRYSTALS: Betteridge, P. W., Carruthers, J. R., Cooper, R. I., Prout, K. &
Watkin, D. J. (2003). J. Appl. Cryst. 36, 1487.

COLLECT: Nonius (1998). COLLECT. Nonius BV, Delft, The Netherlands.

DENZO/SCALEPACK:  Otwinowski, Z. & Minor, W. (1997). Methods in Enzymology,
Vol. 276, Macromolecular Crystallography, Part A, edited by C. W. Carter Jr
& R. M. Sweet, pp. 307-326. New York: Academic Press.

DIAMOND: Brandenburg, K.(2006). DIAMOND. Crystal Impact GbR, Bonn, Germany.

DIF4 and REDU4: Stoe & Cie (1991). Program name(s). Stoe & Cie, Darmstadt,
Germany.

DIFABS: Walker, N. &  Stuart, D. (1983). Acta Cryst., A39, 158 - 166.

DIRAX: Duisenberg, A. J. M. (1992). J. Appl. Cryst. 25, 92-96.

DIRDIF-2008: Beurskens, P.T., Beurskens, G., de Gelder, R., Garciía-Granda,
S., Gould, R.O. & Smits, J.M.M. (2008) The DIRDIF-2008 program
system, Crystallography Laboratory, Radboud University  Nijmegen,
The Netherlands.

EDMA: Palatinus, L., Prathapa, S. J. & van Smaalen, S. (2012) J. Appl. Cryst.
45, 575-580.

enCIFer: Allen, F. H., Johnson, O., Shields, G. P., Smith, B. R. & Towler,
M. (2004). J. Appl. Cryst. 37, 335-338.

EVALCCD: Duisenberg, A. J. M., Kroon-Batenburg, L. M. J. & Schreurs,
A. M. M. (2003). J. Appl. Cryst. 36, 220-229.

JANA2000: Petricek, V. & Dusek, M. (2000). JANA2000. Institute of Physics,
Czech Academy of Sciences, Prague, Czech Republic.

MERCURY: Macrae, C. F., Bruno, I. J., Chisholm, J. A., Edgington,
P. R., McCabe, P., Pidcock, E., Rodriguez-Monge, L., Taylor, R.,
van de Streek, J. & Wood, P. A. (2008). J. Appl. Cryst. 41, 466-470.

MOGUL: Bruno, I. J., Cole, J. C., Kessler, M., Luo, J., Motherwell,
W. D. S., Purkis, L. H., Smith, B. R., Taylor, R., Cooper, R. I., Harris,
S. E. & Orpen, A. G. (2004). J. Chem. Inf. Comput. Sci. 44, 2133-2144.

ORTEPII: Johnson, C. K. (1976). ORTEPII. Report ORNL-5138. Oak Ridge
National Laboratory, Tennessee, USA.

ORTEPIII:  Burnett, M. N. & Johnson, C. K. (1996). ORTEPIII.
Report ORNL-6895. Oak Ridge National Laboratory, Tennessee, USA.

ORTEP-3: Farrugia, L. J. (2012). J. Appl. Cryst. 45, 849-854.

PARST: Nardelli, M. (1995). J. Appl. Cryst. 28, 659.

PLATON: Spek, A. L. (2009). Acta. Cryst. D65, 148-155.

PROCESS: Rigaku (1996). PROCESS. Rigaku Corporation, Tokyo, Japan.

PROCESS-AUTO: Rigaku (1998). PROCESS-AUTO. Rigaku Corporation, Tokyo, Japan.

PublCIF: Westrip, S. P. (2010). J. Appl. Cryst. 43, 920-925.

SCHAKAL: Keller, E. (1999) University of Freiburg, Germany.

SHELX: Sheldrick, G. M. (2015). Acta Cryst. C71, 3-8.

SHELXD: Schneider, T. R. & Sheldrick, G. M. (2002) Acta Cryst. D58, 1772-1779.

SHELXT: Sheldrick, G. M. (2015). Acta Cryst. A71, 3-8.

SIR92: Altomare, A., Cascarano, G., Giacovazzo, C., Guagliardi, A., Burla,
M. C., Polidori, G. & Camalli, M. (1994). J. Appl. Cryst. 27, 435.

SIR97: Altomare, A., Burla, M. C., Camalli, M., Cascarano, G. L.,
Giacovazzo, C., Guagliardi, A., Moliterni, A. G. G., Polidori, G. &
Spagna, R. (1999). J. Appl. Cryst. 32, 115-119.

SIR2002: Burla, M. C., Camalli, M., Carrozzini, B., Cascarano, G. L.,
Giacovazzo, C., Polidori, G. & Spagna, R. (2003). J. Appl. Cryst. 36, 1103.

SIR2004: Burla, M. C., Caliandro, R., Camalli, M., Carrozzini, B.,
Cascarano, G. L., De Caro, L., Giacovazzo, C., Polidori, G. & Spagna, R.
(2005). J. Appl. Cryst. 38, 381-388.

SIR2008 & IL MILIONE: Burla, M. C., Caliandro, R., Camalli, M., Carrozzini, B.,
Cascarano, G. L., De Caro, L., Giacovazzo, C., Polidori, G., Siliqi, D.,
& Spagna, R. (2007). J. Appl. Cryst. 40, 609-613.

SIR2011: Burla, M. C., Caliandro, R., Camalli, M., Carrozzini, B.,
Cascarano, G. L., Giacovazzo, C., Mallamo, M., Mazzone, A., Polidori, G.
& Spagna, R. (2012). J. Appl. Cryst. 45, 357-361.

SUPERFLIP: Palatinus, L. & Chapuis, G. (2007) J. Appl. Cryst. 40, 786-790.

TEXSAN: Molecular Structure Corporation & Rigaku (2000). TEXSAN. MSC,
The Woodlands, Texas, USA, and Rigaku Corporation, Tokyo, Japan.

WinGX: Farrugia, L. J. (2012). J. Appl. Cryst. 45, 849-854.

X-AREA, X-RED, X-RED32, X-SHAPE:  Stoe & Cie (2002). Program name(s).
Stoe & Cie GmbH, Darmstadt, Germany.

XCAD4: Harms, K. & Wocadlo, S. (1995). XCAD4. University of Marburg, Germany.

XSCANS: Siemens (1994). XSCANS. Siemens Analytical X-ray Instruments Inc.,
Madison, Wisconsin, USA.

;

#------------------  SECTION 2. COMPOUND(S) DETAILS -------------------------#

data_shelx

_audit_creation_date                    2022-03-28T16:29:05-00:00
_audit_creation_method                  'WinGX routine CIF_UPDATE'
_audit_conform_dict_name                cif_core.dic
_audit_conform_dict_version             2.4.5
_audit_conform_dict_location            ftp://ftp.iucr.org/pub/cif_core.dic
_publ_requested_category                FI

#----------------------------------------------------------------------------#
#                   CHEMICAL INFORMATION                                     #
#----------------------------------------------------------------------------#

_chemical_formula_sum                   'P2 S7 Tl V'
_chemical_formula_weight                541.67
_chemical_absolute_configuration        unk

#----------------------------------------------------------------------------#
#                   UNIT CELL INFORMATION                                    #
#----------------------------------------------------------------------------#

_symmetry_cell_setting                  orthorhombic
_symmetry_space_group_name_H-M          'C 2 2 21'
_symmetry_space_group_name_Hall         'C 2c 2'
_symmetry_Int_Tables_number             20
loop_
    _symmetry_equiv_pos_as_xyz
'x, y, z'
'-x, -y, z+1/2'
'-x, y, -z+1/2'
'x, -y, -z'
'x+1/2, y+1/2, z'
'-x+1/2, -y+1/2, z+1/2'
'-x+1/2, y+1/2, -z+1/2'
'x+1/2, -y+1/2, -z'

_cell_length_a                          8.5342(3)
_cell_length_b                          9.4962(2)
_cell_length_c                          12.4229(4)
_cell_angle_alpha                       90
_cell_angle_beta                        90
_cell_angle_gamma                       90
_cell_volume                            1006.78(5)
_cell_formula_units_Z                   4
_cell_measurement_temperature           153(2)
_cell_measurement_reflns_used           6446
_cell_measurement_theta_min             2.91
_cell_measurement_theta_max             27.48
_cell_measurement_wavelength            0.71073

#----------------------------------------------------------------------------#
#                   CRYSTAL INFORMATION                                      #
#----------------------------------------------------------------------------#

_exptl_crystal_size_max                 0.168
_exptl_crystal_size_mid                 0.156
_exptl_crystal_size_min                 0.04
_exptl_crystal_density_diffrn           3.574
_exptl_crystal_density_method           'not measured'
_exptl_crystal_F_000                    984
loop_
    _exptl_crystal_face_index_h
    _exptl_crystal_face_index_k
    _exptl_crystal_face_index_l
    _exptl_crystal_face_perp_dist
0 0 1 0.02
0 0 -1 0.02
1 1 0 0.078
-1 -1 0 0.078
1 -1 0 0.084
-1 1 0 0.084
0 1 0 0.086
0 -1 0 0.086
-1 1 2 0.064
-1 1 -2 0.066


#----------------------------------------------------------------------------#
#                   ABSORPTION CORRECTION                                    #
#----------------------------------------------------------------------------#

_exptl_absorpt_coefficient_mu           18.611
_exptl_absorpt_correction_type          multi-scan
_exptl_absorpt_process_details
;
        [c.f. r.h. blessing, acta cryst. (1995), a51, 33-38]
;
_exptl_absorpt_correction_T_min         0.137
_exptl_absorpt_correction_T_max         0.3592
_shelx_estimated_absorpt_T_min          0.146
_shelx_estimated_absorpt_T_max          0.523

#----------------------------------------------------------------------------#
#                   DATA COLLECTION                                          #
#----------------------------------------------------------------------------#

_diffrn_source                          'Enraf Nonius FR590'
_diffrn_ambient_temperature             153(2)
_diffrn_radiation_wavelength            0.71073
_diffrn_radiation_type                  MoK\a
_diffrn_radiation_monochromator         'horizonally mounted graphite crystal'
_diffrn_radiation_probe                 x-ray
_diffrn_detector                        'CCD plate'
_diffrn_detector_area_resol_mean        9
_diffrn_orient_matrix_ub_11             -0.070304
_diffrn_orient_matrix_ub_12             0.019321
_diffrn_orient_matrix_ub_13             -0.062682
_diffrn_orient_matrix_ub_21             -0.082595
_diffrn_orient_matrix_ub_22             0.035708
_diffrn_orient_matrix_ub_23             0.050151
_diffrn_orient_matrix_ub_31             0.044334
_diffrn_orient_matrix_ub_32             0.097164
_diffrn_orient_matrix_ub_33             -0.005967
_diffrn_measurement_device              '95mm CCD camera on κ-goniostat'
_diffrn_measurement_device_type         KappaCCD
_diffrn_measurement_method              'CCD rotation images, thick slices'
_diffrn_standards_number                0
_diffrn_standards_interval_time         .
_diffrn_standards_interval_count        .
_diffrn_standards_decay_%               ?
_diffrn_reflns_av_R_equivalents         0.0902
_diffrn_reflns_av_unetI/netI            0.0556
_diffrn_reflns_number                   3840
_diffrn_reflns_limit_h_min              -9
_diffrn_reflns_limit_h_max              11
_diffrn_reflns_limit_k_min              -12
_diffrn_reflns_limit_k_max              12
_diffrn_reflns_limit_l_min              -16
_diffrn_reflns_limit_l_max              13
_diffrn_reflns_theta_min                3.209
_diffrn_reflns_theta_max                27.471
_diffrn_reflns_theta_full               25.242
_diffrn_measured_fraction_theta_full
                                        1
_diffrn_measured_fraction_theta_max
                                        0.994
_diffrn_reflns_Laue_measured_fraction_full
                                        1
_diffrn_reflns_Laue_measured_fraction_max
                                        0.994
_diffrn_reflns_point_group_measured_fraction_full
                                        1
_diffrn_reflns_point_group_measured_fraction_max
                                        0.997
_reflns_Friedel_fraction_full           1
_reflns_Friedel_fraction_max            1
_reflns_Friedel_coverage                0.714
_reflns_number_total                    1155
_reflns_number_gt                       1118
_reflns_threshold_expression            'I > 2σ(I)'

#----------------------------------------------------------------------------#
#                   COMPUTER PROGRAMS USED                                   #
#----------------------------------------------------------------------------#

_computing_data_collection              'Collect (Bruker AXS BV, 1997-2004)'
_computing_cell_refinement
                                       'HKL Scalepack (Otwinowski & Minor 1997)'
_computing_data_reduction
                             'HKL Denzo and Scalepack (Otwinowski & Minor 1997)'
_computing_structure_refinement         'SHELXL-2018/3 (Sheldrick, 2018)'
_computing_molecular_graphics           'Ortep for Windows (Farrugia, 2012)'
_computing_publication_material
                                   'WinGX publication routines (Farrugia, 2012)'

#----------------------------------------------------------------------------#
#                   STRUCTURE SOLUTION                                       #
#----------------------------------------------------------------------------#


#----------------------------------------------------------------------------#
#                   REFINEMENT INFORMATION                                   #
#----------------------------------------------------------------------------#

_shelx_SHELXL_version_number            2018/3
_refine_ls_structure_factor_coef        Fsqd
_refine_ls_matrix_type                  full
_refine_ls_weighting_scheme             calc
_refine_ls_weighting_details
             'w=1/[σ²(Fo²)+(0.0493P)²+21.3855P] where P=(Fo²+2Fc²)/3'
_refine_ls_hydrogen_treatment           undef
_refine_ls_extinction_method            none
_refine_ls_number_reflns                1155
_refine_ls_number_parameters            52
_refine_ls_number_restraints            0
_refine_ls_number_constraints           0
_refine_ls_R_factor_all                 0.0447
_refine_ls_R_factor_gt                  0.0435
_refine_ls_wR_factor_ref                0.1112
_refine_ls_wR_factor_gt                 0.11
_refine_ls_goodness_of_fit_ref          1.062
_refine_ls_restrained_S_all             1.062
_refine_ls_shift/su_max                 0
_refine_ls_shift/su_mean                0
_refine_ls_abs_structure_details
;
 Flack x determined using 447 quotients [(I+)-(I-)]/[(I+)+(I-)]
 (Parsons, Flack and Wagner, Acta Cryst. B69 (2013) 249-259).
;
_refine_ls_abs_structure_Flack          -0.005(8)
_refine_diff_density_max                1.495
_refine_diff_density_min                -3.016
_refine_diff_density_rms                0.276

#----------------------------------------------------------------------------#
#                   CONSTRAINTS AND RESTRAINTS                               #
#----------------------------------------------------------------------------#


#----------------------------------------------------------------------------#
#                   ATOMIC TYPES, COORDINATES AND THERMAL PARAMETERS         #
#----------------------------------------------------------------------------#

loop_
    _atom_type_symbol
    _atom_type_description
    _atom_type_scat_dispersion_real
    _atom_type_scat_dispersion_imag
    _atom_type_scat_source
P P 0.1023 0.0942 'International Tables Vol C Tables 4.2.6.8 and 6.1.1.4'
S S 0.1246 0.1234 'International Tables Vol C Tables 4.2.6.8 and 6.1.1.4'
Tl Tl -2.8358 9.6688 'International Tables Vol C Tables 4.2.6.8 and 6.1.1.4'
V V 0.3005 0.5294 'International Tables Vol C Tables 4.2.6.8 and 6.1.1.4'

loop_
    _atom_site_label
    _atom_site_type_symbol
    _atom_site_fract_x
    _atom_site_fract_y
    _atom_site_fract_z
    _atom_site_U_iso_or_equiv
    _atom_site_adp_type
    _atom_site_occupancy
    _atom_site_site_symmetry_order
    _atom_site_calc_flag
    _atom_site_refinement_flags_posn
    _atom_site_refinement_flags_adp
    _atom_site_refinement_flags_occupancy
    _atom_site_disorder_assembly
    _atom_site_disorder_group
Tl1 Tl 0.41769(10) 0.5 0.5 0.0612(4) Uani 1 2 d S T P . .
V1 V 0.5 0.1021(2) 0.25 0.0113(5) Uani 1 2 d S T P . .
P1 P 0.1897(3) 0.2450(3) 0.2934(2) 0.0117(5) Uani 1 1 d . . . . .
S1 S 0 0.1088(4) 0.25 0.0185(8) Uani 1 2 d S T P . .
S2 S 0.3260(3) 0.2678(3) 0.1611(2) 0.0152(5) Uani 1 1 d . . . . .
S3 S 0.3123(3) 0.1266(3) 0.3977(2) 0.0142(5) Uani 1 1 d . . . . .
S4 S 0.1074(3) 0.4177(3) 0.3688(2) 0.0153(5) Uani 1 1 d . . . . .

loop_
    _atom_site_aniso_label
    _atom_site_aniso_U_11
    _atom_site_aniso_U_22
    _atom_site_aniso_U_33
    _atom_site_aniso_U_23
    _atom_site_aniso_U_13
    _atom_site_aniso_U_12
Tl1 0.0301(5) 0.1256(11) 0.0279(5) -0.0165(5) 0 0
V1 0.0106(12) 0.0103(10) 0.0129(12) 0 0.0006(9) 0
P1 0.0103(10) 0.0116(11) 0.0131(13) -0.0002(9) -0.0009(10) 0.0010(10)
S1 0.0122(18) 0.0126(15) 0.031(2) 0 -0.0032(16) 0
S2 0.0162(13) 0.0163(11) 0.0131(12) 0.0031(9) 0.0022(9) 0.0039(9)
S3 0.0125(12) 0.0162(11) 0.0138(12) 0.0038(9) 0.0019(10) 0.0035(9)
S4 0.0176(13) 0.0142(12) 0.0142(12) -0.0013(9) -0.0010(10) 0.0056(9)


#----------------------------------------------------------------------------#
#                   MOLECULAR GEOMETRY                                       #
#----------------------------------------------------------------------------#

_geom_special_details
;
 All esds (except the esd in the dihedral angle between two l.s. planes)
 are estimated using the full covariance matrix.  The cell esds are taken
 into account individually in the estimation of esds in distances, angles
 and torsion angles; correlations between esds in cell parameters are only
 used when they are defined by crystal symmetry.  An approximate (isotropic)
 treatment of cell esds is used for estimating esds involving l.s. planes.
;
loop_
    _geom_bond_atom_site_label_1
    _geom_bond_atom_site_label_2
    _geom_bond_distance
    _geom_bond_site_symmetry_2
    _geom_bond_publ_flag
V1 S2 2.430(3) 3_655 ?
V1 S2 2.430(3) . ?
V1 S3 2.447(3) 3_655 ?
V1 S3 2.447(3) . ?
V1 S4 2.466(3) 7_545 ?
V1 S4 2.466(3) 5_545 ?
P1 S3 2.010(4) . ?
P1 S4 2.016(4) . ?
P1 S2 2.025(4) . ?
P1 S1 2.141(3) . ?

loop_
    _geom_angle_atom_site_label_1
    _geom_angle_atom_site_label_2
    _geom_angle_atom_site_label_3
    _geom_angle
    _geom_angle_site_symmetry_1
    _geom_angle_site_symmetry_3
    _geom_angle_publ_flag
S2 V1 S2 99.23(15) 3_655 . ?
S2 V1 S3 83.06(9) 3_655 3_655 ?
S2 V1 S3 89.86(10) . 3_655 ?
S2 V1 S3 89.86(10) 3_655 . ?
S2 V1 S3 83.06(9) . . ?
S3 V1 S3 169.07(16) 3_655 . ?
S2 V1 S4 163.55(9) 3_655 7_545 ?
S2 V1 S4 87.74(9) . 7_545 ?
S3 V1 S4 82.07(9) 3_655 7_545 ?
S3 V1 S4 105.85(10) . 7_545 ?
S2 V1 S4 87.74(9) 3_655 5_545 ?
S2 V1 S4 163.55(9) . 5_545 ?
S3 V1 S4 105.85(10) 3_655 5_545 ?
S3 V1 S4 82.07(9) . 5_545 ?
S4 V1 S4 89.58(15) 7_545 5_545 ?
S3 P1 S4 109.67(17) . . ?
S3 P1 S2 106.53(16) . . ?
S4 P1 S2 119.34(16) . . ?
S3 P1 S1 102.60(14) . . ?
S4 P1 S1 110.21(17) . . ?
S2 P1 S1 107.16(15) . . ?
P1 S1 P1 105.7(2) 3 . ?
P1 S2 V1 84.99(12) . . ?
P1 S3 V1 84.85(13) . . ?
P1 S4 V1 115.39(14) . 5_455 ?

_iucr_refine_instructions_details
;
TITL shelxt_a.res in C222(1)
    shelx.res
    created by SHELXL-2018/3 at 16:27:54 on 28-Mar-2022
CELL  0.71073   8.5342   9.4962  12.4229   90.000   90.000   90.000
ZERR     4.00   0.0003   0.0002   0.0004    0.000    0.000    0.000
LATT  -7
SYMM  - X, - Y, 1/2 + Z
SYMM  - X,   Y, 1/2 - Z
SYMM    X, - Y, - Z
SFAC  P    S    TL   V
UNIT  8 28 4 4
TEMP -120
SIZE 0.04 0.156 0.168
MERG   2
FMAP   2
PLAN   20
ACTA
BOND
LIST   4
L.S.  10
WGHT    0.049300   21.385498
FVAR       0.33894
TL1   3    0.417691    0.500000    0.500000    10.50000    0.03008    0.12558 =
         0.02786   -0.01650    0.00000    0.00000
V1    4    0.500000    0.102052    0.250000    10.50000    0.01063    0.01032 =
         0.01290    0.00000    0.00059    0.00000
P1    1    0.189661    0.244958    0.293358    11.00000    0.01025    0.01162 =
         0.01308   -0.00018   -0.00092    0.00103
S1    2    0.000000    0.108774    0.250000    10.50000    0.01225    0.01261 =
         0.03074    0.00000   -0.00323    0.00000
S2    2    0.325964    0.267847    0.161081    11.00000    0.01618    0.01627 =
         0.01305    0.00311    0.00224    0.00387
S3    2    0.312291    0.126585    0.397738    11.00000    0.01253    0.01619 =
         0.01383    0.00378    0.00192    0.00352
S4    2    0.107411    0.417734    0.368806    11.00000    0.01758    0.01418 =
         0.01419   -0.00129   -0.00104    0.00562
HKLF    4




REM  shelxt_a.res in C222(1)
REM wR2 = 0.1112, GooF = S = 1.062, Restrained GooF = 1.062 for all data
REM R1 = 0.0435 for 1118 Fo > 4sig(Fo) and 0.0447 for all 1155 data
REM 52 parameters refined using 0 restraints

END

WGHT      0.0493     21.3854

REM Highest difference peak  1.495,  deepest hole -3.016,  1-sigma level  0.276
Q1    1   0.4164  0.5078  0.5936  11.00000  0.05    1.49
Q2    1   0.1183  0.4400  0.4929  11.00000  0.05    0.79
Q3    1   0.0022 -0.0178  0.3276  11.00000  0.05    0.79
Q4    1   0.3320 -0.0182  0.3682  11.00000  0.05    0.71
Q5    1   0.4040  0.5647  0.6502  11.00000  0.05    0.71
Q6    1   0.5943  0.5573  0.4972  11.00000  0.05    0.67
Q7    1   0.3026  0.4594  0.5910  11.00000  0.05    0.66
Q8    1   0.2899  0.1021  0.5021  11.00000  0.05    0.65
Q9    1   0.3186  0.1826  0.4742  11.00000  0.05    0.65
Q10   1   0.5924  0.0410  0.1715  11.00000  0.05    0.63
Q11   1   0.1019  0.1390  0.1365  11.00000  0.05    0.63
Q12   1   0.1765  0.2533  0.2020  11.00000  0.05    0.62
Q13   1   0.5003  0.0991  0.3442  11.00000  0.05    0.61
Q14   1   0.4465  0.3832  0.5716  11.00000  0.05    0.61
Q15   1   0.5459  0.4662  0.4105  11.00000  0.05    0.60
Q16   1   0.1719  0.1545  0.4802  11.00000  0.05    0.59
Q17   1   0.4165  0.6520  0.6188  11.00000  0.05    0.58
Q18   1   0.3217  0.1357  0.2959  11.00000  0.05    0.57
Q19   1  -0.0088  0.0924  0.3310  11.00000  0.05    0.55
Q20   1   0.1951  0.3402  0.5093  11.00000  0.05    0.54
;

# END of CIF
