#\#CIF_1.1

#  CIF produced by WinGX routine CIF_UPDATE
#  Created on 2023-07-31 at 19:39:22
#  Using CIFtbx version 3.0.4  1 Sep 2006

#  Dictionary name : cif_core.dic
#  Dictionary vers : 2.4.5
#  Request file    : c:\program files (x86)\wingx\files\archive.reqdat
#  CIF files read  : shelx project

#------------------ SECTION 1. GLOBAL INFORMATION ---------------------------#

data_global

#------------------ AUDIT DETAILS -------------------------------------------#

_audit_creation_date            2023-07-31
_audit_creation_method          'WinGX routine CIF_UPDATE'
_audit_conform_dict_name        cif_core.dic
_audit_conform_dict_version     2.4.3
_audit_conform_dict_location    ftp://ftp.iucr.org/pub/cif_core.dic
_audit_update_record            ?

#------------------ AUTHOR DETAILS -------------------------------------------#

# Name and address of author for correspondence

_publ_contact_author_name       ' ,  '
_publ_contact_author_address
;

;
_publ_contact_author_email       ' '
_publ_contact_author_fax         ' '
_publ_contact_author_phone       ' '


# Insert blank lines between references

_publ_section_references
;
Blessing, R. H. (1995) Acta Cryst., A51, 33-38.

Blessing, R. H. (1987) Cryst. Rev. 1, 3-58.

Blessing, R. H. (1989) J. Appl. Cryst. 22, 396-397.

Bruker (2012) APEX2 (Version 2012.10-0), SAINT (version 8.27B), SADABS
(version 2012/1), BrukerAXS Inc, Madison, Wisconsin, USA.

ABSCOR: Higashi, T. (1995). ABSCOR. Rigaku Corporation, Tokyo, Japan.

CAD-4 Software: Enraf-Nonius (1989). CAD-4 Software (or CAD-4 EXPRESS).
Enraf-Nonius, Delft, The Netherlands.

Cambridge Structural Database: Allen, F. R. (2002). Acta Cryst. B58, 380-388.

CAMERON: Watkin, D. J., Prout, C. K. & Pearce, L. J. (1996). CAMERON.
Chemical Crystallography Laboratory, Oxford, England.

CrysAlis CCD, CrysAlis RED and associated programs: Oxford Diffraction (2006).
Program name(s). Oxford Diffraction Ltd, Abingdon, England.

CRYSTALS: Betteridge, P. W., Carruthers, J. R., Cooper, R. I., Prout, K. &
Watkin, D. J. (2003). J. Appl. Cryst. 36, 1487.

COLLECT: Nonius (1998). COLLECT. Nonius BV, Delft, The Netherlands.

DENZO/SCALEPACK:  Otwinowski, Z. & Minor, W. (1997). Methods in Enzymology,
Vol. 276, Macromolecular Crystallography, Part A, edited by C. W. Carter Jr
& R. M. Sweet, pp. 307-326. New York: Academic Press.

DIAMOND: Brandenburg, K.(2006). DIAMOND. Crystal Impact GbR, Bonn, Germany.

DIF4 and REDU4: Stoe & Cie (1991). Program name(s). Stoe & Cie, Darmstadt,
Germany.

DIFABS: Walker, N. &  Stuart, D. (1983). Acta Cryst., A39, 158 - 166.

DIRAX: Duisenberg, A. J. M. (1992). J. Appl. Cryst. 25, 92-96.

DIRDIF-2008: Beurskens, P.T., Beurskens, G., de Gelder, R., Garciía-Granda,
S., Gould, R.O. & Smits, J.M.M. (2008) The DIRDIF-2008 program
system, Crystallography Laboratory, Radboud University  Nijmegen,
The Netherlands.

EDMA: Palatinus, L., Prathapa, S. J. & van Smaalen, S. (2012) J. Appl. Cryst.
45, 575-580.

enCIFer: Allen, F. H., Johnson, O., Shields, G. P., Smith, B. R. & Towler,
M. (2004). J. Appl. Cryst. 37, 335-338.

EVALCCD: Duisenberg, A. J. M., Kroon-Batenburg, L. M. J. & Schreurs,
A. M. M. (2003). J. Appl. Cryst. 36, 220-229.

JANA2000: Petricek, V. & Dusek, M. (2000). JANA2000. Institute of Physics,
Czech Academy of Sciences, Prague, Czech Republic.

MERCURY: Macrae, C. F., Bruno, I. J., Chisholm, J. A., Edgington,
P. R., McCabe, P., Pidcock, E., Rodriguez-Monge, L., Taylor, R.,
van de Streek, J. & Wood, P. A. (2008). J. Appl. Cryst. 41, 466-470.

MOGUL: Bruno, I. J., Cole, J. C., Kessler, M., Luo, J., Motherwell,
W. D. S., Purkis, L. H., Smith, B. R., Taylor, R., Cooper, R. I., Harris,
S. E. & Orpen, A. G. (2004). J. Chem. Inf. Comput. Sci. 44, 2133-2144.

ORTEPII: Johnson, C. K. (1976). ORTEPII. Report ORNL-5138. Oak Ridge
National Laboratory, Tennessee, USA.

ORTEPIII:  Burnett, M. N. & Johnson, C. K. (1996). ORTEPIII.
Report ORNL-6895. Oak Ridge National Laboratory, Tennessee, USA.

ORTEP-3: Farrugia, L. J. (2012). J. Appl. Cryst. 45, 849-854.

PARST: Nardelli, M. (1995). J. Appl. Cryst. 28, 659.

PLATON: Spek, A. L. (2009). Acta. Cryst. D65, 148-155.

PROCESS: Rigaku (1996). PROCESS. Rigaku Corporation, Tokyo, Japan.

PROCESS-AUTO: Rigaku (1998). PROCESS-AUTO. Rigaku Corporation, Tokyo, Japan.

PublCIF: Westrip, S. P. (2010). J. Appl. Cryst. 43, 920-925.

SCHAKAL: Keller, E. (1999) University of Freiburg, Germany.

SHELX: Sheldrick, G. M. (2015). Acta Cryst. C71, 3-8.

SHELXD: Schneider, T. R. & Sheldrick, G. M. (2002) Acta Cryst. D58, 1772-1779.

SHELXT: Sheldrick, G. M. (2015). Acta Cryst. A71, 3-8.

SIR92: Altomare, A., Cascarano, G., Giacovazzo, C., Guagliardi, A., Burla,
M. C., Polidori, G. & Camalli, M. (1994). J. Appl. Cryst. 27, 435.

SIR97: Altomare, A., Burla, M. C., Camalli, M., Cascarano, G. L.,
Giacovazzo, C., Guagliardi, A., Moliterni, A. G. G., Polidori, G. &
Spagna, R. (1999). J. Appl. Cryst. 32, 115-119.

SIR2002: Burla, M. C., Camalli, M., Carrozzini, B., Cascarano, G. L.,
Giacovazzo, C., Polidori, G. & Spagna, R. (2003). J. Appl. Cryst. 36, 1103.

SIR2004: Burla, M. C., Caliandro, R., Camalli, M., Carrozzini, B.,
Cascarano, G. L., De Caro, L., Giacovazzo, C., Polidori, G. & Spagna, R.
(2005). J. Appl. Cryst. 38, 381-388.

SIR2008 & IL MILIONE: Burla, M. C., Caliandro, R., Camalli, M., Carrozzini, B.,
Cascarano, G. L., De Caro, L., Giacovazzo, C., Polidori, G., Siliqi, D.,
& Spagna, R. (2007). J. Appl. Cryst. 40, 609-613.

SIR2011: Burla, M. C., Caliandro, R., Camalli, M., Carrozzini, B.,
Cascarano, G. L., Giacovazzo, C., Mallamo, M., Mazzone, A., Polidori, G.
& Spagna, R. (2012). J. Appl. Cryst. 45, 357-361.

SUPERFLIP: Palatinus, L. & Chapuis, G. (2007) J. Appl. Cryst. 40, 786-790.

TEXSAN: Molecular Structure Corporation & Rigaku (2000). TEXSAN. MSC,
The Woodlands, Texas, USA, and Rigaku Corporation, Tokyo, Japan.

WinGX: Farrugia, L. J. (2012). J. Appl. Cryst. 45, 849-854.

X-AREA, X-RED, X-RED32, X-SHAPE:  Stoe & Cie (2002). Program name(s).
Stoe & Cie GmbH, Darmstadt, Germany.

XCAD4: Harms, K. & Wocadlo, S. (1995). XCAD4. University of Marburg, Germany.

XSCANS: Siemens (1994). XSCANS. Siemens Analytical X-ray Instruments Inc.,
Madison, Wisconsin, USA.

;

#------------------  SECTION 2. COMPOUND(S) DETAILS -------------------------#

data_shelx

_audit_creation_date                    2023-07-31T19:39:22-00:00
_audit_creation_method                  'WinGX routine CIF_UPDATE'
_audit_conform_dict_name                cif_core.dic
_audit_conform_dict_version             2.4.5
_audit_conform_dict_location            ftp://ftp.iucr.org/pub/cif_core.dic
_publ_requested_category                FI

#----------------------------------------------------------------------------#
#                   CHEMICAL INFORMATION                                     #
#----------------------------------------------------------------------------#

_chemical_formula_sum                   'Cr P2 S7 Tl'
_chemical_formula_weight                542.73
_chemical_absolute_configuration        unk

#----------------------------------------------------------------------------#
#                   UNIT CELL INFORMATION                                    #
#----------------------------------------------------------------------------#

_symmetry_cell_setting                  orthorhombic
_symmetry_space_group_name_H-M          'P 21 21 21'
_symmetry_space_group_name_Hall         'P 2ac 2ab'
_symmetry_Int_Tables_number             19
loop_
    _symmetry_equiv_pos_as_xyz
'x, y, z'
'-x+1/2, -y, z+1/2'
'-x, y+1/2, -z+1/2'
'x+1/2, -y+1/2, -z'

_cell_length_a                          8.4760(3)
_cell_length_b                          9.5307(4)
_cell_length_c                          12.2764(4)
_cell_angle_alpha                       90
_cell_angle_beta                        90
_cell_angle_gamma                       90
_cell_volume                            991.71(6)
_cell_formula_units_Z                   4
_cell_measurement_temperature           133(2)
_cell_measurement_reflns_used           30182
_cell_measurement_theta_min             2.91
_cell_measurement_theta_max             27.48
_cell_measurement_wavelength            0.71073

#----------------------------------------------------------------------------#
#                   CRYSTAL INFORMATION                                      #
#----------------------------------------------------------------------------#

_exptl_crystal_description              plate
_exptl_crystal_colour                   dark
_exptl_crystal_size_max                 0.13
_exptl_crystal_size_mid                 0.114
_exptl_crystal_size_min                 0.024
_exptl_crystal_density_diffrn           3.635
_exptl_crystal_density_method           'not measured'
_exptl_crystal_F_000                    988
loop_
    _exptl_crystal_face_index_h
    _exptl_crystal_face_index_k
    _exptl_crystal_face_index_l
    _exptl_crystal_face_perp_dist
1 1 0 0.057
-1 -1 0 0.057
1 -1 0 0.065
-1 1 0 0.065
0 0 1 0.012
0 0 -1 0.012
0 1 0 0.068
0 -1 0 0.056


#----------------------------------------------------------------------------#
#                   ABSORPTION CORRECTION                                    #
#----------------------------------------------------------------------------#

_exptl_absorpt_coefficient_mu           19.047
_exptl_absorpt_correction_type          multi-scan
_exptl_absorpt_process_details
;
        [c.f. r.h. blessing, acta cryst. (1995), a51, 33-38]
;
_exptl_absorpt_correction_T_min         0.2272
_exptl_absorpt_correction_T_max         0.4886
_shelx_estimated_absorpt_T_min          0.191
_shelx_estimated_absorpt_T_max          0.658

#----------------------------------------------------------------------------#
#                   DATA COLLECTION                                          #
#----------------------------------------------------------------------------#

_diffrn_source                          'Enraf Nonius FR590'
_diffrn_ambient_temperature             133(2)
_diffrn_radiation_wavelength            0.71073
_diffrn_radiation_type                  MoK\a
_diffrn_radiation_monochromator         'horizonally mounted graphite crystal'
_diffrn_radiation_probe                 x-ray
_diffrn_detector                        'CCD plate'
_diffrn_detector_area_resol_mean        9
_diffrn_orient_matrix_ub_11             0.107124
_diffrn_orient_matrix_ub_12             -0.014732
_diffrn_orient_matrix_ub_13             0.032159
_diffrn_orient_matrix_ub_21             -0.038842
_diffrn_orient_matrix_ub_22             -0.086234
_diffrn_orient_matrix_ub_23             0.03787
_diffrn_orient_matrix_ub_31             0.03058
_diffrn_orient_matrix_ub_32             -0.057928
_diffrn_orient_matrix_ub_33             -0.064552
_diffrn_measurement_device              '95mm CCD camera on κ-goniostat'
_diffrn_measurement_device_type         KappaCCD
_diffrn_measurement_method              'CCD rotation images, thick slices'
_diffrn_standards_number                0
_diffrn_standards_interval_time         .
_diffrn_standards_interval_count        .
_diffrn_standards_decay_%               ?
_diffrn_reflns_av_R_equivalents         0.14
_diffrn_reflns_av_unetI/netI            0.0914
_diffrn_reflns_number                   8625
_diffrn_reflns_limit_h_min              -11
_diffrn_reflns_limit_h_max              11
_diffrn_reflns_limit_k_min              -12
_diffrn_reflns_limit_k_max              12
_diffrn_reflns_limit_l_min              -15
_diffrn_reflns_limit_l_max              15
_diffrn_reflns_theta_min                2.92
_diffrn_reflns_theta_max                27.495
_diffrn_reflns_theta_full               25.242
_diffrn_measured_fraction_theta_full
                                        0.978
_diffrn_measured_fraction_theta_max
                                        0.977
_diffrn_reflns_Laue_measured_fraction_full
                                        0.978
_diffrn_reflns_Laue_measured_fraction_max
                                        0.977
_diffrn_reflns_point_group_measured_fraction_full
                                        0.969
_diffrn_reflns_point_group_measured_fraction_max
                                        0.964
_reflns_Friedel_fraction_full           0.956
_reflns_Friedel_fraction_max            0.947
_reflns_Friedel_coverage                0.693
_reflns_number_total                    2187
_reflns_number_gt                       1917
_reflns_threshold_expression            'I > 2σ(I)'

#----------------------------------------------------------------------------#
#                   COMPUTER PROGRAMS USED                                   #
#----------------------------------------------------------------------------#

_computing_data_collection              'Collect (Bruker AXS BV, 1997-2004)'
_computing_cell_refinement
                                       'HKL Scalepack (Otwinowski & Minor 1997)'
_computing_data_reduction
                             'HKL Denzo and Scalepack (Otwinowski & Minor 1997)'
_computing_structure_solution           'SHELXT-2018/2 (Sheldrick, 2015)'
_computing_structure_refinement         'SHELXL-2018/3 (Sheldrick, 2018)'
_computing_molecular_graphics           'Ortep for Windows (Farrugia, 2012)'
_computing_publication_material
                                   'WinGX publication routines (Farrugia, 2012)'

#----------------------------------------------------------------------------#
#                   STRUCTURE SOLUTION                                       #
#----------------------------------------------------------------------------#

_atom_sites_solution_primary            dual
_atom_sites_solution_secondary          dual

#----------------------------------------------------------------------------#
#                   REFINEMENT INFORMATION                                   #
#----------------------------------------------------------------------------#

_shelx_SHELXL_version_number            2018/3
_refine_ls_structure_factor_coef        Fsqd
_refine_ls_matrix_type                  full
_refine_ls_weighting_scheme             calc
_refine_ls_weighting_details
                      'w=1/[σ²(Fo²)+(0.1129P)²] where P=(Fo²+2Fc²)/3'
_refine_ls_hydrogen_treatment           undef
_refine_ls_extinction_method            none
_refine_ls_number_reflns                2187
_refine_ls_number_parameters            100
_refine_ls_number_restraints            0
_refine_ls_number_constraints           0
_refine_ls_R_factor_all                 0.0732
_refine_ls_R_factor_gt                  0.0654
_refine_ls_wR_factor_ref                0.1685
_refine_ls_wR_factor_gt                 0.163
_refine_ls_goodness_of_fit_ref          1.054
_refine_ls_restrained_S_all             1.054
_refine_ls_shift/su_max                 0
_refine_ls_shift/su_mean                0
_refine_ls_abs_structure_details
;
 Flack x determined using 687 quotients [(I+)-(I-)]/[(I+)+(I-)]
 (Parsons, Flack and Wagner, Acta Cryst. B69 (2013) 249-259).
;
_refine_ls_abs_structure_Flack          -0.001(8)
_refine_diff_density_max                4.591
_refine_diff_density_min                -4.998
_refine_diff_density_rms                0.576

#----------------------------------------------------------------------------#
#                   CONSTRAINTS AND RESTRAINTS                               #
#----------------------------------------------------------------------------#


#----------------------------------------------------------------------------#
#                   ATOMIC TYPES, COORDINATES AND THERMAL PARAMETERS         #
#----------------------------------------------------------------------------#

loop_
    _atom_type_symbol
    _atom_type_description
    _atom_type_scat_dispersion_real
    _atom_type_scat_dispersion_imag
    _atom_type_scat_source
Cr Cr 0.3209 0.6236 'International Tables Vol C Tables 4.2.6.8 and 6.1.1.4'
P P 0.1023 0.0942 'International Tables Vol C Tables 4.2.6.8 and 6.1.1.4'
S S 0.1246 0.1234 'International Tables Vol C Tables 4.2.6.8 and 6.1.1.4'
Tl Tl -2.8358 9.6688 'International Tables Vol C Tables 4.2.6.8 and 6.1.1.4'

loop_
    _atom_site_label
    _atom_site_type_symbol
    _atom_site_fract_x
    _atom_site_fract_y
    _atom_site_fract_z
    _atom_site_U_iso_or_equiv
    _atom_site_adp_type
    _atom_site_occupancy
    _atom_site_site_symmetry_order
    _atom_site_calc_flag
    _atom_site_refinement_flags_posn
    _atom_site_refinement_flags_adp
    _atom_site_refinement_flags_occupancy
    _atom_site_disorder_assembly
    _atom_site_disorder_group
Tl1 Tl 0.31452(10) 0.45904(13) 0.50976(7) 0.0330(3) Uani 1 1 d . . . . .
Cr1 Cr 0.2579(3) 0.9042(3) 0.7511(2) 0.0131(7) Uani 1 1 d . . . . .
S1 S 1.0672(5) 0.8730(6) 0.8937(4) 0.0169(10) Uani 1 1 d . . . . .
S2 S 0.4315(5) 0.7377(5) 0.8398(4) 0.0167(10) Uani 1 1 d . . . . .
S3 S 0.8676(5) 0.5795(5) 0.8642(4) 0.0160(10) Uani 1 1 d . . . . .
S4 S 1.1024(5) 0.7268(6) 0.6601(4) 0.0175(10) Uani 1 1 d . . . . .
P1 P 0.9507(5) 0.7501(5) 0.7853(4) 0.0133(10) Uani 1 1 d . . . . .
P2 P 0.5632(5) 0.7562(5) 0.7029(4) 0.0143(10) Uani 1 1 d . . . . .
S5 S 0.4413(5) 0.8837(5) 0.6034(4) 0.0156(10) Uani 1 1 d . . . . .
S6 S 0.7626(5) 0.8838(6) 0.7347(4) 0.0190(10) Uani 1 1 d . . . . .
S7 S 0.6259(5) 0.5768(5) 0.6277(4) 0.0168(10) Uani 1 1 d . . . . .

loop_
    _atom_site_aniso_label
    _atom_site_aniso_U_11
    _atom_site_aniso_U_22
    _atom_site_aniso_U_33
    _atom_site_aniso_U_23
    _atom_site_aniso_U_13
    _atom_site_aniso_U_12
Tl1 0.0221(5) 0.0489(7) 0.0282(5) -0.0024(4) 0.0015(3) -0.0024(4)
Cr1 0.0085(13) 0.0119(16) 0.0191(16) -0.0009(12) 0.0010(12) 0.0007(12)
S1 0.010(2) 0.020(3) 0.021(2) -0.0020(19) 0.0033(17) -0.004(2)
S2 0.017(2) 0.012(3) 0.021(2) 0.0033(18) 0.0040(17) 0.002(2)
S3 0.013(2) 0.011(2) 0.023(2) 0.0015(18) -0.0006(17) -0.0027(18)
S4 0.0142(19) 0.017(3) 0.022(2) -0.003(2) 0.0036(17) -0.0018(19)
P1 0.0112(19) 0.010(3) 0.019(2) -0.0008(18) -0.0003(17) -0.003(2)
P2 0.009(2) 0.017(3) 0.017(2) 0.0009(19) 0.0023(16) -0.001(2)
S5 0.012(2) 0.016(3) 0.019(2) 0.0020(18) 0.0038(17) 0.0006(19)
S6 0.0125(19) 0.015(3) 0.029(3) 0.002(2) -0.0035(18) -0.0007(19)
S7 0.016(2) 0.014(3) 0.020(2) 0.0002(19) -0.0024(17) 0.0034(19)


#----------------------------------------------------------------------------#
#                   MOLECULAR GEOMETRY                                       #
#----------------------------------------------------------------------------#

_geom_special_details
;
 All esds (except the esd in the dihedral angle between two l.s. planes)
 are estimated using the full covariance matrix.  The cell esds are taken
 into account individually in the estimation of esds in distances, angles
 and torsion angles; correlations between esds in cell parameters are only
 used when they are defined by crystal symmetry.  An approximate (isotropic)
 treatment of cell esds is used for estimating esds involving l.s. planes.
;
loop_
    _geom_bond_atom_site_label_1
    _geom_bond_atom_site_label_2
    _geom_bond_distance
    _geom_bond_site_symmetry_2
    _geom_bond_publ_flag
Cr1 S5 2.396(5) . ?
Cr1 S1 2.401(5) 1_455 ?
Cr1 S4 2.418(6) 1_455 ?
Cr1 S2 2.423(6) . ?
Cr1 S7 2.427(6) 3_656 ?
Cr1 S3 2.434(6) 3_656 ?
S1 P1 2.029(7) . ?
S2 P2 2.026(7) . ?
S3 P1 2.019(7) . ?
S4 P1 2.016(7) . ?
P1 S6 2.133(7) . ?
P2 S5 2.009(7) . ?
P2 S7 2.014(7) . ?
P2 S6 2.119(7) . ?

loop_
    _geom_angle_atom_site_label_1
    _geom_angle_atom_site_label_2
    _geom_angle_atom_site_label_3
    _geom_angle
    _geom_angle_site_symmetry_1
    _geom_angle_site_symmetry_3
    _geom_angle_publ_flag
S5 Cr1 S1 168.0(2) . 1_455 ?
S5 Cr1 S4 86.95(19) . 1_455 ?
S1 Cr1 S4 83.29(18) 1_455 1_455 ?
S5 Cr1 S2 83.85(18) . . ?
S1 Cr1 S2 90.01(19) 1_455 . ?
S4 Cr1 S2 94.6(2) 1_455 . ?
S5 Cr1 S7 104.84(19) . 3_656 ?
S1 Cr1 S7 84.85(19) 1_455 3_656 ?
S4 Cr1 S7 168.1(2) 1_455 3_656 ?
S2 Cr1 S7 85.5(2) . 3_656 ?
S5 Cr1 S3 84.23(18) . 3_656 ?
S1 Cr1 S3 102.38(19) 1_455 3_656 ?
S4 Cr1 S3 88.5(2) 1_455 3_656 ?
S2 Cr1 S3 167.5(2) . 3_656 ?
S7 Cr1 S3 93.9(2) 3_656 3_656 ?
P1 S1 Cr1 85.5(2) . 1_655 ?
P2 S2 Cr1 84.5(2) . . ?
P1 S3 Cr1 115.2(3) . 3_646 ?
P1 S4 Cr1 85.3(2) . 1_655 ?
S4 P1 S3 119.9(3) . . ?
S4 P1 S1 104.7(3) . . ?
S3 P1 S1 108.7(3) . . ?
S4 P1 S6 108.7(3) . . ?
S3 P1 S6 111.1(3) . . ?
S1 P1 S6 102.1(3) . . ?
S5 P2 S7 111.8(3) . . ?
S5 P2 S2 105.9(3) . . ?
S7 P2 S2 116.9(3) . . ?
S5 P2 S6 100.1(3) . . ?
S7 P2 S6 111.2(3) . . ?
S2 P2 S6 109.6(3) . . ?
P2 S5 Cr1 85.6(2) . . ?
P2 S6 P1 107.9(3) . . ?
P2 S7 Cr1 113.7(3) . 3_646 ?

_iucr_refine_instructions_details
;
TITL shelxt_a.res in P2(1)2(1)2(1)
    shelx.res
    created by SHELXL-2018/3 at 19:37:29 on 31-Jul-2023
CELL  0.71073   8.4760   9.5307  12.2764   90.000   90.000   90.000
ZERR     4.00   0.0003   0.0004   0.0004    0.000    0.000    0.000
LATT  -1
SYMM  1/2 - X, - Y, 1/2 + Z
SYMM  - X, 1/2 + Y, 1/2 - Z
SYMM  1/2 + X, 1/2 - Y, - Z
SFAC  CR   P    S    TL
UNIT  4 8 28 4
MERG   2
TEMP -140
SIZE 0.024 0.114 0.13
FMAP   2
PLAN   20
ACTA
BOND
LIST   4
L.S.  10
WGHT    0.112900
FVAR       0.13476
TL1   4    0.314519    0.459039    0.509756    11.00000    0.02207    0.04887 =
         0.02815   -0.00242    0.00153   -0.00240
CR1   1    0.257921    0.904219    0.751113    11.00000    0.00849    0.01187 =
         0.01906   -0.00086    0.00101    0.00072
S1    3    1.067180    0.873016    0.893660    11.00000    0.00987    0.01963 =
         0.02124   -0.00198    0.00331   -0.00422
S2    3    0.431517    0.737698    0.839824    11.00000    0.01739    0.01228 =
         0.02057    0.00332    0.00404    0.00250
S3    3    0.867601    0.579522    0.864166    11.00000    0.01326    0.01141 =
         0.02321    0.00153   -0.00064   -0.00269
S4    3    1.102367    0.726759    0.660073    11.00000    0.01423    0.01683 =
         0.02151   -0.00338    0.00358   -0.00182
P1    2    0.950656    0.750121    0.785268    11.00000    0.01120    0.01013 =
         0.01851   -0.00080   -0.00033   -0.00307
P2    2    0.563193    0.756179    0.702851    11.00000    0.00902    0.01668 =
         0.01715    0.00091    0.00233   -0.00081
S5    3    0.441264    0.883717    0.603402    11.00000    0.01176    0.01608 =
         0.01906    0.00203    0.00383    0.00059
S6    3    0.762599    0.883786    0.734737    11.00000    0.01248    0.01543 =
         0.02916    0.00222   -0.00346   -0.00067
S7    3    0.625902    0.576842    0.627654    11.00000    0.01643    0.01355 =
         0.02034    0.00018   -0.00242    0.00341
HKLF    4




REM  shelxt_a.res in P2(1)2(1)2(1)
REM wR2 = 0.1685, GooF = S = 1.054, Restrained GooF = 1.054 for all data
REM R1 = 0.0654 for 1917 Fo > 4sig(Fo) and 0.0732 for all 2187 data
REM 100 parameters refined using 0 restraints

END

WGHT      0.1130      0.0000

REM Highest difference peak  4.591,  deepest hole -4.998,  1-sigma level  0.576
Q1    1   0.3196  0.5459  0.4977  11.00000  0.05    4.59
Q2    1   0.3169  0.4502  0.4420  11.00000  0.05    3.16
Q3    1   0.3159  0.4405  0.5814  11.00000  0.05    2.52
Q4    1   0.3283  0.5336  0.5768  11.00000  0.05    2.26
Q5    1   0.8435  0.5520  0.9445  11.00000  0.05    2.20
Q6    1   0.8057  0.5443  0.9441  11.00000  0.05    2.20
Q7    1   0.6810  0.4418  0.5217  11.00000  0.05    1.95
Q8    1   0.1733  0.3847  0.5105  11.00000  0.05    1.65
Q9    1   0.4267  0.8891  0.5281  11.00000  0.05    1.61
Q10   1   0.4302  0.7416  0.9109  11.00000  0.05    1.60
Q11   1   0.2479  1.0016  0.7482  11.00000  0.05    1.54
Q12   1   0.2123  0.4060  0.4240  11.00000  0.05    1.53
Q13   1   0.6562  0.4619  0.6605  11.00000  0.05    1.52
Q14   1   0.2289  0.5195  0.4234  11.00000  0.05    1.49
Q15   1   0.4042  0.5099  0.4209  11.00000  0.05    1.45
Q16   1   0.6896  0.8943  0.8365  11.00000  0.05    1.42
Q17   1   0.2109  0.4029  0.5972  11.00000  0.05    1.40
Q18   1   1.0621  0.8984  0.9727  11.00000  0.05    1.36
Q19   1   0.3308  0.8192  0.6754  11.00000  0.05    1.36
Q20   1   0.8683  0.5608  0.8011  11.00000  0.05    1.36
;

# END of CIF
