#\#CIF_1.1

#  CIF produced by WinGX routine CIF_UPDATE
#  Created on 2023-07-31 at 19:31:49
#  Using CIFtbx version 3.0.4  1 Sep 2006

#  Dictionary name : cif_core.dic
#  Dictionary vers : 2.4.5
#  Request file    : c:\program files (x86)\wingx\files\archive.reqdat
#  CIF files read  : shelx project

#------------------ SECTION 1. GLOBAL INFORMATION ---------------------------#

data_global

#------------------ AUDIT DETAILS -------------------------------------------#

_audit_creation_date            2023-07-31
_audit_creation_method          'WinGX routine CIF_UPDATE'
_audit_conform_dict_name        cif_core.dic
_audit_conform_dict_version     2.4.3
_audit_conform_dict_location    ftp://ftp.iucr.org/pub/cif_core.dic
_audit_update_record            ?

#------------------ AUTHOR DETAILS -------------------------------------------#

# Name and address of author for correspondence

_publ_contact_author_name       ' ,  '
_publ_contact_author_address
;

;
_publ_contact_author_email       ' '
_publ_contact_author_fax         ' '
_publ_contact_author_phone       ' '


# Insert blank lines between references

_publ_section_references
;
Blessing, R. H. (1995) Acta Cryst., A51, 33-38.

Blessing, R. H. (1987) Cryst. Rev. 1, 3-58.

Blessing, R. H. (1989) J. Appl. Cryst. 22, 396-397.

Bruker (2012) APEX2 (Version 2012.10-0), SAINT (version 8.27B), SADABS
(version 2012/1), BrukerAXS Inc, Madison, Wisconsin, USA.

ABSCOR: Higashi, T. (1995). ABSCOR. Rigaku Corporation, Tokyo, Japan.

CAD-4 Software: Enraf-Nonius (1989). CAD-4 Software (or CAD-4 EXPRESS).
Enraf-Nonius, Delft, The Netherlands.

Cambridge Structural Database: Allen, F. R. (2002). Acta Cryst. B58, 380-388.

CAMERON: Watkin, D. J., Prout, C. K. & Pearce, L. J. (1996). CAMERON.
Chemical Crystallography Laboratory, Oxford, England.

CrysAlis CCD, CrysAlis RED and associated programs: Oxford Diffraction (2006).
Program name(s). Oxford Diffraction Ltd, Abingdon, England.

CRYSTALS: Betteridge, P. W., Carruthers, J. R., Cooper, R. I., Prout, K. &
Watkin, D. J. (2003). J. Appl. Cryst. 36, 1487.

COLLECT: Nonius (1998). COLLECT. Nonius BV, Delft, The Netherlands.

DENZO/SCALEPACK:  Otwinowski, Z. & Minor, W. (1997). Methods in Enzymology,
Vol. 276, Macromolecular Crystallography, Part A, edited by C. W. Carter Jr
& R. M. Sweet, pp. 307-326. New York: Academic Press.

DIAMOND: Brandenburg, K.(2006). DIAMOND. Crystal Impact GbR, Bonn, Germany.

DIF4 and REDU4: Stoe & Cie (1991). Program name(s). Stoe & Cie, Darmstadt,
Germany.

DIFABS: Walker, N. &  Stuart, D. (1983). Acta Cryst., A39, 158 - 166.

DIRAX: Duisenberg, A. J. M. (1992). J. Appl. Cryst. 25, 92-96.

DIRDIF-2008: Beurskens, P.T., Beurskens, G., de Gelder, R., Garciía-Granda,
S., Gould, R.O. & Smits, J.M.M. (2008) The DIRDIF-2008 program
system, Crystallography Laboratory, Radboud University  Nijmegen,
The Netherlands.

EDMA: Palatinus, L., Prathapa, S. J. & van Smaalen, S. (2012) J. Appl. Cryst.
45, 575-580.

enCIFer: Allen, F. H., Johnson, O., Shields, G. P., Smith, B. R. & Towler,
M. (2004). J. Appl. Cryst. 37, 335-338.

EVALCCD: Duisenberg, A. J. M., Kroon-Batenburg, L. M. J. & Schreurs,
A. M. M. (2003). J. Appl. Cryst. 36, 220-229.

JANA2000: Petricek, V. & Dusek, M. (2000). JANA2000. Institute of Physics,
Czech Academy of Sciences, Prague, Czech Republic.

MERCURY: Macrae, C. F., Bruno, I. J., Chisholm, J. A., Edgington,
P. R., McCabe, P., Pidcock, E., Rodriguez-Monge, L., Taylor, R.,
van de Streek, J. & Wood, P. A. (2008). J. Appl. Cryst. 41, 466-470.

MOGUL: Bruno, I. J., Cole, J. C., Kessler, M., Luo, J., Motherwell,
W. D. S., Purkis, L. H., Smith, B. R., Taylor, R., Cooper, R. I., Harris,
S. E. & Orpen, A. G. (2004). J. Chem. Inf. Comput. Sci. 44, 2133-2144.

ORTEPII: Johnson, C. K. (1976). ORTEPII. Report ORNL-5138. Oak Ridge
National Laboratory, Tennessee, USA.

ORTEPIII:  Burnett, M. N. & Johnson, C. K. (1996). ORTEPIII.
Report ORNL-6895. Oak Ridge National Laboratory, Tennessee, USA.

ORTEP-3: Farrugia, L. J. (2012). J. Appl. Cryst. 45, 849-854.

PARST: Nardelli, M. (1995). J. Appl. Cryst. 28, 659.

PLATON: Spek, A. L. (2009). Acta. Cryst. D65, 148-155.

PROCESS: Rigaku (1996). PROCESS. Rigaku Corporation, Tokyo, Japan.

PROCESS-AUTO: Rigaku (1998). PROCESS-AUTO. Rigaku Corporation, Tokyo, Japan.

PublCIF: Westrip, S. P. (2010). J. Appl. Cryst. 43, 920-925.

SCHAKAL: Keller, E. (1999) University of Freiburg, Germany.

SHELX: Sheldrick, G. M. (2015). Acta Cryst. C71, 3-8.

SHELXD: Schneider, T. R. & Sheldrick, G. M. (2002) Acta Cryst. D58, 1772-1779.

SHELXT: Sheldrick, G. M. (2015). Acta Cryst. A71, 3-8.

SIR92: Altomare, A., Cascarano, G., Giacovazzo, C., Guagliardi, A., Burla,
M. C., Polidori, G. & Camalli, M. (1994). J. Appl. Cryst. 27, 435.

SIR97: Altomare, A., Burla, M. C., Camalli, M., Cascarano, G. L.,
Giacovazzo, C., Guagliardi, A., Moliterni, A. G. G., Polidori, G. &
Spagna, R. (1999). J. Appl. Cryst. 32, 115-119.

SIR2002: Burla, M. C., Camalli, M., Carrozzini, B., Cascarano, G. L.,
Giacovazzo, C., Polidori, G. & Spagna, R. (2003). J. Appl. Cryst. 36, 1103.

SIR2004: Burla, M. C., Caliandro, R., Camalli, M., Carrozzini, B.,
Cascarano, G. L., De Caro, L., Giacovazzo, C., Polidori, G. & Spagna, R.
(2005). J. Appl. Cryst. 38, 381-388.

SIR2008 & IL MILIONE: Burla, M. C., Caliandro, R., Camalli, M., Carrozzini, B.,
Cascarano, G. L., De Caro, L., Giacovazzo, C., Polidori, G., Siliqi, D.,
& Spagna, R. (2007). J. Appl. Cryst. 40, 609-613.

SIR2011: Burla, M. C., Caliandro, R., Camalli, M., Carrozzini, B.,
Cascarano, G. L., Giacovazzo, C., Mallamo, M., Mazzone, A., Polidori, G.
& Spagna, R. (2012). J. Appl. Cryst. 45, 357-361.

SUPERFLIP: Palatinus, L. & Chapuis, G. (2007) J. Appl. Cryst. 40, 786-790.

TEXSAN: Molecular Structure Corporation & Rigaku (2000). TEXSAN. MSC,
The Woodlands, Texas, USA, and Rigaku Corporation, Tokyo, Japan.

WinGX: Farrugia, L. J. (2012). J. Appl. Cryst. 45, 849-854.

X-AREA, X-RED, X-RED32, X-SHAPE:  Stoe & Cie (2002). Program name(s).
Stoe & Cie GmbH, Darmstadt, Germany.

XCAD4: Harms, K. & Wocadlo, S. (1995). XCAD4. University of Marburg, Germany.

XSCANS: Siemens (1994). XSCANS. Siemens Analytical X-ray Instruments Inc.,
Madison, Wisconsin, USA.

;

#------------------  SECTION 2. COMPOUND(S) DETAILS -------------------------#

data_shelx

_audit_creation_date                    2023-07-31T19:31:49-00:00
_audit_creation_method                  'WinGX routine CIF_UPDATE'
_audit_conform_dict_name                cif_core.dic
_audit_conform_dict_version             2.4.5
_audit_conform_dict_location            ftp://ftp.iucr.org/pub/cif_core.dic
_publ_requested_category                FI

#----------------------------------------------------------------------------#
#                   CHEMICAL INFORMATION                                     #
#----------------------------------------------------------------------------#

_chemical_formula_sum                   'Cr P2 S7 Tl'
_chemical_formula_weight                542.73
_chemical_absolute_configuration        rm

#----------------------------------------------------------------------------#
#                   UNIT CELL INFORMATION                                    #
#----------------------------------------------------------------------------#

_symmetry_cell_setting                  orthorhombic
_symmetry_space_group_name_H-M          'P 21 21 21'
_symmetry_space_group_name_Hall         'P 2ac 2ab'
_symmetry_Int_Tables_number             19
loop_
    _symmetry_equiv_pos_as_xyz
'x, y, z'
'-x+1/2, -y, z+1/2'
'-x, y+1/2, -z+1/2'
'x+1/2, -y+1/2, -z'

_cell_length_a                          8.4739(3)
_cell_length_b                          9.5292(4)
_cell_length_c                          12.2609(4)
_cell_angle_alpha                       90
_cell_angle_beta                        90
_cell_angle_gamma                       90
_cell_volume                            990.06(6)
_cell_formula_units_Z                   4
_cell_measurement_temperature           103(2)
_cell_measurement_reflns_used           30132
_cell_measurement_theta_min             2.91
_cell_measurement_theta_max             27.48
_cell_measurement_wavelength            0.71073

#----------------------------------------------------------------------------#
#                   CRYSTAL INFORMATION                                      #
#----------------------------------------------------------------------------#

_exptl_crystal_description              plate
_exptl_crystal_colour                   dark
_exptl_crystal_size_max                 0.13
_exptl_crystal_size_mid                 0.114
_exptl_crystal_size_min                 0.024
_exptl_crystal_density_diffrn           3.641
_exptl_crystal_density_method           'not measured'
_exptl_crystal_F_000                    988
loop_
    _exptl_crystal_face_index_h
    _exptl_crystal_face_index_k
    _exptl_crystal_face_index_l
    _exptl_crystal_face_perp_dist
1 1 0 0.057
-1 -1 0 0.057
1 -1 0 0.065
-1 1 0 0.065
0 0 1 0.012
0 0 -1 0.012
0 1 0 0.068
0 -1 0 0.056


#----------------------------------------------------------------------------#
#                   ABSORPTION CORRECTION                                    #
#----------------------------------------------------------------------------#

_exptl_absorpt_coefficient_mu           19.079
_exptl_absorpt_correction_type          multi-scan
_exptl_absorpt_process_details
;
        [c.f. r.h. blessing, acta cryst. (1995), a51, 33-38]
;
_exptl_absorpt_correction_T_min         0.2268
_exptl_absorpt_correction_T_max         0.4958
_shelx_estimated_absorpt_T_min          0.191
_shelx_estimated_absorpt_T_max          0.657

#----------------------------------------------------------------------------#
#                   DATA COLLECTION                                          #
#----------------------------------------------------------------------------#

_diffrn_source                          'Enraf Nonius FR590'
_diffrn_ambient_temperature             103(2)
_diffrn_radiation_wavelength            0.71073
_diffrn_radiation_type                  MoK\a
_diffrn_radiation_monochromator         'horizonally mounted graphite crystal'
_diffrn_radiation_probe                 x-ray
_diffrn_detector                        'CCD plate'
_diffrn_detector_area_resol_mean        9
_diffrn_orient_matrix_ub_11             0.106158
_diffrn_orient_matrix_ub_12             -0.018059
_diffrn_orient_matrix_ub_13             0.032741
_diffrn_orient_matrix_ub_21             -0.043068
_diffrn_orient_matrix_ub_22             -0.084068
_diffrn_orient_matrix_ub_23             0.038692
_diffrn_orient_matrix_ub_31             0.028317
_diffrn_orient_matrix_ub_32             -0.060158
_diffrn_orient_matrix_ub_33             -0.063898
_diffrn_measurement_device              '95mm CCD camera on κ-goniostat'
_diffrn_measurement_device_type         KappaCCD
_diffrn_measurement_method              'CCD rotation images, thick slices'
_diffrn_standards_number                0
_diffrn_standards_interval_time         .
_diffrn_standards_interval_count        .
_diffrn_standards_decay_%               ?
_diffrn_reflns_av_R_equivalents         0.136
_diffrn_reflns_av_unetI/netI            0.0889
_diffrn_reflns_number                   8533
_diffrn_reflns_limit_h_min              -11
_diffrn_reflns_limit_h_max              11
_diffrn_reflns_limit_k_min              -12
_diffrn_reflns_limit_k_max              12
_diffrn_reflns_limit_l_min              -15
_diffrn_reflns_limit_l_max              15
_diffrn_reflns_theta_min                2.922
_diffrn_reflns_theta_max                27.505
_diffrn_reflns_theta_full               25.242
_diffrn_measured_fraction_theta_full
                                        0.978
_diffrn_measured_fraction_theta_max
                                        0.977
_diffrn_reflns_Laue_measured_fraction_full
                                        0.978
_diffrn_reflns_Laue_measured_fraction_max
                                        0.977
_diffrn_reflns_point_group_measured_fraction_full
                                        0.97
_diffrn_reflns_point_group_measured_fraction_max
                                        0.963
_reflns_Friedel_fraction_full           0.958
_reflns_Friedel_fraction_max            0.945
_reflns_Friedel_coverage                0.691
_reflns_number_total                    2185
_reflns_number_gt                       1973
_reflns_threshold_expression            'I > 2σ(I)'

#----------------------------------------------------------------------------#
#                   COMPUTER PROGRAMS USED                                   #
#----------------------------------------------------------------------------#

_computing_data_collection              'Collect (Bruker AXS BV, 1997-2004)'
_computing_cell_refinement
                                       'HKL Scalepack (Otwinowski & Minor 1997)'
_computing_data_reduction
                             'HKL Denzo and Scalepack (Otwinowski & Minor 1997)'
_computing_structure_refinement         'SHELXL-2018/3 (Sheldrick, 2018)'
_computing_molecular_graphics           'Ortep for Windows (Farrugia, 2012)'
_computing_publication_material
                                   'WinGX publication routines (Farrugia, 2012)'

#----------------------------------------------------------------------------#
#                   STRUCTURE SOLUTION                                       #
#----------------------------------------------------------------------------#


#----------------------------------------------------------------------------#
#                   REFINEMENT INFORMATION                                   #
#----------------------------------------------------------------------------#

_shelx_SHELXL_version_number            2018/3
_refine_ls_structure_factor_coef        Fsqd
_refine_ls_matrix_type                  full
_refine_ls_weighting_scheme             calc
_refine_ls_weighting_details
                      'w=1/[σ²(Fo²)+(0.1065P)²] where P=(Fo²+2Fc²)/3'
_refine_ls_hydrogen_treatment           undef
_refine_ls_extinction_method            none
_refine_ls_number_reflns                2185
_refine_ls_number_parameters            100
_refine_ls_number_restraints            0
_refine_ls_number_constraints           0
_refine_ls_R_factor_all                 0.0685
_refine_ls_R_factor_gt                  0.0619
_refine_ls_wR_factor_ref                0.1588
_refine_ls_wR_factor_gt                 0.1543
_refine_ls_goodness_of_fit_ref          1.065
_refine_ls_restrained_S_all             1.065
_refine_ls_shift/su_max                 0
_refine_ls_shift/su_mean                0
_refine_ls_abs_structure_details
;
 Flack x determined using 717 quotients [(I+)-(I-)]/[(I+)+(I-)]
 (Parsons, Flack and Wagner, Acta Cryst. B69 (2013) 249-259).
;
_refine_ls_abs_structure_Flack          -0.015(8)
_refine_diff_density_max                4.237
_refine_diff_density_min                -5.472
_refine_diff_density_rms                0.586

#----------------------------------------------------------------------------#
#                   CONSTRAINTS AND RESTRAINTS                               #
#----------------------------------------------------------------------------#


#----------------------------------------------------------------------------#
#                   ATOMIC TYPES, COORDINATES AND THERMAL PARAMETERS         #
#----------------------------------------------------------------------------#

loop_
    _atom_type_symbol
    _atom_type_description
    _atom_type_scat_dispersion_real
    _atom_type_scat_dispersion_imag
    _atom_type_scat_source
Cr Cr 0.3209 0.6236 'International Tables Vol C Tables 4.2.6.8 and 6.1.1.4'
P P 0.1023 0.0942 'International Tables Vol C Tables 4.2.6.8 and 6.1.1.4'
S S 0.1246 0.1234 'International Tables Vol C Tables 4.2.6.8 and 6.1.1.4'
Tl Tl -2.8358 9.6688 'International Tables Vol C Tables 4.2.6.8 and 6.1.1.4'

loop_
    _atom_site_label
    _atom_site_type_symbol
    _atom_site_fract_x
    _atom_site_fract_y
    _atom_site_fract_z
    _atom_site_U_iso_or_equiv
    _atom_site_adp_type
    _atom_site_occupancy
    _atom_site_site_symmetry_order
    _atom_site_calc_flag
    _atom_site_refinement_flags_posn
    _atom_site_refinement_flags_adp
    _atom_site_refinement_flags_occupancy
    _atom_site_disorder_assembly
    _atom_site_disorder_group
Tl1 Tl 0.31450(9) 0.45642(11) 0.51051(6) 0.0263(3) Uani 1 1 d . . . . .
Cr1 Cr 0.2588(3) 0.9045(3) 0.7513(2) 0.0116(7) Uani 1 1 d . . . . .
S1 S 1.0677(5) 0.8731(5) 0.8938(4) 0.0142(9) Uani 1 1 d . . . . .
S2 S 0.4326(5) 0.7381(5) 0.8401(4) 0.0146(10) Uani 1 1 d . . . . .
S3 S 0.8674(5) 0.5793(5) 0.8638(4) 0.0147(10) Uani 1 1 d . . . . .
S4 S 1.1042(5) 0.7263(6) 0.6596(4) 0.0147(10) Uani 1 1 d . . . . .
P1 P 0.9517(5) 0.7501(5) 0.7848(4) 0.0118(10) Uani 1 1 d . . . . .
P2 P 0.5640(5) 0.7561(5) 0.7024(4) 0.0116(10) Uani 1 1 d . . . . .
S5 S 0.4415(5) 0.8835(5) 0.6032(4) 0.0144(10) Uani 1 1 d . . . . .
S6 S 0.7640(5) 0.8832(6) 0.7330(4) 0.0167(10) Uani 1 1 d . . . . .
S7 S 0.6256(5) 0.5774(5) 0.6270(4) 0.0142(10) Uani 1 1 d . . . . .

loop_
    _atom_site_aniso_label
    _atom_site_aniso_U_11
    _atom_site_aniso_U_22
    _atom_site_aniso_U_33
    _atom_site_aniso_U_23
    _atom_site_aniso_U_13
    _atom_site_aniso_U_12
Tl1 0.0178(4) 0.0373(6) 0.0239(4) -0.0013(4) 0.0010(3) -0.0021(4)
Cr1 0.0080(12) 0.0110(16) 0.0158(15) 0.0002(11) 0.0005(11) 0.0018(11)
S1 0.009(2) 0.015(3) 0.018(2) -0.0011(18) 0.0030(16) -0.0031(19)
S2 0.014(2) 0.011(3) 0.019(2) 0.0032(17) 0.0030(16) 0.003(2)
S3 0.014(2) 0.011(2) 0.019(2) 0.0009(18) -0.0026(16) -0.0013(18)
S4 0.0121(18) 0.016(3) 0.016(2) -0.0003(19) 0.0023(16) -0.0016(18)
P1 0.0088(19) 0.008(3) 0.019(2) -0.0015(17) -0.0007(17) -0.0019(19)
P2 0.0085(19) 0.011(3) 0.015(2) 0.0001(18) 0.0009(15) -0.002(2)
S5 0.011(2) 0.016(3) 0.017(2) 0.0037(18) 0.0023(16) 0.0001(19)
S6 0.0111(18) 0.015(3) 0.024(2) 0.001(2) -0.0021(17) -0.0005(18)
S7 0.014(2) 0.012(2) 0.017(2) -0.0014(18) -0.0009(16) 0.0035(18)


#----------------------------------------------------------------------------#
#                   MOLECULAR GEOMETRY                                       #
#----------------------------------------------------------------------------#

_geom_special_details
;
 All esds (except the esd in the dihedral angle between two l.s. planes)
 are estimated using the full covariance matrix.  The cell esds are taken
 into account individually in the estimation of esds in distances, angles
 and torsion angles; correlations between esds in cell parameters are only
 used when they are defined by crystal symmetry.  An approximate (isotropic)
 treatment of cell esds is used for estimating esds involving l.s. planes.
;
loop_
    _geom_bond_atom_site_label_1
    _geom_bond_atom_site_label_2
    _geom_bond_distance
    _geom_bond_site_symmetry_2
    _geom_bond_publ_flag
Cr1 S5 2.394(5) . ?
Cr1 S1 2.400(5) 1_455 ?
Cr1 S4 2.422(6) 1_455 ?
Cr1 S2 2.423(5) . ?
Cr1 S7 2.429(6) 3_656 ?
Cr1 S3 2.431(6) 3_656 ?
S1 P1 2.031(7) . ?
S2 P2 2.030(7) . ?
S3 P1 2.025(7) . ?
S4 P1 2.019(7) . ?
P1 S6 2.131(6) . ?
P2 S7 2.007(7) . ?
P2 S5 2.008(7) . ?
P2 S6 2.116(6) . ?

loop_
    _geom_angle_atom_site_label_1
    _geom_angle_atom_site_label_2
    _geom_angle_atom_site_label_3
    _geom_angle
    _geom_angle_site_symmetry_1
    _geom_angle_site_symmetry_3
    _geom_angle_publ_flag
S5 Cr1 S1 167.8(2) . 1_455 ?
S5 Cr1 S4 86.53(18) . 1_455 ?
S1 Cr1 S4 83.43(18) 1_455 1_455 ?
S5 Cr1 S2 83.86(18) . . ?
S1 Cr1 S2 90.08(18) 1_455 . ?
S4 Cr1 S2 94.5(2) 1_455 . ?
S5 Cr1 S7 105.16(18) . 3_656 ?
S1 Cr1 S7 84.79(18) 1_455 3_656 ?
S4 Cr1 S7 168.2(2) 1_455 3_656 ?
S2 Cr1 S7 85.55(19) . 3_656 ?
S5 Cr1 S3 84.34(18) . 3_656 ?
S1 Cr1 S3 102.20(18) 1_455 3_656 ?
S4 Cr1 S3 88.45(19) 1_455 3_656 ?
S2 Cr1 S3 167.6(2) . 3_656 ?
S7 Cr1 S3 93.98(19) 3_656 3_656 ?
P1 S1 Cr1 85.4(2) . 1_655 ?
P2 S2 Cr1 84.5(2) . . ?
P1 S3 Cr1 115.3(3) . 3_646 ?
P1 S4 Cr1 85.1(2) . 1_655 ?
S4 P1 S3 119.9(3) . . ?
S4 P1 S1 104.8(3) . . ?
S3 P1 S1 108.6(3) . . ?
S4 P1 S6 108.6(3) . . ?
S3 P1 S6 111.0(3) . . ?
S1 P1 S6 102.4(3) . . ?
S7 P2 S5 111.6(3) . . ?
S7 P2 S2 117.0(3) . . ?
S5 P2 S2 105.7(3) . . ?
S7 P2 S6 111.0(3) . . ?
S5 P2 S6 100.1(3) . . ?
S2 P2 S6 109.9(3) . . ?
P2 S5 Cr1 85.7(2) . . ?
P2 S6 P1 108.1(3) . . ?
P2 S7 Cr1 113.4(3) . 3_646 ?

_iucr_refine_instructions_details
;
TITL shelxt_a.res in P2(1)2(1)2(1)
    shelx.res
    created by SHELXL-2018/3 at 19:30:40 on 31-Jul-2023
CELL  0.71073   8.4739   9.5292  12.2609   90.000   90.000   90.000
ZERR     4.00   0.0003   0.0004   0.0004    0.000    0.000    0.000
LATT  -1
SYMM  1/2 - X, - Y, 1/2 + Z
SYMM  - X, 1/2 + Y, 1/2 - Z
SYMM  1/2 + X, 1/2 - Y, - Z
SFAC  CR   P    S    TL
UNIT  4 8 28 4
TEMP -170
SIZE 0.024 0.114 0.13
MERG   2
FMAP   2
PLAN   20
ACTA
BOND
LIST   4
L.S.  10
WGHT    0.106500
FVAR       0.13472
TL1   4    0.314500    0.456415    0.510505    11.00000    0.01780    0.03732 =
         0.02390   -0.00127    0.00101   -0.00206
CR1   1    0.258775    0.904484    0.751281    11.00000    0.00796    0.01096 =
         0.01584    0.00016    0.00051    0.00176
S1    3    1.067732    0.873090    0.893764    11.00000    0.00906    0.01547 =
         0.01803   -0.00109    0.00297   -0.00314
S2    3    0.432601    0.738108    0.840100    11.00000    0.01433    0.01093 =
         0.01857    0.00322    0.00301    0.00314
S3    3    0.867402    0.579285    0.863828    11.00000    0.01390    0.01118 =
         0.01896    0.00095   -0.00263   -0.00131
S4    3    1.104154    0.726272    0.659569    11.00000    0.01210    0.01560 =
         0.01647   -0.00029    0.00230   -0.00164
P1    2    0.951675    0.750143    0.784770    11.00000    0.00877    0.00784 =
         0.01870   -0.00150   -0.00075   -0.00189
P2    2    0.564011    0.756093    0.702390    11.00000    0.00847    0.01148 =
         0.01485    0.00006    0.00088   -0.00192
S5    3    0.441536    0.883543    0.603225    11.00000    0.01082    0.01587 =
         0.01661    0.00367    0.00234    0.00006
S6    3    0.763979    0.883206    0.733013    11.00000    0.01110    0.01509 =
         0.02382    0.00057   -0.00208   -0.00049
S7    3    0.625632    0.577367    0.626962    11.00000    0.01448    0.01157 =
         0.01659   -0.00144   -0.00091    0.00348
HKLF    4




REM  shelxt_a.res in P2(1)2(1)2(1)
REM wR2 = 0.1588, GooF = S = 1.065, Restrained GooF = 1.065 for all data
REM R1 = 0.0619 for 1973 Fo > 4sig(Fo) and 0.0685 for all 2185 data
REM 100 parameters refined using 0 restraints

END

WGHT      0.1066      0.0000

REM Highest difference peak  4.237,  deepest hole -5.472,  1-sigma level  0.586
Q1    1   0.3210  0.5458  0.4998  11.00000  0.05    4.24
Q2    1   0.3165  0.4515  0.4427  11.00000  0.05    3.30
Q3    1   0.3165  0.4456  0.5830  11.00000  0.05    2.81
Q4    1   0.8494  0.5498  0.9424  11.00000  0.05    2.63
Q5    1   0.2771  0.5393  0.5861  11.00000  0.05    2.37
Q6    1   0.3760  0.5312  0.5941  11.00000  0.05    2.25
Q7    1   0.6817  0.4472  0.5148  11.00000  0.05    2.15
Q8    1   0.2508  0.5300  0.4220  11.00000  0.05    1.77
Q9    1   0.2275  0.3951  0.5983  11.00000  0.05    1.63
Q10   1   0.4016  0.3959  0.5987  11.00000  0.05    1.59
Q11   1   0.8480  0.5483  0.7980  11.00000  0.05    1.50
Q12   1   0.2217  0.3986  0.4258  11.00000  0.05    1.49
Q13   1   0.4317  0.7446  0.9146  11.00000  0.05    1.45
Q14   1   0.3919  0.5222  0.4210  11.00000  0.05    1.45
Q15   1   0.1741  0.3825  0.5097  11.00000  0.05    1.45
Q16   1   1.1217  0.7594  0.5781  11.00000  0.05    1.44
Q17   1   0.3366  0.8225  0.6771  11.00000  0.05    1.42
Q18   1   0.3938  0.7776  0.5141  11.00000  0.05    1.41
Q19   1   0.7983  0.9560  0.6415  11.00000  0.05    1.41
Q20   1   0.3229  0.3568  0.5076  11.00000  0.05    1.40
;

# END of CIF
