#\#CIF_1.1

#  CIF produced by WinGX routine CIF_UPDATE
#  Created on 2023-08-01 at 17:42:39
#  Using CIFtbx version 3.0.4  1 Sep 2006

#  Dictionary name : cif_core.dic
#  Dictionary vers : 2.4.5
#  Request file    : c:\program files (x86)\wingx\files\archive.reqdat
#  CIF files read  : shelx project

#------------------ SECTION 1. GLOBAL INFORMATION ---------------------------#

data_global

#------------------ AUDIT DETAILS -------------------------------------------#

_audit_creation_date            2023-08-01
_audit_creation_method          'WinGX routine CIF_UPDATE'
_audit_conform_dict_name        cif_core.dic
_audit_conform_dict_version     2.4.3
_audit_conform_dict_location    ftp://ftp.iucr.org/pub/cif_core.dic
_audit_update_record            ?

#------------------ AUTHOR DETAILS -------------------------------------------#

# Name and address of author for correspondence

_publ_contact_author_name       ' ,  '
_publ_contact_author_address
;

;
_publ_contact_author_email       ' '
_publ_contact_author_fax         ' '
_publ_contact_author_phone       ' '


# Insert blank lines between references

_publ_section_references
;
Blessing, R. H. (1995) Acta Cryst., A51, 33-38.

Blessing, R. H. (1987) Cryst. Rev. 1, 3-58.

Blessing, R. H. (1989) J. Appl. Cryst. 22, 396-397.

Bruker (2012) APEX2 (Version 2012.10-0), SAINT (version 8.27B), SADABS
(version 2012/1), BrukerAXS Inc, Madison, Wisconsin, USA.

ABSCOR: Higashi, T. (1995). ABSCOR. Rigaku Corporation, Tokyo, Japan.

CAD-4 Software: Enraf-Nonius (1989). CAD-4 Software (or CAD-4 EXPRESS).
Enraf-Nonius, Delft, The Netherlands.

Cambridge Structural Database: Allen, F. R. (2002). Acta Cryst. B58, 380-388.

CAMERON: Watkin, D. J., Prout, C. K. & Pearce, L. J. (1996). CAMERON.
Chemical Crystallography Laboratory, Oxford, England.

CrysAlis CCD, CrysAlis RED and associated programs: Oxford Diffraction (2006).
Program name(s). Oxford Diffraction Ltd, Abingdon, England.

CRYSTALS: Betteridge, P. W., Carruthers, J. R., Cooper, R. I., Prout, K. &
Watkin, D. J. (2003). J. Appl. Cryst. 36, 1487.

COLLECT: Nonius (1998). COLLECT. Nonius BV, Delft, The Netherlands.

DENZO/SCALEPACK:  Otwinowski, Z. & Minor, W. (1997). Methods in Enzymology,
Vol. 276, Macromolecular Crystallography, Part A, edited by C. W. Carter Jr
& R. M. Sweet, pp. 307-326. New York: Academic Press.

DIAMOND: Brandenburg, K.(2006). DIAMOND. Crystal Impact GbR, Bonn, Germany.

DIF4 and REDU4: Stoe & Cie (1991). Program name(s). Stoe & Cie, Darmstadt,
Germany.

DIFABS: Walker, N. &  Stuart, D. (1983). Acta Cryst., A39, 158 - 166.

DIRAX: Duisenberg, A. J. M. (1992). J. Appl. Cryst. 25, 92-96.

DIRDIF-2008: Beurskens, P.T., Beurskens, G., de Gelder, R., Garciía-Granda,
S., Gould, R.O. & Smits, J.M.M. (2008) The DIRDIF-2008 program
system, Crystallography Laboratory, Radboud University  Nijmegen,
The Netherlands.

EDMA: Palatinus, L., Prathapa, S. J. & van Smaalen, S. (2012) J. Appl. Cryst.
45, 575-580.

enCIFer: Allen, F. H., Johnson, O., Shields, G. P., Smith, B. R. & Towler,
M. (2004). J. Appl. Cryst. 37, 335-338.

EVALCCD: Duisenberg, A. J. M., Kroon-Batenburg, L. M. J. & Schreurs,
A. M. M. (2003). J. Appl. Cryst. 36, 220-229.

JANA2000: Petricek, V. & Dusek, M. (2000). JANA2000. Institute of Physics,
Czech Academy of Sciences, Prague, Czech Republic.

MERCURY: Macrae, C. F., Bruno, I. J., Chisholm, J. A., Edgington,
P. R., McCabe, P., Pidcock, E., Rodriguez-Monge, L., Taylor, R.,
van de Streek, J. & Wood, P. A. (2008). J. Appl. Cryst. 41, 466-470.

MOGUL: Bruno, I. J., Cole, J. C., Kessler, M., Luo, J., Motherwell,
W. D. S., Purkis, L. H., Smith, B. R., Taylor, R., Cooper, R. I., Harris,
S. E. & Orpen, A. G. (2004). J. Chem. Inf. Comput. Sci. 44, 2133-2144.

ORTEPII: Johnson, C. K. (1976). ORTEPII. Report ORNL-5138. Oak Ridge
National Laboratory, Tennessee, USA.

ORTEPIII:  Burnett, M. N. & Johnson, C. K. (1996). ORTEPIII.
Report ORNL-6895. Oak Ridge National Laboratory, Tennessee, USA.

ORTEP-3: Farrugia, L. J. (2012). J. Appl. Cryst. 45, 849-854.

PARST: Nardelli, M. (1995). J. Appl. Cryst. 28, 659.

PLATON: Spek, A. L. (2009). Acta. Cryst. D65, 148-155.

PROCESS: Rigaku (1996). PROCESS. Rigaku Corporation, Tokyo, Japan.

PROCESS-AUTO: Rigaku (1998). PROCESS-AUTO. Rigaku Corporation, Tokyo, Japan.

PublCIF: Westrip, S. P. (2010). J. Appl. Cryst. 43, 920-925.

SCHAKAL: Keller, E. (1999) University of Freiburg, Germany.

SHELX: Sheldrick, G. M. (2015). Acta Cryst. C71, 3-8.

SHELXD: Schneider, T. R. & Sheldrick, G. M. (2002) Acta Cryst. D58, 1772-1779.

SHELXT: Sheldrick, G. M. (2015). Acta Cryst. A71, 3-8.

SIR92: Altomare, A., Cascarano, G., Giacovazzo, C., Guagliardi, A., Burla,
M. C., Polidori, G. & Camalli, M. (1994). J. Appl. Cryst. 27, 435.

SIR97: Altomare, A., Burla, M. C., Camalli, M., Cascarano, G. L.,
Giacovazzo, C., Guagliardi, A., Moliterni, A. G. G., Polidori, G. &
Spagna, R. (1999). J. Appl. Cryst. 32, 115-119.

SIR2002: Burla, M. C., Camalli, M., Carrozzini, B., Cascarano, G. L.,
Giacovazzo, C., Polidori, G. & Spagna, R. (2003). J. Appl. Cryst. 36, 1103.

SIR2004: Burla, M. C., Caliandro, R., Camalli, M., Carrozzini, B.,
Cascarano, G. L., De Caro, L., Giacovazzo, C., Polidori, G. & Spagna, R.
(2005). J. Appl. Cryst. 38, 381-388.

SIR2008 & IL MILIONE: Burla, M. C., Caliandro, R., Camalli, M., Carrozzini, B.,
Cascarano, G. L., De Caro, L., Giacovazzo, C., Polidori, G., Siliqi, D.,
& Spagna, R. (2007). J. Appl. Cryst. 40, 609-613.

SIR2011: Burla, M. C., Caliandro, R., Camalli, M., Carrozzini, B.,
Cascarano, G. L., Giacovazzo, C., Mallamo, M., Mazzone, A., Polidori, G.
& Spagna, R. (2012). J. Appl. Cryst. 45, 357-361.

SUPERFLIP: Palatinus, L. & Chapuis, G. (2007) J. Appl. Cryst. 40, 786-790.

TEXSAN: Molecular Structure Corporation & Rigaku (2000). TEXSAN. MSC,
The Woodlands, Texas, USA, and Rigaku Corporation, Tokyo, Japan.

WinGX: Farrugia, L. J. (2012). J. Appl. Cryst. 45, 849-854.

X-AREA, X-RED, X-RED32, X-SHAPE:  Stoe & Cie (2002). Program name(s).
Stoe & Cie GmbH, Darmstadt, Germany.

XCAD4: Harms, K. & Wocadlo, S. (1995). XCAD4. University of Marburg, Germany.

XSCANS: Siemens (1994). XSCANS. Siemens Analytical X-ray Instruments Inc.,
Madison, Wisconsin, USA.

;

#------------------  SECTION 2. COMPOUND(S) DETAILS -------------------------#

data_shelx

_audit_creation_date                    2023-08-01T17:42:39-00:00
_audit_creation_method                  'WinGX routine CIF_UPDATE'
_audit_conform_dict_name                cif_core.dic
_audit_conform_dict_version             2.4.5
_audit_conform_dict_location            ftp://ftp.iucr.org/pub/cif_core.dic
_publ_requested_category                FI

#----------------------------------------------------------------------------#
#                   CHEMICAL INFORMATION                                     #
#----------------------------------------------------------------------------#

_chemical_formula_sum                   'Cr P2 S7 Tl'
_chemical_formula_weight                542.73
_chemical_absolute_configuration        unk

#----------------------------------------------------------------------------#
#                   UNIT CELL INFORMATION                                    #
#----------------------------------------------------------------------------#

_symmetry_cell_setting                  orthorhombic
_symmetry_space_group_name_H-M          'C 2 2 21'
_symmetry_space_group_name_Hall         'C 2c 2'
_symmetry_Int_Tables_number             20
loop_
    _symmetry_equiv_pos_as_xyz
'x, y, z'
'-x, -y, z+1/2'
'-x, y, -z+1/2'
'x, -y, -z'
'x+1/2, y+1/2, z'
'-x+1/2, -y+1/2, z+1/2'
'-x+1/2, y+1/2, -z+1/2'
'x+1/2, -y+1/2, -z'

_cell_length_a                          8.4837(5)
_cell_length_b                          9.5308(6)
_cell_length_c                          12.3300(6)
_cell_angle_alpha                       90
_cell_angle_beta                        90
_cell_angle_gamma                       90
_cell_volume                            996.96(10)
_cell_formula_units_Z                   4
_cell_measurement_temperature           223(2)
_cell_measurement_reflns_used           27088
_cell_measurement_theta_min             2.91
_cell_measurement_theta_max             27.48
_cell_measurement_wavelength            0.71073

#----------------------------------------------------------------------------#
#                   CRYSTAL INFORMATION                                      #
#----------------------------------------------------------------------------#

_exptl_crystal_description              plate
_exptl_crystal_colour                   dark
_exptl_crystal_size_max                 0.13
_exptl_crystal_size_mid                 0.114
_exptl_crystal_size_min                 0.024
_exptl_crystal_density_diffrn           3.616
_exptl_crystal_density_method           'not measured'
_exptl_crystal_F_000                    988
loop_
    _exptl_crystal_face_index_h
    _exptl_crystal_face_index_k
    _exptl_crystal_face_index_l
    _exptl_crystal_face_perp_dist
1 1 0 0.057
-1 -1 0 0.057
1 -1 0 0.065
-1 1 0 0.065
0 0 1 0.012
0 0 -1 0.012
0 1 0 0.068
0 -1 0 0.056


#----------------------------------------------------------------------------#
#                   ABSORPTION CORRECTION                                    #
#----------------------------------------------------------------------------#

_exptl_absorpt_coefficient_mu           18.947
_exptl_absorpt_correction_type          multi-scan
_exptl_absorpt_process_details
;
        [c.f. r.h. blessing, acta cryst. (1995), a51, 33-38]
;
_exptl_absorpt_correction_T_min         0.2298
_exptl_absorpt_correction_T_max         0.4868
_shelx_estimated_absorpt_T_min          0.192
_shelx_estimated_absorpt_T_max          0.659

#----------------------------------------------------------------------------#
#                   DATA COLLECTION                                          #
#----------------------------------------------------------------------------#

_diffrn_source                          'Enraf Nonius FR590'
_diffrn_ambient_temperature             223(2)
_diffrn_radiation_wavelength            0.71073
_diffrn_radiation_type                  MoK\a
_diffrn_radiation_monochromator         'horizonally mounted graphite crystal'
_diffrn_radiation_probe                 x-ray
_diffrn_detector                        'CCD plate'
_diffrn_detector_area_resol_mean        9
_diffrn_orient_matrix_ub_11             0.106034
_diffrn_orient_matrix_ub_12             0.01011
_diffrn_orient_matrix_ub_13             0.034553
_diffrn_orient_matrix_ub_21             -0.010404
_diffrn_orient_matrix_ub_22             -0.096021
_diffrn_orient_matrix_ub_23             0.0319
_diffrn_orient_matrix_ub_31             0.050425
_diffrn_orient_matrix_ub_32             -0.041069
_diffrn_orient_matrix_ub_33             -0.066077
_diffrn_measurement_device              '95mm CCD camera on κ-goniostat'
_diffrn_measurement_device_type         KappaCCD
_diffrn_measurement_method              'CCD rotation images, thick slices'
_diffrn_standards_number                0
_diffrn_standards_interval_time         .
_diffrn_standards_interval_count        .
_diffrn_standards_decay_%               ?
_diffrn_reflns_av_R_equivalents         0.1486
_diffrn_reflns_av_unetI/netI            0.096
_diffrn_reflns_number                   4477
_diffrn_reflns_limit_h_min              -11
_diffrn_reflns_limit_h_max              11
_diffrn_reflns_limit_k_min              -12
_diffrn_reflns_limit_k_max              12
_diffrn_reflns_limit_l_min              -15
_diffrn_reflns_limit_l_max              16
_diffrn_reflns_theta_min                3.215
_diffrn_reflns_theta_max                27.494
_diffrn_reflns_theta_full               25.242
_diffrn_measured_fraction_theta_full
                                        0.985
_diffrn_measured_fraction_theta_max
                                        0.976
_diffrn_reflns_Laue_measured_fraction_full
                                        0.985
_diffrn_reflns_Laue_measured_fraction_max
                                        0.976
_diffrn_reflns_point_group_measured_fraction_full
                                        0.978
_diffrn_reflns_point_group_measured_fraction_max
                                        0.964
_reflns_Friedel_fraction_full           0.968
_reflns_Friedel_fraction_max            0.947
_reflns_Friedel_coverage                0.689
_reflns_number_total                    1106
_reflns_number_gt                       888
_reflns_threshold_expression            'I > 2σ(I)'

#----------------------------------------------------------------------------#
#                   COMPUTER PROGRAMS USED                                   #
#----------------------------------------------------------------------------#

_computing_data_collection              'Collect (Bruker AXS BV, 1997-2004)'
_computing_cell_refinement
                                       'HKL Scalepack (Otwinowski & Minor 1997)'
_computing_data_reduction
                             'HKL Denzo and Scalepack (Otwinowski & Minor 1997)'
_computing_structure_refinement         'SHELXL-2018/3 (Sheldrick, 2018)'
_computing_molecular_graphics           'Ortep for Windows (Farrugia, 2012)'
_computing_publication_material
                                   'WinGX publication routines (Farrugia, 2012)'

#----------------------------------------------------------------------------#
#                   STRUCTURE SOLUTION                                       #
#----------------------------------------------------------------------------#


#----------------------------------------------------------------------------#
#                   REFINEMENT INFORMATION                                   #
#----------------------------------------------------------------------------#

_shelx_SHELXL_version_number            2018/3
_refine_ls_structure_factor_coef        Fsqd
_refine_ls_matrix_type                  full
_refine_ls_weighting_scheme             calc
_refine_ls_weighting_details
                      'w=1/[σ²(Fo²)+(0.1235P)²] where P=(Fo²+2Fc²)/3'
_refine_ls_hydrogen_treatment           undef
_refine_ls_extinction_method            'SHELXL-2018/3 (Sheldrick 2018)'
_refine_ls_extinction_expression
                                    Fc^*^=kFc[1+0.001xFc²λ³/sin(2θ)]^-1/4^
_refine_ls_extinction_coef              0.0054(15)
_refine_ls_number_reflns                1106
_refine_ls_number_parameters            53
_refine_ls_number_restraints            0
_refine_ls_number_constraints           0
_refine_ls_R_factor_all                 0.0911
_refine_ls_R_factor_gt                  0.0745
_refine_ls_wR_factor_ref                0.1944
_refine_ls_wR_factor_gt                 0.1808
_refine_ls_goodness_of_fit_ref          1.058
_refine_ls_restrained_S_all             1.058
_refine_ls_shift/su_max                 0
_refine_ls_shift/su_mean                0
_refine_ls_abs_structure_details
;
 Flack x determined using 297 quotients [(I+)-(I-)]/[(I+)+(I-)]
 (Parsons, Flack and Wagner, Acta Cryst. B69 (2013) 249-259).
;
_refine_ls_abs_structure_Flack          -0.017(10)
_refine_diff_density_max                2.825
_refine_diff_density_min                -3.265
_refine_diff_density_rms                0.458

#----------------------------------------------------------------------------#
#                   CONSTRAINTS AND RESTRAINTS                               #
#----------------------------------------------------------------------------#


#----------------------------------------------------------------------------#
#                   ATOMIC TYPES, COORDINATES AND THERMAL PARAMETERS         #
#----------------------------------------------------------------------------#

loop_
    _atom_type_symbol
    _atom_type_description
    _atom_type_scat_dispersion_real
    _atom_type_scat_dispersion_imag
    _atom_type_scat_source
Cr Cr 0.3209 0.6236 'International Tables Vol C Tables 4.2.6.8 and 6.1.1.4'
P P 0.1023 0.0942 'International Tables Vol C Tables 4.2.6.8 and 6.1.1.4'
S S 0.1246 0.1234 'International Tables Vol C Tables 4.2.6.8 and 6.1.1.4'
Tl Tl -2.8358 9.6688 'International Tables Vol C Tables 4.2.6.8 and 6.1.1.4'

loop_
    _atom_site_label
    _atom_site_type_symbol
    _atom_site_fract_x
    _atom_site_fract_y
    _atom_site_fract_z
    _atom_site_U_iso_or_equiv
    _atom_site_adp_type
    _atom_site_occupancy
    _atom_site_site_symmetry_order
    _atom_site_calc_flag
    _atom_site_refinement_flags_posn
    _atom_site_refinement_flags_adp
    _atom_site_refinement_flags_occupancy
    _atom_site_disorder_assembly
    _atom_site_disorder_group
Tl1 Tl 0.43567(18) 0.5 0.5 0.0857(11) Uani 1 2 d S T P . .
Cr1 Cr 0.5 0.0959(4) 0.25 0.0214(10) Uani 1 2 d S T P . .
S1 S 0.3127(5) 0.1225(5) 0.3947(4) 0.0252(11) Uani 1 1 d . . . . .
S2 S 0.1195(6) 0.4209(5) 0.3675(4) 0.0268(11) Uani 1 1 d . . . . .
P1 P 0.1939(5) 0.2468(5) 0.2915(4) 0.0240(11) Uani 1 1 d . . . . .
S3 S 0.3347(6) 0.2669(5) 0.1602(4) 0.0306(12) Uani 1 1 d . . . . .
S4 S 0 0.1152(7) 0.25 0.0351(18) Uani 1 2 d S T P . .

loop_
    _atom_site_aniso_label
    _atom_site_aniso_U_11
    _atom_site_aniso_U_22
    _atom_site_aniso_U_33
    _atom_site_aniso_U_23
    _atom_site_aniso_U_13
    _atom_site_aniso_U_12
Tl1 0.0386(9) 0.167(3) 0.0510(11) -0.0263(12) 0 0
Cr1 0.0166(17) 0.020(2) 0.027(2) 0 0.0008(15) 0
S1 0.018(2) 0.025(3) 0.034(2) 0.0024(19) 0.0037(17) 0.0032(17)
S2 0.026(2) 0.022(3) 0.032(2) -0.0033(18) -0.0035(18) 0.0091(19)
P1 0.019(2) 0.020(2) 0.034(3) 0.0005(18) -0.0017(17) 0.0011(18)
S3 0.031(2) 0.029(3) 0.032(3) 0.0033(19) 0.0047(19) 0.008(2)
S4 0.025(3) 0.021(4) 0.059(5) 0 -0.014(3) 0


#----------------------------------------------------------------------------#
#                   MOLECULAR GEOMETRY                                       #
#----------------------------------------------------------------------------#

_geom_special_details
;
 All esds (except the esd in the dihedral angle between two l.s. planes)
 are estimated using the full covariance matrix.  The cell esds are taken
 into account individually in the estimation of esds in distances, angles
 and torsion angles; correlations between esds in cell parameters are only
 used when they are defined by crystal symmetry.  An approximate (isotropic)
 treatment of cell esds is used for estimating esds involving l.s. planes.
;
loop_
    _geom_bond_atom_site_label_1
    _geom_bond_atom_site_label_2
    _geom_bond_distance
    _geom_bond_site_symmetry_2
    _geom_bond_publ_flag
Cr1 S1 2.402(4) 3_655 ?
Cr1 S1 2.402(4) . ?
Cr1 S3 2.419(6) . ?
Cr1 S3 2.419(6) 3_655 ?
Cr1 S2 2.431(6) 7_545 ?
Cr1 S2 2.431(6) 5_545 ?
S1 P1 2.009(7) . ?
S2 P1 2.008(7) . ?
P1 S3 2.021(8) . ?
P1 S4 2.131(6) . ?

loop_
    _geom_angle_atom_site_label_1
    _geom_angle_atom_site_label_2
    _geom_angle_atom_site_label_3
    _geom_angle
    _geom_angle_site_symmetry_1
    _geom_angle_site_symmetry_3
    _geom_angle_publ_flag
S1 Cr1 S1 167.9(3) 3_655 . ?
S1 Cr1 S3 88.42(18) 3_655 . ?
S1 Cr1 S3 83.42(18) . . ?
S1 Cr1 S3 83.42(18) 3_655 3_655 ?
S1 Cr1 S3 88.42(18) . 3_655 ?
S3 Cr1 S3 95.3(3) . 3_655 ?
S1 Cr1 S2 84.58(17) 3_655 7_545 ?
S1 Cr1 S2 103.84(17) . 7_545 ?
S3 Cr1 S2 87.01(18) . 7_545 ?
S3 Cr1 S2 167.72(16) 3_655 7_545 ?
S1 Cr1 S2 103.84(17) 3_655 5_545 ?
S1 Cr1 S2 84.58(17) . 5_545 ?
S3 Cr1 S2 167.72(16) . 5_545 ?
S3 Cr1 S2 87.01(18) 3_655 5_545 ?
S2 Cr1 S2 93.3(3) 7_545 5_545 ?
P1 S1 Cr1 85.6(2) . . ?
P1 S2 Cr1 114.8(3) . 5_455 ?
S2 P1 S1 110.4(3) . . ?
S2 P1 S3 118.8(3) . . ?
S1 P1 S3 105.5(3) . . ?
S2 P1 S4 110.8(3) . . ?
S1 P1 S4 101.1(3) . . ?
S3 P1 S4 108.7(3) . . ?
P1 S3 Cr1 84.9(2) . . ?
P1 S4 P1 107.9(4) 3 . ?

_iucr_refine_instructions_details
;
TITL shelxt_a.res in C222(1)
    shelx.res
    created by SHELXL-2018/3 at 17:41:41 on 01-Aug-2023
CELL  0.71073   8.4837   9.5308  12.3300   90.000   90.000   90.000
ZERR     4.00   0.0005   0.0006   0.0006    0.000    0.000    0.000
LATT  -7
SYMM  - X, - Y, 1/2 + Z
SYMM  - X,   Y, 1/2 - Z
SYMM    X, - Y, - Z
SFAC  CR   P    S    TL
UNIT  4 8 28 4
TEMP -50
SIZE 0.024 0.114 0.13
MERG   2
FMAP   2
PLAN   20
BOND
ACTA
LIST   4
L.S.  10
WGHT    0.123500
EXTI    0.005443
FVAR       0.11855
TL1   4    0.435668    0.500000    0.500000    10.50000    0.03863    0.16742 =
         0.05096   -0.02631    0.00000    0.00000
CR1   1    0.500000    0.095916    0.250000    10.50000    0.01659    0.02048 =
         0.02705    0.00000    0.00085    0.00000
S1    3    0.312713    0.122500    0.394686    11.00000    0.01762    0.02453 =
         0.03360    0.00242    0.00370    0.00320
S2    3    0.119457    0.420882    0.367500    11.00000    0.02628    0.02184 =
         0.03222   -0.00333   -0.00346    0.00914
P1    2    0.193935    0.246760    0.291456    11.00000    0.01851    0.01959 =
         0.03395    0.00051   -0.00169    0.00114
S3    3    0.334688    0.266944    0.160170    11.00000    0.03077    0.02939 =
         0.03157    0.00329    0.00475    0.00806
S4    3    0.000000    0.115185    0.250000    10.50000    0.02460    0.02139 =
         0.05938    0.00000   -0.01414    0.00000
HKLF    4




REM  shelxt_a.res in C222(1)
REM wR2 = 0.1944, GooF = S = 1.058, Restrained GooF = 1.058 for all data
REM R1 = 0.0745 for 888 Fo > 4sig(Fo) and 0.0911 for all 1106 data
REM 53 parameters refined using 0 restraints

END

WGHT      0.1237      0.0000

REM Highest difference peak  2.825,  deepest hole -3.265,  1-sigma level  0.458
Q1    1   0.4339  0.5082  0.5718  11.00000  0.05    2.83
Q2    1   0.4133  0.4435  0.5077  11.00000  0.05    2.35
Q3    1   0.5000 -0.0040  0.2500  10.50000  0.05    1.66
Q4    1   0.0801  0.4049  0.4452  11.00000  0.05    1.37
Q5    1   0.1951  0.0000  0.5000  10.50000  0.05    1.31
Q6    1   0.2019  0.2331  0.3687  11.00000  0.05    1.29
Q7    1   0.1165  0.5010  0.3651  11.00000  0.05    1.18
Q8    1   0.2445  0.2343  0.0754  11.00000  0.05    1.13
Q9    1   0.2755  0.1403  0.3200  11.00000  0.05    1.08
Q10   1   0.1792  0.3386  0.2763  11.00000  0.05    1.07
Q11   1   0.0028  0.0018  0.2910  11.00000  0.05    1.02
Q12   1   0.5026  0.6358  0.5396  11.00000  0.05    1.00
Q13   1   0.3261  0.2664  0.2219  11.00000  0.05    0.96
Q14   1   0.4917  0.0872  0.3215  11.00000  0.05    0.95
Q15   1   0.4492  0.1463  0.5235  11.00000  0.05    0.93
Q16   1   0.3230  0.2549  0.0840  11.00000  0.05    0.93
Q17   1   0.1166  0.4145  0.3007  11.00000  0.05    0.93
Q18   1   0.3690  0.1270  0.4792  11.00000  0.05    0.88
Q19   1   0.3185  0.3629  0.1720  11.00000  0.05    0.85
Q20   1   0.0513  0.2632  0.2304  11.00000  0.05    0.84
;

# END of CIF
