#\#CIF_1.1

#  CIF produced by WinGX routine CIF_UPDATE
#  Created on 2023-07-31 at 19:46:19
#  Using CIFtbx version 3.0.4  1 Sep 2006

#  Dictionary name : cif_core.dic
#  Dictionary vers : 2.4.5
#  Request file    : c:\program files (x86)\wingx\files\archive.reqdat
#  CIF files read  : shelx project

#------------------ SECTION 1. GLOBAL INFORMATION ---------------------------#

data_global

#------------------ AUDIT DETAILS -------------------------------------------#

_audit_creation_date            2023-07-31
_audit_creation_method          'WinGX routine CIF_UPDATE'
_audit_conform_dict_name        cif_core.dic
_audit_conform_dict_version     2.4.3
_audit_conform_dict_location    ftp://ftp.iucr.org/pub/cif_core.dic
_audit_update_record            ?

#------------------ AUTHOR DETAILS -------------------------------------------#

# Name and address of author for correspondence

_publ_contact_author_name       ' ,  '
_publ_contact_author_address
;

;
_publ_contact_author_email       ' '
_publ_contact_author_fax         ' '
_publ_contact_author_phone       ' '


# Insert blank lines between references

_publ_section_references
;
Blessing, R. H. (1995) Acta Cryst., A51, 33-38.

Blessing, R. H. (1987) Cryst. Rev. 1, 3-58.

Blessing, R. H. (1989) J. Appl. Cryst. 22, 396-397.

Bruker (2012) APEX2 (Version 2012.10-0), SAINT (version 8.27B), SADABS
(version 2012/1), BrukerAXS Inc, Madison, Wisconsin, USA.

ABSCOR: Higashi, T. (1995). ABSCOR. Rigaku Corporation, Tokyo, Japan.

CAD-4 Software: Enraf-Nonius (1989). CAD-4 Software (or CAD-4 EXPRESS).
Enraf-Nonius, Delft, The Netherlands.

Cambridge Structural Database: Allen, F. R. (2002). Acta Cryst. B58, 380-388.

CAMERON: Watkin, D. J., Prout, C. K. & Pearce, L. J. (1996). CAMERON.
Chemical Crystallography Laboratory, Oxford, England.

CrysAlis CCD, CrysAlis RED and associated programs: Oxford Diffraction (2006).
Program name(s). Oxford Diffraction Ltd, Abingdon, England.

CRYSTALS: Betteridge, P. W., Carruthers, J. R., Cooper, R. I., Prout, K. &
Watkin, D. J. (2003). J. Appl. Cryst. 36, 1487.

COLLECT: Nonius (1998). COLLECT. Nonius BV, Delft, The Netherlands.

DENZO/SCALEPACK:  Otwinowski, Z. & Minor, W. (1997). Methods in Enzymology,
Vol. 276, Macromolecular Crystallography, Part A, edited by C. W. Carter Jr
& R. M. Sweet, pp. 307-326. New York: Academic Press.

DIAMOND: Brandenburg, K.(2006). DIAMOND. Crystal Impact GbR, Bonn, Germany.

DIF4 and REDU4: Stoe & Cie (1991). Program name(s). Stoe & Cie, Darmstadt,
Germany.

DIFABS: Walker, N. &  Stuart, D. (1983). Acta Cryst., A39, 158 - 166.

DIRAX: Duisenberg, A. J. M. (1992). J. Appl. Cryst. 25, 92-96.

DIRDIF-2008: Beurskens, P.T., Beurskens, G., de Gelder, R., Garciía-Granda,
S., Gould, R.O. & Smits, J.M.M. (2008) The DIRDIF-2008 program
system, Crystallography Laboratory, Radboud University  Nijmegen,
The Netherlands.

EDMA: Palatinus, L., Prathapa, S. J. & van Smaalen, S. (2012) J. Appl. Cryst.
45, 575-580.

enCIFer: Allen, F. H., Johnson, O., Shields, G. P., Smith, B. R. & Towler,
M. (2004). J. Appl. Cryst. 37, 335-338.

EVALCCD: Duisenberg, A. J. M., Kroon-Batenburg, L. M. J. & Schreurs,
A. M. M. (2003). J. Appl. Cryst. 36, 220-229.

JANA2000: Petricek, V. & Dusek, M. (2000). JANA2000. Institute of Physics,
Czech Academy of Sciences, Prague, Czech Republic.

MERCURY: Macrae, C. F., Bruno, I. J., Chisholm, J. A., Edgington,
P. R., McCabe, P., Pidcock, E., Rodriguez-Monge, L., Taylor, R.,
van de Streek, J. & Wood, P. A. (2008). J. Appl. Cryst. 41, 466-470.

MOGUL: Bruno, I. J., Cole, J. C., Kessler, M., Luo, J., Motherwell,
W. D. S., Purkis, L. H., Smith, B. R., Taylor, R., Cooper, R. I., Harris,
S. E. & Orpen, A. G. (2004). J. Chem. Inf. Comput. Sci. 44, 2133-2144.

ORTEPII: Johnson, C. K. (1976). ORTEPII. Report ORNL-5138. Oak Ridge
National Laboratory, Tennessee, USA.

ORTEPIII:  Burnett, M. N. & Johnson, C. K. (1996). ORTEPIII.
Report ORNL-6895. Oak Ridge National Laboratory, Tennessee, USA.

ORTEP-3: Farrugia, L. J. (2012). J. Appl. Cryst. 45, 849-854.

PARST: Nardelli, M. (1995). J. Appl. Cryst. 28, 659.

PLATON: Spek, A. L. (2009). Acta. Cryst. D65, 148-155.

PROCESS: Rigaku (1996). PROCESS. Rigaku Corporation, Tokyo, Japan.

PROCESS-AUTO: Rigaku (1998). PROCESS-AUTO. Rigaku Corporation, Tokyo, Japan.

PublCIF: Westrip, S. P. (2010). J. Appl. Cryst. 43, 920-925.

SCHAKAL: Keller, E. (1999) University of Freiburg, Germany.

SHELX: Sheldrick, G. M. (2015). Acta Cryst. C71, 3-8.

SHELXD: Schneider, T. R. & Sheldrick, G. M. (2002) Acta Cryst. D58, 1772-1779.

SHELXT: Sheldrick, G. M. (2015). Acta Cryst. A71, 3-8.

SIR92: Altomare, A., Cascarano, G., Giacovazzo, C., Guagliardi, A., Burla,
M. C., Polidori, G. & Camalli, M. (1994). J. Appl. Cryst. 27, 435.

SIR97: Altomare, A., Burla, M. C., Camalli, M., Cascarano, G. L.,
Giacovazzo, C., Guagliardi, A., Moliterni, A. G. G., Polidori, G. &
Spagna, R. (1999). J. Appl. Cryst. 32, 115-119.

SIR2002: Burla, M. C., Camalli, M., Carrozzini, B., Cascarano, G. L.,
Giacovazzo, C., Polidori, G. & Spagna, R. (2003). J. Appl. Cryst. 36, 1103.

SIR2004: Burla, M. C., Caliandro, R., Camalli, M., Carrozzini, B.,
Cascarano, G. L., De Caro, L., Giacovazzo, C., Polidori, G. & Spagna, R.
(2005). J. Appl. Cryst. 38, 381-388.

SIR2008 & IL MILIONE: Burla, M. C., Caliandro, R., Camalli, M., Carrozzini, B.,
Cascarano, G. L., De Caro, L., Giacovazzo, C., Polidori, G., Siliqi, D.,
& Spagna, R. (2007). J. Appl. Cryst. 40, 609-613.

SIR2011: Burla, M. C., Caliandro, R., Camalli, M., Carrozzini, B.,
Cascarano, G. L., Giacovazzo, C., Mallamo, M., Mazzone, A., Polidori, G.
& Spagna, R. (2012). J. Appl. Cryst. 45, 357-361.

SUPERFLIP: Palatinus, L. & Chapuis, G. (2007) J. Appl. Cryst. 40, 786-790.

TEXSAN: Molecular Structure Corporation & Rigaku (2000). TEXSAN. MSC,
The Woodlands, Texas, USA, and Rigaku Corporation, Tokyo, Japan.

WinGX: Farrugia, L. J. (2012). J. Appl. Cryst. 45, 849-854.

X-AREA, X-RED, X-RED32, X-SHAPE:  Stoe & Cie (2002). Program name(s).
Stoe & Cie GmbH, Darmstadt, Germany.

XCAD4: Harms, K. & Wocadlo, S. (1995). XCAD4. University of Marburg, Germany.

XSCANS: Siemens (1994). XSCANS. Siemens Analytical X-ray Instruments Inc.,
Madison, Wisconsin, USA.

;

#------------------  SECTION 2. COMPOUND(S) DETAILS -------------------------#

data_shelx

_audit_creation_date                    2023-07-31T19:46:19-00:00
_audit_creation_method                  'WinGX routine CIF_UPDATE'
_audit_conform_dict_name                cif_core.dic
_audit_conform_dict_version             2.4.5
_audit_conform_dict_location            ftp://ftp.iucr.org/pub/cif_core.dic
_publ_requested_category                FI

#----------------------------------------------------------------------------#
#                   CHEMICAL INFORMATION                                     #
#----------------------------------------------------------------------------#

_chemical_formula_sum                   'Cr P2 S7 Tl'
_chemical_formula_weight                542.73
_chemical_absolute_configuration        unk

#----------------------------------------------------------------------------#
#                   UNIT CELL INFORMATION                                    #
#----------------------------------------------------------------------------#

_symmetry_cell_setting                  orthorhombic
_symmetry_space_group_name_H-M          'P 21 21 21'
_symmetry_space_group_name_Hall         'P 2ac 2ab'
_symmetry_Int_Tables_number             19
loop_
    _symmetry_equiv_pos_as_xyz
'x, y, z'
'-x+1/2, -y, z+1/2'
'-x, y+1/2, -z+1/2'
'x+1/2, -y+1/2, -z'

_cell_length_a                          8.4771(3)
_cell_length_b                          9.5296(4)
_cell_length_c                          12.2850(4)
_cell_angle_alpha                       90
_cell_angle_beta                        90
_cell_angle_gamma                       90
_cell_volume                            992.42(6)
_cell_formula_units_Z                   4
_cell_measurement_temperature           153(2)
_cell_measurement_reflns_used           30139
_cell_measurement_theta_min             2.91
_cell_measurement_theta_max             27.48
_cell_measurement_wavelength            0.71073

#----------------------------------------------------------------------------#
#                   CRYSTAL INFORMATION                                      #
#----------------------------------------------------------------------------#

_exptl_crystal_description              plate
_exptl_crystal_colour                   dark
_exptl_crystal_size_max                 0.13
_exptl_crystal_size_mid                 0.114
_exptl_crystal_size_min                 0.024
_exptl_crystal_density_diffrn           3.632
_exptl_crystal_density_method           'not measured'
_exptl_crystal_F_000                    988
loop_
    _exptl_crystal_face_index_h
    _exptl_crystal_face_index_k
    _exptl_crystal_face_index_l
    _exptl_crystal_face_perp_dist
1 1 0 0.057
-1 -1 0 0.057
1 -1 0 0.065
-1 1 0 0.065
0 0 1 0.012
0 0 -1 0.012
0 1 0 0.068
0 -1 0 0.056


#----------------------------------------------------------------------------#
#                   ABSORPTION CORRECTION                                    #
#----------------------------------------------------------------------------#

_exptl_absorpt_coefficient_mu           19.034
_exptl_absorpt_correction_type          multi-scan
_exptl_absorpt_process_details
;
        [c.f. r.h. blessing, acta cryst. (1995), a51, 33-38]
;
_exptl_absorpt_correction_T_min         0.2274
_exptl_absorpt_correction_T_max         0.4979
_shelx_estimated_absorpt_T_min          0.191
_shelx_estimated_absorpt_T_max          0.658

#----------------------------------------------------------------------------#
#                   DATA COLLECTION                                          #
#----------------------------------------------------------------------------#

_diffrn_source                          'Enraf Nonius FR590'
_diffrn_ambient_temperature             153(2)
_diffrn_radiation_wavelength            0.71073
_diffrn_radiation_type                  MoK\a
_diffrn_radiation_monochromator         'horizonally mounted graphite crystal'
_diffrn_radiation_probe                 x-ray
_diffrn_detector                        'CCD plate'
_diffrn_detector_area_resol_mean        9
_diffrn_orient_matrix_ub_11             0.107412
_diffrn_orient_matrix_ub_12             -0.012794
_diffrn_orient_matrix_ub_13             0.032155
_diffrn_orient_matrix_ub_21             -0.036413
_diffrn_orient_matrix_ub_22             -0.08774
_diffrn_orient_matrix_ub_23             0.036909
_diffrn_orient_matrix_ub_31             0.032442
_diffrn_orient_matrix_ub_32             -0.056121
_diffrn_orient_matrix_ub_33             -0.065036
_diffrn_measurement_device              '95mm CCD camera on κ-goniostat'
_diffrn_measurement_device_type         KappaCCD
_diffrn_measurement_method              'CCD rotation images, thick slices'
_diffrn_standards_number                0
_diffrn_standards_interval_time         .
_diffrn_standards_interval_count        .
_diffrn_standards_decay_%               ?
_diffrn_reflns_av_R_equivalents         0.1412
_diffrn_reflns_av_unetI/netI            0.0929
_diffrn_reflns_number                   8407
_diffrn_reflns_limit_h_min              -11
_diffrn_reflns_limit_h_max              11
_diffrn_reflns_limit_k_min              -12
_diffrn_reflns_limit_k_max              12
_diffrn_reflns_limit_l_min              -15
_diffrn_reflns_limit_l_max              15
_diffrn_reflns_theta_min                2.919
_diffrn_reflns_theta_max                27.508
_diffrn_reflns_theta_full               25.242
_diffrn_measured_fraction_theta_full
                                        0.975
_diffrn_measured_fraction_theta_max
                                        0.972
_diffrn_reflns_Laue_measured_fraction_full
                                        0.975
_diffrn_reflns_Laue_measured_fraction_max
                                        0.972
_diffrn_reflns_point_group_measured_fraction_full
                                        0.968
_diffrn_reflns_point_group_measured_fraction_max
                                        0.961
_reflns_Friedel_fraction_full           0.956
_reflns_Friedel_fraction_max            0.946
_reflns_Friedel_coverage                0.696
_reflns_number_total                    2184
_reflns_number_gt                       1887
_reflns_threshold_expression            'I > 2σ(I)'

#----------------------------------------------------------------------------#
#                   COMPUTER PROGRAMS USED                                   #
#----------------------------------------------------------------------------#

_computing_data_collection              'Collect (Bruker AXS BV, 1997-2004)'
_computing_cell_refinement
                                       'HKL Scalepack (Otwinowski & Minor 1997)'
_computing_data_reduction
                             'HKL Denzo and Scalepack (Otwinowski & Minor 1997)'
_computing_structure_refinement         'SHELXL-2018/3 (Sheldrick, 2018)'
_computing_molecular_graphics           'Ortep for Windows (Farrugia, 2012)'
_computing_publication_material
                                   'WinGX publication routines (Farrugia, 2012)'

#----------------------------------------------------------------------------#
#                   STRUCTURE SOLUTION                                       #
#----------------------------------------------------------------------------#


#----------------------------------------------------------------------------#
#                   REFINEMENT INFORMATION                                   #
#----------------------------------------------------------------------------#

_shelx_SHELXL_version_number            2018/3
_refine_ls_structure_factor_coef        Fsqd
_refine_ls_matrix_type                  full
_refine_ls_weighting_scheme             calc
_refine_ls_weighting_details
                      'w=1/[σ²(Fo²)+(0.1260P)²] where P=(Fo²+2Fc²)/3'
_refine_ls_hydrogen_treatment           undef
_refine_ls_extinction_method            none
_refine_ls_number_reflns                2184
_refine_ls_number_parameters            100
_refine_ls_number_restraints            0
_refine_ls_number_constraints           0
_refine_ls_R_factor_all                 0.0813
_refine_ls_R_factor_gt                  0.0702
_refine_ls_wR_factor_ref                0.1831
_refine_ls_wR_factor_gt                 0.1729
_refine_ls_goodness_of_fit_ref          1.044
_refine_ls_restrained_S_all             1.044
_refine_ls_shift/su_max                 0
_refine_ls_shift/su_mean                0
_refine_ls_abs_structure_details
;
 Flack x determined using 664 quotients [(I+)-(I-)]/[(I+)+(I-)]
 (Parsons, Flack and Wagner, Acta Cryst. B69 (2013) 249-259).
;
_refine_ls_abs_structure_Flack          -0.025(9)
_refine_diff_density_max                4.609
_refine_diff_density_min                -5.413
_refine_diff_density_rms                0.581

#----------------------------------------------------------------------------#
#                   CONSTRAINTS AND RESTRAINTS                               #
#----------------------------------------------------------------------------#


#----------------------------------------------------------------------------#
#                   ATOMIC TYPES, COORDINATES AND THERMAL PARAMETERS         #
#----------------------------------------------------------------------------#

loop_
    _atom_type_symbol
    _atom_type_description
    _atom_type_scat_dispersion_real
    _atom_type_scat_dispersion_imag
    _atom_type_scat_source
Cr Cr 0.3209 0.6236 'International Tables Vol C Tables 4.2.6.8 and 6.1.1.4'
P P 0.1023 0.0942 'International Tables Vol C Tables 4.2.6.8 and 6.1.1.4'
S S 0.1246 0.1234 'International Tables Vol C Tables 4.2.6.8 and 6.1.1.4'
Tl Tl -2.8358 9.6688 'International Tables Vol C Tables 4.2.6.8 and 6.1.1.4'

loop_
    _atom_site_label
    _atom_site_type_symbol
    _atom_site_fract_x
    _atom_site_fract_y
    _atom_site_fract_z
    _atom_site_U_iso_or_equiv
    _atom_site_adp_type
    _atom_site_occupancy
    _atom_site_site_symmetry_order
    _atom_site_calc_flag
    _atom_site_refinement_flags_posn
    _atom_site_refinement_flags_adp
    _atom_site_refinement_flags_occupancy
    _atom_site_disorder_assembly
    _atom_site_disorder_group
Tl1 Tl 0.31443(11) 0.46116(14) 0.50925(7) 0.0375(4) Uani 1 1 d . . . . .
Cr1 Cr 0.2576(3) 0.9044(4) 0.7511(2) 0.0143(7) Uani 1 1 d . . . . .
S1 S 1.0671(5) 0.8735(6) 0.8941(4) 0.0177(11) Uani 1 1 d . . . . .
S2 S 0.4302(5) 0.7370(6) 0.8397(4) 0.0185(11) Uani 1 1 d . . . . .
S3 S 0.8677(6) 0.5792(6) 0.8641(4) 0.0172(10) Uani 1 1 d . . . . .
S4 S 1.1013(6) 0.7275(6) 0.6597(4) 0.0167(10) Uani 1 1 d . . . . .
P1 P 0.9503(5) 0.7502(5) 0.7857(4) 0.0141(10) Uani 1 1 d . . . . .
P2 P 0.5629(5) 0.7560(6) 0.7034(4) 0.0151(11) Uani 1 1 d . . . . .
S5 S 0.4407(5) 0.8832(6) 0.6036(4) 0.0169(10) Uani 1 1 d . . . . .
S6 S 0.7619(5) 0.8846(6) 0.7351(5) 0.0200(11) Uani 1 1 d . . . . .
S7 S 0.6258(6) 0.5772(6) 0.6279(4) 0.0184(11) Uani 1 1 d . . . . .

loop_
    _atom_site_aniso_label
    _atom_site_aniso_U_11
    _atom_site_aniso_U_22
    _atom_site_aniso_U_33
    _atom_site_aniso_U_23
    _atom_site_aniso_U_13
    _atom_site_aniso_U_12
Tl1 0.0247(5) 0.0564(8) 0.0314(5) -0.0027(5) 0.0015(3) -0.0029(4)
Cr1 0.0101(14) 0.0139(17) 0.0189(17) 0.0000(13) 0.0012(13) 0.0005(12)
S1 0.010(2) 0.021(3) 0.022(2) -0.001(2) 0.0018(18) -0.005(2)
S2 0.018(2) 0.016(3) 0.021(2) 0.0059(19) 0.0035(18) 0.005(2)
S3 0.017(2) 0.012(2) 0.023(2) 0.0010(19) -0.0004(18) -0.0038(19)
S4 0.013(2) 0.016(3) 0.021(2) -0.003(2) 0.0032(18) -0.0011(19)
P1 0.012(2) 0.011(3) 0.020(2) -0.0005(19) -0.0003(18) -0.003(2)
P2 0.008(2) 0.017(3) 0.020(2) 0.002(2) 0.0022(17) 0.002(2)
S5 0.012(2) 0.018(3) 0.021(2) 0.0005(19) 0.0040(18) 0.001(2)
S6 0.012(2) 0.017(3) 0.031(3) 0.002(2) -0.0027(19) -0.002(2)
S7 0.017(2) 0.014(3) 0.025(3) -0.001(2) -0.0018(18) 0.005(2)


#----------------------------------------------------------------------------#
#                   MOLECULAR GEOMETRY                                       #
#----------------------------------------------------------------------------#

_geom_special_details
;
 All esds (except the esd in the dihedral angle between two l.s. planes)
 are estimated using the full covariance matrix.  The cell esds are taken
 into account individually in the estimation of esds in distances, angles
 and torsion angles; correlations between esds in cell parameters are only
 used when they are defined by crystal symmetry.  An approximate (isotropic)
 treatment of cell esds is used for estimating esds involving l.s. planes.
;
loop_
    _geom_bond_atom_site_label_1
    _geom_bond_atom_site_label_2
    _geom_bond_distance
    _geom_bond_site_symmetry_2
    _geom_bond_publ_flag
Cr1 S5 2.394(5) . ?
Cr1 S1 2.404(5) 1_455 ?
Cr1 S4 2.420(6) 1_455 ?
Cr1 S2 2.423(6) . ?
Cr1 S7 2.429(6) 3_656 ?
Cr1 S3 2.430(6) 3_656 ?
S1 P1 2.033(7) . ?
S2 P2 2.025(7) . ?
S3 P1 2.019(7) . ?
S4 P1 2.020(7) . ?
P1 S6 2.139(7) . ?
P2 S5 2.011(7) . ?
P2 S7 2.012(7) . ?
P2 S6 2.121(7) . ?

loop_
    _geom_angle_atom_site_label_1
    _geom_angle_atom_site_label_2
    _geom_angle_atom_site_label_3
    _geom_angle
    _geom_angle_site_symmetry_1
    _geom_angle_site_symmetry_3
    _geom_angle_publ_flag
S5 Cr1 S1 168.0(2) . 1_455 ?
S5 Cr1 S4 86.86(19) . 1_455 ?
S1 Cr1 S4 83.45(19) 1_455 1_455 ?
S5 Cr1 S2 83.84(19) . . ?
S1 Cr1 S2 89.8(2) 1_455 . ?
S4 Cr1 S2 94.6(2) 1_455 . ?
S5 Cr1 S7 104.9(2) . 3_656 ?
S1 Cr1 S7 84.78(19) 1_455 3_656 ?
S4 Cr1 S7 168.2(2) 1_455 3_656 ?
S2 Cr1 S7 85.7(2) . 3_656 ?
S5 Cr1 S3 84.30(19) . 3_656 ?
S1 Cr1 S3 102.5(2) 1_455 3_656 ?
S4 Cr1 S3 88.2(2) 1_455 3_656 ?
S2 Cr1 S3 167.6(2) . 3_656 ?
S7 Cr1 S3 94.0(2) 3_656 3_656 ?
P1 S1 Cr1 85.4(2) . 1_655 ?
P2 S2 Cr1 84.6(2) . . ?
P1 S3 Cr1 115.3(3) . 3_646 ?
P1 S4 Cr1 85.2(2) . 1_655 ?
S3 P1 S4 119.9(3) . . ?
S3 P1 S1 108.8(3) . . ?
S4 P1 S1 104.8(3) . . ?
S3 P1 S6 111.3(3) . . ?
S4 P1 S6 108.3(3) . . ?
S1 P1 S6 102.0(3) . . ?
S5 P2 S7 111.4(3) . . ?
S5 P2 S2 105.8(3) . . ?
S7 P2 S2 116.9(3) . . ?
S5 P2 S6 100.0(3) . . ?
S7 P2 S6 111.3(3) . . ?
S2 P2 S6 110.0(3) . . ?
P2 S5 Cr1 85.6(2) . . ?
P2 S6 P1 107.5(3) . . ?
P2 S7 Cr1 113.5(3) . 3_646 ?

_iucr_refine_instructions_details
;
TITL shelxt_a.res in P2(1)2(1)2(1)
    shelx.res
    created by SHELXL-2018/3 at 19:45:19 on 31-Jul-2023
CELL  0.71073   8.4771   9.5296  12.2850   90.000   90.000   90.000
ZERR     4.00   0.0003   0.0004   0.0004    0.000    0.000    0.000
LATT  -1
SYMM  1/2 - X, - Y, 1/2 + Z
SYMM  - X, 1/2 + Y, 1/2 - Z
SYMM  1/2 + X, 1/2 - Y, - Z
SFAC  CR   P    S    TL
UNIT  4 8 28 4
TEMP -120
SIZE 0.024 0.114 0.13
MERG   2
FMAP   2
PLAN   20
ACTA
BOND
LIST   4
L.S.  10
WGHT    0.126000
FVAR       0.13489
TL1   4    0.314427    0.461159    0.509252    11.00000    0.02469    0.05637 =
         0.03136   -0.00265    0.00153   -0.00287
CR1   1    0.257609    0.904409    0.751069    11.00000    0.01013    0.01387 =
         0.01888   -0.00004    0.00120    0.00049
S1    3    1.067140    0.873512    0.894080    11.00000    0.01001    0.02143 =
         0.02151   -0.00080    0.00181   -0.00547
S2    3    0.430230    0.737000    0.839682    11.00000    0.01842    0.01611 =
         0.02087    0.00586    0.00348    0.00501
S3    3    0.867656    0.579196    0.864135    11.00000    0.01733    0.01151 =
         0.02290    0.00098   -0.00037   -0.00380
S4    3    1.101280    0.727508    0.659696    11.00000    0.01340    0.01572 =
         0.02099   -0.00296    0.00317   -0.00106
P1    2    0.950271    0.750222    0.785692    11.00000    0.01151    0.01105 =
         0.01988   -0.00053   -0.00027   -0.00300
P2    2    0.562913    0.755986    0.703449    11.00000    0.00832    0.01721 =
         0.01983    0.00158    0.00219    0.00175
S5    3    0.440742    0.883170    0.603605    11.00000    0.01207    0.01762 =
         0.02111    0.00046    0.00400    0.00099
S6    3    0.761915    0.884605    0.735088    11.00000    0.01202    0.01698 =
         0.03098    0.00219   -0.00273   -0.00196
S7    3    0.625781    0.577238    0.627874    11.00000    0.01682    0.01361 =
         0.02480   -0.00081   -0.00178    0.00475
HKLF    4




REM  shelxt_a.res in P2(1)2(1)2(1)
REM wR2 = 0.1831, GooF = S = 1.044, Restrained GooF = 1.044 for all data
REM R1 = 0.0702 for 1887 Fo > 4sig(Fo) and 0.0813 for all 2184 data
REM 100 parameters refined using 0 restraints

END

WGHT      0.1260      0.0000

REM Highest difference peak  4.609,  deepest hole -5.413,  1-sigma level  0.581
Q1    1   0.3197  0.5482  0.4961  11.00000  0.05    4.61
Q2    1   0.3143  0.4580  0.4411  11.00000  0.05    3.47
Q3    1   0.3147  0.4559  0.5805  11.00000  0.05    2.47
Q4    1   0.3294  0.5370  0.5792  11.00000  0.05    2.26
Q5    1   0.8496  0.5544  0.9448  11.00000  0.05    2.09
Q6    1   0.6790  0.4377  0.5366  11.00000  0.05    1.65
Q7    1   0.4270  0.8822  0.5278  11.00000  0.05    1.57
Q8    1   0.2506  1.0046  0.7573  11.00000  0.05    1.57
Q9    1   0.6967  0.6408  0.5580  11.00000  0.05    1.57
Q10   1   1.1037  0.7472  0.5772  11.00000  0.05    1.51
Q11   1   0.3341  0.8166  0.6711  11.00000  0.05    1.49
Q12   1   0.6791  0.8820  0.8345  11.00000  0.05    1.44
Q13   1   0.4287  0.7376  0.9159  11.00000  0.05    1.42
Q14   1   0.1773  0.3753  0.5149  11.00000  0.05    1.36
Q15   1   0.8269  0.6949  0.7109  11.00000  0.05    1.36
Q16   1   0.4009  0.5051  0.4197  11.00000  0.05    1.33
Q17   1   0.8369  0.5394  0.8042  11.00000  0.05    1.32
Q18   1   0.3676  0.5362  0.4205  11.00000  0.05    1.32
Q19   1   0.2485  0.5207  0.4206  11.00000  0.05    1.25
Q20   1   0.2116  0.5989  0.4219  11.00000  0.05    1.25
;

# END of CIF
