#\#CIF_1.1

#  CIF produced by WinGX routine CIF_UPDATE
#  Created on 2023-08-01 at 17:36:42
#  Using CIFtbx version 3.0.4  1 Sep 2006

#  Dictionary name : cif_core.dic
#  Dictionary vers : 2.4.5
#  Request file    : c:\program files (x86)\wingx\files\archive.reqdat
#  CIF files read  : shelx project

#------------------ SECTION 1. GLOBAL INFORMATION ---------------------------#

data_global

#------------------ AUDIT DETAILS -------------------------------------------#

_audit_creation_date            2023-08-01
_audit_creation_method          'WinGX routine CIF_UPDATE'
_audit_conform_dict_name        cif_core.dic
_audit_conform_dict_version     2.4.3
_audit_conform_dict_location    ftp://ftp.iucr.org/pub/cif_core.dic
_audit_update_record            ?

#------------------ AUTHOR DETAILS -------------------------------------------#

# Name and address of author for correspondence

_publ_contact_author_name       ' ,  '
_publ_contact_author_address
;

;
_publ_contact_author_email       ' '
_publ_contact_author_fax         ' '
_publ_contact_author_phone       ' '


# Insert blank lines between references

_publ_section_references
;
Blessing, R. H. (1995) Acta Cryst., A51, 33-38.

Blessing, R. H. (1987) Cryst. Rev. 1, 3-58.

Blessing, R. H. (1989) J. Appl. Cryst. 22, 396-397.

Bruker (2012) APEX2 (Version 2012.10-0), SAINT (version 8.27B), SADABS
(version 2012/1), BrukerAXS Inc, Madison, Wisconsin, USA.

ABSCOR: Higashi, T. (1995). ABSCOR. Rigaku Corporation, Tokyo, Japan.

CAD-4 Software: Enraf-Nonius (1989). CAD-4 Software (or CAD-4 EXPRESS).
Enraf-Nonius, Delft, The Netherlands.

Cambridge Structural Database: Allen, F. R. (2002). Acta Cryst. B58, 380-388.

CAMERON: Watkin, D. J., Prout, C. K. & Pearce, L. J. (1996). CAMERON.
Chemical Crystallography Laboratory, Oxford, England.

CrysAlis CCD, CrysAlis RED and associated programs: Oxford Diffraction (2006).
Program name(s). Oxford Diffraction Ltd, Abingdon, England.

CRYSTALS: Betteridge, P. W., Carruthers, J. R., Cooper, R. I., Prout, K. &
Watkin, D. J. (2003). J. Appl. Cryst. 36, 1487.

COLLECT: Nonius (1998). COLLECT. Nonius BV, Delft, The Netherlands.

DENZO/SCALEPACK:  Otwinowski, Z. & Minor, W. (1997). Methods in Enzymology,
Vol. 276, Macromolecular Crystallography, Part A, edited by C. W. Carter Jr
& R. M. Sweet, pp. 307-326. New York: Academic Press.

DIAMOND: Brandenburg, K.(2006). DIAMOND. Crystal Impact GbR, Bonn, Germany.

DIF4 and REDU4: Stoe & Cie (1991). Program name(s). Stoe & Cie, Darmstadt,
Germany.

DIFABS: Walker, N. &  Stuart, D. (1983). Acta Cryst., A39, 158 - 166.

DIRAX: Duisenberg, A. J. M. (1992). J. Appl. Cryst. 25, 92-96.

DIRDIF-2008: Beurskens, P.T., Beurskens, G., de Gelder, R., Garciía-Granda,
S., Gould, R.O. & Smits, J.M.M. (2008) The DIRDIF-2008 program
system, Crystallography Laboratory, Radboud University  Nijmegen,
The Netherlands.

EDMA: Palatinus, L., Prathapa, S. J. & van Smaalen, S. (2012) J. Appl. Cryst.
45, 575-580.

enCIFer: Allen, F. H., Johnson, O., Shields, G. P., Smith, B. R. & Towler,
M. (2004). J. Appl. Cryst. 37, 335-338.

EVALCCD: Duisenberg, A. J. M., Kroon-Batenburg, L. M. J. & Schreurs,
A. M. M. (2003). J. Appl. Cryst. 36, 220-229.

JANA2000: Petricek, V. & Dusek, M. (2000). JANA2000. Institute of Physics,
Czech Academy of Sciences, Prague, Czech Republic.

MERCURY: Macrae, C. F., Bruno, I. J., Chisholm, J. A., Edgington,
P. R., McCabe, P., Pidcock, E., Rodriguez-Monge, L., Taylor, R.,
van de Streek, J. & Wood, P. A. (2008). J. Appl. Cryst. 41, 466-470.

MOGUL: Bruno, I. J., Cole, J. C., Kessler, M., Luo, J., Motherwell,
W. D. S., Purkis, L. H., Smith, B. R., Taylor, R., Cooper, R. I., Harris,
S. E. & Orpen, A. G. (2004). J. Chem. Inf. Comput. Sci. 44, 2133-2144.

ORTEPII: Johnson, C. K. (1976). ORTEPII. Report ORNL-5138. Oak Ridge
National Laboratory, Tennessee, USA.

ORTEPIII:  Burnett, M. N. & Johnson, C. K. (1996). ORTEPIII.
Report ORNL-6895. Oak Ridge National Laboratory, Tennessee, USA.

ORTEP-3: Farrugia, L. J. (2012). J. Appl. Cryst. 45, 849-854.

PARST: Nardelli, M. (1995). J. Appl. Cryst. 28, 659.

PLATON: Spek, A. L. (2009). Acta. Cryst. D65, 148-155.

PROCESS: Rigaku (1996). PROCESS. Rigaku Corporation, Tokyo, Japan.

PROCESS-AUTO: Rigaku (1998). PROCESS-AUTO. Rigaku Corporation, Tokyo, Japan.

PublCIF: Westrip, S. P. (2010). J. Appl. Cryst. 43, 920-925.

SCHAKAL: Keller, E. (1999) University of Freiburg, Germany.

SHELX: Sheldrick, G. M. (2015). Acta Cryst. C71, 3-8.

SHELXD: Schneider, T. R. & Sheldrick, G. M. (2002) Acta Cryst. D58, 1772-1779.

SHELXT: Sheldrick, G. M. (2015). Acta Cryst. A71, 3-8.

SIR92: Altomare, A., Cascarano, G., Giacovazzo, C., Guagliardi, A., Burla,
M. C., Polidori, G. & Camalli, M. (1994). J. Appl. Cryst. 27, 435.

SIR97: Altomare, A., Burla, M. C., Camalli, M., Cascarano, G. L.,
Giacovazzo, C., Guagliardi, A., Moliterni, A. G. G., Polidori, G. &
Spagna, R. (1999). J. Appl. Cryst. 32, 115-119.

SIR2002: Burla, M. C., Camalli, M., Carrozzini, B., Cascarano, G. L.,
Giacovazzo, C., Polidori, G. & Spagna, R. (2003). J. Appl. Cryst. 36, 1103.

SIR2004: Burla, M. C., Caliandro, R., Camalli, M., Carrozzini, B.,
Cascarano, G. L., De Caro, L., Giacovazzo, C., Polidori, G. & Spagna, R.
(2005). J. Appl. Cryst. 38, 381-388.

SIR2008 & IL MILIONE: Burla, M. C., Caliandro, R., Camalli, M., Carrozzini, B.,
Cascarano, G. L., De Caro, L., Giacovazzo, C., Polidori, G., Siliqi, D.,
& Spagna, R. (2007). J. Appl. Cryst. 40, 609-613.

SIR2011: Burla, M. C., Caliandro, R., Camalli, M., Carrozzini, B.,
Cascarano, G. L., Giacovazzo, C., Mallamo, M., Mazzone, A., Polidori, G.
& Spagna, R. (2012). J. Appl. Cryst. 45, 357-361.

SUPERFLIP: Palatinus, L. & Chapuis, G. (2007) J. Appl. Cryst. 40, 786-790.

TEXSAN: Molecular Structure Corporation & Rigaku (2000). TEXSAN. MSC,
The Woodlands, Texas, USA, and Rigaku Corporation, Tokyo, Japan.

WinGX: Farrugia, L. J. (2012). J. Appl. Cryst. 45, 849-854.

X-AREA, X-RED, X-RED32, X-SHAPE:  Stoe & Cie (2002). Program name(s).
Stoe & Cie GmbH, Darmstadt, Germany.

XCAD4: Harms, K. & Wocadlo, S. (1995). XCAD4. University of Marburg, Germany.

XSCANS: Siemens (1994). XSCANS. Siemens Analytical X-ray Instruments Inc.,
Madison, Wisconsin, USA.

;

#------------------  SECTION 2. COMPOUND(S) DETAILS -------------------------#

data_shelx

_audit_creation_date                    2023-08-01T17:36:42-00:00
_audit_creation_method                  'WinGX routine CIF_UPDATE'
_audit_conform_dict_name                cif_core.dic
_audit_conform_dict_version             2.4.5
_audit_conform_dict_location            ftp://ftp.iucr.org/pub/cif_core.dic
_publ_requested_category                FI

#----------------------------------------------------------------------------#
#                   CHEMICAL INFORMATION                                     #
#----------------------------------------------------------------------------#

_chemical_formula_sum                   'Cr P2 S7 Tl'
_chemical_formula_weight                542.73
_chemical_absolute_configuration        unk

#----------------------------------------------------------------------------#
#                   UNIT CELL INFORMATION                                    #
#----------------------------------------------------------------------------#

_symmetry_cell_setting                  orthorhombic
_symmetry_space_group_name_H-M          'P 21 21 21'
_symmetry_space_group_name_Hall         'P 2ac 2ab'
_symmetry_Int_Tables_number             19
loop_
    _symmetry_equiv_pos_as_xyz
'x, y, z'
'-x+1/2, -y, z+1/2'
'-x, y+1/2, -z+1/2'
'x+1/2, -y+1/2, -z'

_cell_length_a                          8.4824(4)
_cell_length_b                          9.5315(6)
_cell_length_c                          12.3218(6)
_cell_angle_alpha                       90
_cell_angle_beta                        90
_cell_angle_gamma                       90
_cell_volume                            996.22(9)
_cell_formula_units_Z                   4
_cell_measurement_temperature           213(2)
_cell_measurement_reflns_used           27984
_cell_measurement_theta_min             2.91
_cell_measurement_theta_max             27.48
_cell_measurement_wavelength            0.71073

#----------------------------------------------------------------------------#
#                   CRYSTAL INFORMATION                                      #
#----------------------------------------------------------------------------#

_exptl_crystal_description              plate
_exptl_crystal_colour                   dark
_exptl_crystal_size_max                 0.13
_exptl_crystal_size_mid                 0.114
_exptl_crystal_size_min                 0.024
_exptl_crystal_density_diffrn           3.619
_exptl_crystal_density_method           'not measured'
_exptl_crystal_F_000                    988
loop_
    _exptl_crystal_face_index_h
    _exptl_crystal_face_index_k
    _exptl_crystal_face_index_l
    _exptl_crystal_face_perp_dist
1 1 0 0.057
-1 -1 0 0.057
1 -1 0 0.065
-1 1 0 0.065
0 0 1 0.012
0 0 -1 0.012
0 1 0 0.068
0 -1 0 0.056


#----------------------------------------------------------------------------#
#                   ABSORPTION CORRECTION                                    #
#----------------------------------------------------------------------------#

_exptl_absorpt_coefficient_mu           18.961
_exptl_absorpt_correction_type          multi-scan
_exptl_absorpt_process_details
;
        [c.f. r.h. blessing, acta cryst. (1995), a51, 33-38]
;
_exptl_absorpt_correction_T_min         0.2395
_exptl_absorpt_correction_T_max         0.4969
_shelx_estimated_absorpt_T_min          0.192
_shelx_estimated_absorpt_T_max          0.659

#----------------------------------------------------------------------------#
#                   DATA COLLECTION                                          #
#----------------------------------------------------------------------------#

_diffrn_source                          'Enraf Nonius FR590'
_diffrn_ambient_temperature             213(2)
_diffrn_radiation_wavelength            0.71073
_diffrn_radiation_type                  MoK\a
_diffrn_radiation_monochromator         'horizonally mounted graphite crystal'
_diffrn_radiation_probe                 x-ray
_diffrn_detector                        'CCD plate'
_diffrn_detector_area_resol_mean        9
_diffrn_orient_matrix_ub_11             0.10711
_diffrn_orient_matrix_ub_12             0.003341
_diffrn_orient_matrix_ub_13             0.033807
_diffrn_orient_matrix_ub_21             -0.017275
_diffrn_orient_matrix_ub_22             -0.095416
_diffrn_orient_matrix_ub_23             0.03158
_diffrn_orient_matrix_ub_31             0.046123
_diffrn_orient_matrix_ub_32             -0.043496
_diffrn_orient_matrix_ub_33             -0.06668
_diffrn_measurement_device              '95mm CCD camera on κ-goniostat'
_diffrn_measurement_device_type         KappaCCD
_diffrn_measurement_method              'CCD rotation images, thick slices'
_diffrn_standards_number                0
_diffrn_standards_interval_time         .
_diffrn_standards_interval_count        .
_diffrn_standards_decay_%               ?
_diffrn_reflns_av_R_equivalents         0.1637
_diffrn_reflns_av_unetI/netI            0.1195
_diffrn_reflns_number                   8740
_diffrn_reflns_limit_h_min              -11
_diffrn_reflns_limit_h_max              11
_diffrn_reflns_limit_k_min              -12
_diffrn_reflns_limit_k_max              12
_diffrn_reflns_limit_l_min              -16
_diffrn_reflns_limit_l_max              15
_diffrn_reflns_theta_min                2.915
_diffrn_reflns_theta_max                27.499
_diffrn_reflns_theta_full               25.242
_diffrn_measured_fraction_theta_full
                                        0.981
_diffrn_measured_fraction_theta_max
                                        0.974
_diffrn_reflns_Laue_measured_fraction_full
                                        0.981
_diffrn_reflns_Laue_measured_fraction_max
                                        0.974
_diffrn_reflns_point_group_measured_fraction_full
                                        0.972
_diffrn_reflns_point_group_measured_fraction_max
                                        0.961
_reflns_Friedel_fraction_full           0.959
_reflns_Friedel_fraction_max            0.943
_reflns_Friedel_coverage                0.69
_reflns_number_total                    2190
_reflns_number_gt                       1515
_reflns_threshold_expression            'I > 2σ(I)'

#----------------------------------------------------------------------------#
#                   COMPUTER PROGRAMS USED                                   #
#----------------------------------------------------------------------------#

_computing_data_collection              'Collect (Bruker AXS BV, 1997-2004)'
_computing_cell_refinement
                                       'HKL Scalepack (Otwinowski & Minor 1997)'
_computing_data_reduction
                             'HKL Denzo and Scalepack (Otwinowski & Minor 1997)'
_computing_structure_refinement         'SHELXL-2018/3 (Sheldrick, 2018)'
_computing_molecular_graphics           'Ortep for Windows (Farrugia, 2012)'
_computing_publication_material
                                   'WinGX publication routines (Farrugia, 2012)'

#----------------------------------------------------------------------------#
#                   STRUCTURE SOLUTION                                       #
#----------------------------------------------------------------------------#


#----------------------------------------------------------------------------#
#                   REFINEMENT INFORMATION                                   #
#----------------------------------------------------------------------------#

_shelx_SHELXL_version_number            2018/3
_refine_ls_structure_factor_coef        Fsqd
_refine_ls_matrix_type                  full
_refine_ls_weighting_scheme             calc
_refine_ls_weighting_details
                      'w=1/[σ²(Fo²)+(0.1275P)²] where P=(Fo²+2Fc²)/3'
_refine_ls_hydrogen_treatment           undef
_refine_ls_extinction_method            none
_refine_ls_number_reflns                2190
_refine_ls_number_parameters            100
_refine_ls_number_restraints            0
_refine_ls_number_constraints           0
_refine_ls_R_factor_all                 0.1124
_refine_ls_R_factor_gt                  0.0776
_refine_ls_wR_factor_ref                0.2107
_refine_ls_wR_factor_gt                 0.1878
_refine_ls_goodness_of_fit_ref          0.995
_refine_ls_restrained_S_all             0.995
_refine_ls_shift/su_max                 0
_refine_ls_shift/su_mean                0
_refine_ls_abs_structure_details
;
 Flack x determined using 478 quotients [(I+)-(I-)]/[(I+)+(I-)]
 (Parsons, Flack and Wagner, Acta Cryst. B69 (2013) 249-259).
;
_refine_ls_abs_structure_Flack          -0.016(11)
_refine_diff_density_max                3.599
_refine_diff_density_min                -4.181
_refine_diff_density_rms                0.495

#----------------------------------------------------------------------------#
#                   CONSTRAINTS AND RESTRAINTS                               #
#----------------------------------------------------------------------------#


#----------------------------------------------------------------------------#
#                   ATOMIC TYPES, COORDINATES AND THERMAL PARAMETERS         #
#----------------------------------------------------------------------------#

loop_
    _atom_type_symbol
    _atom_type_description
    _atom_type_scat_dispersion_real
    _atom_type_scat_dispersion_imag
    _atom_type_scat_source
Cr Cr 0.3209 0.6236 'International Tables Vol C Tables 4.2.6.8 and 6.1.1.4'
P P 0.1023 0.0942 'International Tables Vol C Tables 4.2.6.8 and 6.1.1.4'
S S 0.1246 0.1234 'International Tables Vol C Tables 4.2.6.8 and 6.1.1.4'
Tl Tl -2.8358 9.6688 'International Tables Vol C Tables 4.2.6.8 and 6.1.1.4'

loop_
    _atom_site_label
    _atom_site_type_symbol
    _atom_site_fract_x
    _atom_site_fract_y
    _atom_site_fract_z
    _atom_site_U_iso_or_equiv
    _atom_site_adp_type
    _atom_site_occupancy
    _atom_site_site_symmetry_order
    _atom_site_calc_flag
    _atom_site_refinement_flags_posn
    _atom_site_refinement_flags_adp
    _atom_site_refinement_flags_occupancy
    _atom_site_disorder_assembly
    _atom_site_disorder_group
Tl1 Tl 0.31435(15) 0.47427(18) 0.50581(8) 0.0598(6) Uani 1 1 d . . . . .
Cr1 Cr 0.2546(3) 0.9039(4) 0.7504(2) 0.0186(8) Uani 1 1 d . . . . .
S1 S 1.0654(6) 0.8749(6) 0.8939(4) 0.0201(12) Uani 1 1 d . . . . .
S2 S 0.4247(6) 0.7360(7) 0.8399(5) 0.0242(13) Uani 1 1 d . . . . .
S3 S 0.8682(7) 0.5791(6) 0.8649(5) 0.0228(13) Uani 1 1 d . . . . .
S4 S 1.0950(7) 0.7296(7) 0.6602(5) 0.0253(14) Uani 1 1 d . . . . .
P1 P 0.9475(6) 0.7513(6) 0.7883(5) 0.0177(12) Uani 1 1 d . . . . .
P2 P 0.5608(6) 0.7556(7) 0.7055(5) 0.0222(14) Uani 1 1 d . . . . .
S5 S 0.4389(6) 0.8800(7) 0.6045(4) 0.0227(13) Uani 1 1 d . . . . .
S6 S 0.7571(6) 0.8852(7) 0.7412(5) 0.0272(14) Uani 1 1 d . . . . .
S7 S 0.6282(7) 0.5784(7) 0.6302(5) 0.0241(13) Uani 1 1 d . . . . .

loop_
    _atom_site_aniso_label
    _atom_site_aniso_U_11
    _atom_site_aniso_U_22
    _atom_site_aniso_U_33
    _atom_site_aniso_U_23
    _atom_site_aniso_U_13
    _atom_site_aniso_U_12
Tl1 0.0348(7) 0.1007(12) 0.0437(8) -0.0097(8) 0.0020(5) -0.0036(6)
Cr1 0.0129(16) 0.017(2) 0.026(2) -0.0010(14) 0.0027(15) 0.0026(14)
S1 0.013(3) 0.019(3) 0.028(3) 0.000(2) 0.002(2) -0.003(2)
S2 0.025(3) 0.021(4) 0.027(3) 0.006(2) 0.003(2) 0.006(3)
S3 0.024(3) 0.017(3) 0.027(3) 0.004(2) -0.003(2) -0.006(2)
S4 0.023(3) 0.025(4) 0.028(3) -0.001(2) 0.004(2) -0.007(2)
P1 0.014(2) 0.011(3) 0.028(3) -0.001(2) -0.002(2) -0.001(2)
P2 0.013(2) 0.024(4) 0.029(3) 0.002(3) 0.002(2) 0.004(2)
S5 0.016(3) 0.025(3) 0.028(3) 0.003(2) 0.005(2) 0.003(2)
S6 0.017(3) 0.019(3) 0.046(4) 0.001(3) -0.007(3) 0.001(2)
S7 0.023(3) 0.020(3) 0.030(3) -0.002(2) -0.002(2) 0.006(2)


#----------------------------------------------------------------------------#
#                   MOLECULAR GEOMETRY                                       #
#----------------------------------------------------------------------------#

_geom_special_details
;
 All esds (except the esd in the dihedral angle between two l.s. planes)
 are estimated using the full covariance matrix.  The cell esds are taken
 into account individually in the estimation of esds in distances, angles
 and torsion angles; correlations between esds in cell parameters are only
 used when they are defined by crystal symmetry.  An approximate (isotropic)
 treatment of cell esds is used for estimating esds involving l.s. planes.
;
loop_
    _geom_bond_atom_site_label_1
    _geom_bond_atom_site_label_2
    _geom_bond_distance
    _geom_bond_site_symmetry_2
    _geom_bond_publ_flag
Cr1 S5 2.394(6) . ?
Cr1 S1 2.404(6) 1_455 ?
Cr1 S4 2.414(7) 1_455 ?
Cr1 S2 2.421(6) . ?
Cr1 S3 2.427(7) 3_656 ?
Cr1 S7 2.433(7) 3_656 ?
S1 P1 2.020(8) . ?
S2 P2 2.028(9) . ?
S3 P1 2.010(8) . ?
S4 P1 2.025(8) . ?
P1 S6 2.138(8) . ?
P2 S5 2.006(8) . ?
P2 S7 2.010(9) . ?
P2 S6 2.119(8) . ?

loop_
    _geom_angle_atom_site_label_1
    _geom_angle_atom_site_label_2
    _geom_angle_atom_site_label_3
    _geom_angle
    _geom_angle_site_symmetry_1
    _geom_angle_site_symmetry_3
    _geom_angle_publ_flag
S5 Cr1 S1 167.9(3) . 1_455 ?
S5 Cr1 S4 87.4(2) . 1_455 ?
S1 Cr1 S4 83.4(2) 1_455 1_455 ?
S5 Cr1 S2 83.7(2) . . ?
S1 Cr1 S2 89.2(2) 1_455 . ?
S4 Cr1 S2 95.1(3) 1_455 . ?
S5 Cr1 S3 84.6(2) . 3_656 ?
S1 Cr1 S3 102.9(2) 1_455 3_656 ?
S4 Cr1 S3 87.9(2) 1_455 3_656 ?
S2 Cr1 S3 167.8(2) . 3_656 ?
S5 Cr1 S7 104.6(2) . 3_656 ?
S1 Cr1 S7 84.6(2) 1_455 3_656 ?
S4 Cr1 S7 168.0(2) 1_455 3_656 ?
S2 Cr1 S7 86.1(2) . 3_656 ?
S3 Cr1 S7 93.4(3) 3_656 3_656 ?
P1 S1 Cr1 85.6(3) . 1_655 ?
P2 S2 Cr1 84.6(3) . . ?
P1 S3 Cr1 115.5(3) . 3_646 ?
P1 S4 Cr1 85.2(3) . 1_655 ?
S3 P1 S1 109.8(4) . . ?
S3 P1 S4 119.3(4) . . ?
S1 P1 S4 104.8(3) . . ?
S3 P1 S6 111.2(3) . . ?
S1 P1 S6 101.6(3) . . ?
S4 P1 S6 108.4(4) . . ?
S5 P2 S7 110.9(4) . . ?
S5 P2 S2 105.5(3) . . ?
S7 P2 S2 117.5(4) . . ?
S5 P2 S6 100.9(4) . . ?
S7 P2 S6 111.3(3) . . ?
S2 P2 S6 109.4(4) . . ?
P2 S5 Cr1 85.8(3) . . ?
P2 S6 P1 107.6(4) . . ?
P2 S7 Cr1 114.3(3) . 3_646 ?

_iucr_refine_instructions_details
;
TITL shelxt_a.res in P2(1)2(1)2(1)
    shelx.res
    created by SHELXL-2018/3 at 17:35:33 on 01-Aug-2023
CELL  0.71073   8.4824   9.5315  12.3218   90.000   90.000   90.000
ZERR     4.00   0.0004   0.0006   0.0006    0.000    0.000    0.000
LATT  -1
SYMM  1/2 - X, - Y, 1/2 + Z
SYMM  - X, 1/2 + Y, 1/2 - Z
SYMM  1/2 + X, 1/2 - Y, - Z
SFAC  CR   P    S    TL
UNIT  4 8 28 4
TEMP -60
SIZE 0.024 0.114 0.13
MERG   2
FMAP   2
PLAN   20
ACTA
BOND
LIST   4
L.S.  10
WGHT    0.127500
FVAR       0.11011
TL1   4    0.314348    0.474270    0.505807    11.00000    0.03480    0.10074 =
         0.04375   -0.00971    0.00198   -0.00364
CR1   1    0.254569    0.903930    0.750385    11.00000    0.01290    0.01688 =
         0.02592   -0.00096    0.00269    0.00259
S1    3    1.065391    0.874919    0.893901    11.00000    0.01314    0.01906 =
         0.02818   -0.00005    0.00187   -0.00310
S2    3    0.424696    0.735971    0.839915    11.00000    0.02488    0.02078 =
         0.02679    0.00566    0.00304    0.00630
S3    3    0.868202    0.579071    0.864889    11.00000    0.02406    0.01739 =
         0.02698    0.00413   -0.00279   -0.00611
S4    3    1.094999    0.729573    0.660187    11.00000    0.02328    0.02501 =
         0.02765   -0.00145    0.00400   -0.00713
P1    2    0.947462    0.751348    0.788292    11.00000    0.01369    0.01112 =
         0.02821   -0.00074   -0.00169   -0.00081
P2    2    0.560845    0.755612    0.705505    11.00000    0.01275    0.02450 =
         0.02922    0.00214    0.00151    0.00420
S5    3    0.438949    0.879993    0.604491    11.00000    0.01565    0.02458 =
         0.02772    0.00300    0.00458    0.00331
S6    3    0.757072    0.885200    0.741191    11.00000    0.01654    0.01885 =
         0.04612    0.00110   -0.00724    0.00064
S7    3    0.628151    0.578393    0.630217    11.00000    0.02296    0.01972 =
         0.02976   -0.00249   -0.00218    0.00632

HKLF 4




REM  shelxt_a.res in P2(1)2(1)2(1)
REM wR2 = 0.2107, GooF = S = 0.995, Restrained GooF = 0.995 for all data
REM R1 = 0.0776 for 1515 Fo > 4sig(Fo) and 0.1124 for all 2190 data
REM 100 parameters refined using 0 restraints

END

WGHT      0.1275      0.0000

REM Highest difference peak  3.599,  deepest hole -4.181,  1-sigma level  0.495
Q1    1   0.3277  0.5678  0.4954  11.00000  0.05    3.60
Q2    1   0.3093  0.4853  0.4334  11.00000  0.05    2.36
Q3    1   0.3156  0.4972  0.5765  11.00000  0.05    2.31
Q4    1   0.3231  0.4393  0.5040  11.00000  0.05    1.91
Q5    1   0.4139  0.4838  0.4174  11.00000  0.05    1.71
Q6    1   0.8344  0.5681  0.9401  11.00000  0.05    1.70
Q7    1   0.8056  0.9798  0.6360  11.00000  0.05    1.50
Q8    1   1.1029  0.7347  0.5895  11.00000  0.05    1.41
Q9    1   0.7637  0.5782  1.0093  11.00000  0.05    1.35
Q10   1   0.4309  0.7408  0.9120  11.00000  0.05    1.35
Q11   1   0.8555  0.5607  0.7979  11.00000  0.05    1.33
Q12   1   0.2442  1.0007  0.7534  11.00000  0.05    1.33
Q13   1   0.3199  0.3743  0.5860  11.00000  0.05    1.33
Q14   1   0.3084  0.5210  0.6330  11.00000  0.05    1.30
Q15   1   0.6560  0.4371  0.5447  11.00000  0.05    1.23
Q16   1   1.0774  0.8924  0.9760  11.00000  0.05    1.22
Q17   1   0.9420  0.8455  0.7851  11.00000  0.05    1.17
Q18   1   1.1780  0.8478  0.6612  11.00000  0.05    1.17
Q19   1   0.1810  0.4451  0.6023  11.00000  0.05    1.16
Q20   1   0.7275  0.8715  0.8272  11.00000  0.05    1.16
;

# END of CIF
