#\#CIF_1.1

#  CIF produced by WinGX routine CIF_UPDATE
#  Created on 2023-08-01 at 17:19:53
#  Using CIFtbx version 3.0.4  1 Sep 2006

#  Dictionary name : cif_core.dic
#  Dictionary vers : 2.4.5
#  Request file    : c:\program files (x86)\wingx\files\archive.reqdat
#  CIF files read  : shelx project

#------------------ SECTION 1. GLOBAL INFORMATION ---------------------------#

data_global

#------------------ AUDIT DETAILS -------------------------------------------#

_audit_creation_date            2023-08-01
_audit_creation_method          'WinGX routine CIF_UPDATE'
_audit_conform_dict_name        cif_core.dic
_audit_conform_dict_version     2.4.3
_audit_conform_dict_location    ftp://ftp.iucr.org/pub/cif_core.dic
_audit_update_record            ?

#------------------ AUTHOR DETAILS -------------------------------------------#

# Name and address of author for correspondence

_publ_contact_author_name       ' ,  '
_publ_contact_author_address
;

;
_publ_contact_author_email       ' '
_publ_contact_author_fax         ' '
_publ_contact_author_phone       ' '


# Insert blank lines between references

_publ_section_references
;
Blessing, R. H. (1995) Acta Cryst., A51, 33-38.

Blessing, R. H. (1987) Cryst. Rev. 1, 3-58.

Blessing, R. H. (1989) J. Appl. Cryst. 22, 396-397.

Bruker (2012) APEX2 (Version 2012.10-0), SAINT (version 8.27B), SADABS
(version 2012/1), BrukerAXS Inc, Madison, Wisconsin, USA.

ABSCOR: Higashi, T. (1995). ABSCOR. Rigaku Corporation, Tokyo, Japan.

CAD-4 Software: Enraf-Nonius (1989). CAD-4 Software (or CAD-4 EXPRESS).
Enraf-Nonius, Delft, The Netherlands.

Cambridge Structural Database: Allen, F. R. (2002). Acta Cryst. B58, 380-388.

CAMERON: Watkin, D. J., Prout, C. K. & Pearce, L. J. (1996). CAMERON.
Chemical Crystallography Laboratory, Oxford, England.

CrysAlis CCD, CrysAlis RED and associated programs: Oxford Diffraction (2006).
Program name(s). Oxford Diffraction Ltd, Abingdon, England.

CRYSTALS: Betteridge, P. W., Carruthers, J. R., Cooper, R. I., Prout, K. &
Watkin, D. J. (2003). J. Appl. Cryst. 36, 1487.

COLLECT: Nonius (1998). COLLECT. Nonius BV, Delft, The Netherlands.

DENZO/SCALEPACK:  Otwinowski, Z. & Minor, W. (1997). Methods in Enzymology,
Vol. 276, Macromolecular Crystallography, Part A, edited by C. W. Carter Jr
& R. M. Sweet, pp. 307-326. New York: Academic Press.

DIAMOND: Brandenburg, K.(2006). DIAMOND. Crystal Impact GbR, Bonn, Germany.

DIF4 and REDU4: Stoe & Cie (1991). Program name(s). Stoe & Cie, Darmstadt,
Germany.

DIFABS: Walker, N. &  Stuart, D. (1983). Acta Cryst., A39, 158 - 166.

DIRAX: Duisenberg, A. J. M. (1992). J. Appl. Cryst. 25, 92-96.

DIRDIF-2008: Beurskens, P.T., Beurskens, G., de Gelder, R., Garciía-Granda,
S., Gould, R.O. & Smits, J.M.M. (2008) The DIRDIF-2008 program
system, Crystallography Laboratory, Radboud University  Nijmegen,
The Netherlands.

EDMA: Palatinus, L., Prathapa, S. J. & van Smaalen, S. (2012) J. Appl. Cryst.
45, 575-580.

enCIFer: Allen, F. H., Johnson, O., Shields, G. P., Smith, B. R. & Towler,
M. (2004). J. Appl. Cryst. 37, 335-338.

EVALCCD: Duisenberg, A. J. M., Kroon-Batenburg, L. M. J. & Schreurs,
A. M. M. (2003). J. Appl. Cryst. 36, 220-229.

JANA2000: Petricek, V. & Dusek, M. (2000). JANA2000. Institute of Physics,
Czech Academy of Sciences, Prague, Czech Republic.

MERCURY: Macrae, C. F., Bruno, I. J., Chisholm, J. A., Edgington,
P. R., McCabe, P., Pidcock, E., Rodriguez-Monge, L., Taylor, R.,
van de Streek, J. & Wood, P. A. (2008). J. Appl. Cryst. 41, 466-470.

MOGUL: Bruno, I. J., Cole, J. C., Kessler, M., Luo, J., Motherwell,
W. D. S., Purkis, L. H., Smith, B. R., Taylor, R., Cooper, R. I., Harris,
S. E. & Orpen, A. G. (2004). J. Chem. Inf. Comput. Sci. 44, 2133-2144.

ORTEPII: Johnson, C. K. (1976). ORTEPII. Report ORNL-5138. Oak Ridge
National Laboratory, Tennessee, USA.

ORTEPIII:  Burnett, M. N. & Johnson, C. K. (1996). ORTEPIII.
Report ORNL-6895. Oak Ridge National Laboratory, Tennessee, USA.

ORTEP-3: Farrugia, L. J. (2012). J. Appl. Cryst. 45, 849-854.

PARST: Nardelli, M. (1995). J. Appl. Cryst. 28, 659.

PLATON: Spek, A. L. (2009). Acta. Cryst. D65, 148-155.

PROCESS: Rigaku (1996). PROCESS. Rigaku Corporation, Tokyo, Japan.

PROCESS-AUTO: Rigaku (1998). PROCESS-AUTO. Rigaku Corporation, Tokyo, Japan.

PublCIF: Westrip, S. P. (2010). J. Appl. Cryst. 43, 920-925.

SCHAKAL: Keller, E. (1999) University of Freiburg, Germany.

SHELX: Sheldrick, G. M. (2015). Acta Cryst. C71, 3-8.

SHELXD: Schneider, T. R. & Sheldrick, G. M. (2002) Acta Cryst. D58, 1772-1779.

SHELXT: Sheldrick, G. M. (2015). Acta Cryst. A71, 3-8.

SIR92: Altomare, A., Cascarano, G., Giacovazzo, C., Guagliardi, A., Burla,
M. C., Polidori, G. & Camalli, M. (1994). J. Appl. Cryst. 27, 435.

SIR97: Altomare, A., Burla, M. C., Camalli, M., Cascarano, G. L.,
Giacovazzo, C., Guagliardi, A., Moliterni, A. G. G., Polidori, G. &
Spagna, R. (1999). J. Appl. Cryst. 32, 115-119.

SIR2002: Burla, M. C., Camalli, M., Carrozzini, B., Cascarano, G. L.,
Giacovazzo, C., Polidori, G. & Spagna, R. (2003). J. Appl. Cryst. 36, 1103.

SIR2004: Burla, M. C., Caliandro, R., Camalli, M., Carrozzini, B.,
Cascarano, G. L., De Caro, L., Giacovazzo, C., Polidori, G. & Spagna, R.
(2005). J. Appl. Cryst. 38, 381-388.

SIR2008 & IL MILIONE: Burla, M. C., Caliandro, R., Camalli, M., Carrozzini, B.,
Cascarano, G. L., De Caro, L., Giacovazzo, C., Polidori, G., Siliqi, D.,
& Spagna, R. (2007). J. Appl. Cryst. 40, 609-613.

SIR2011: Burla, M. C., Caliandro, R., Camalli, M., Carrozzini, B.,
Cascarano, G. L., Giacovazzo, C., Mallamo, M., Mazzone, A., Polidori, G.
& Spagna, R. (2012). J. Appl. Cryst. 45, 357-361.

SUPERFLIP: Palatinus, L. & Chapuis, G. (2007) J. Appl. Cryst. 40, 786-790.

TEXSAN: Molecular Structure Corporation & Rigaku (2000). TEXSAN. MSC,
The Woodlands, Texas, USA, and Rigaku Corporation, Tokyo, Japan.

WinGX: Farrugia, L. J. (2012). J. Appl. Cryst. 45, 849-854.

X-AREA, X-RED, X-RED32, X-SHAPE:  Stoe & Cie (2002). Program name(s).
Stoe & Cie GmbH, Darmstadt, Germany.

XCAD4: Harms, K. & Wocadlo, S. (1995). XCAD4. University of Marburg, Germany.

XSCANS: Siemens (1994). XSCANS. Siemens Analytical X-ray Instruments Inc.,
Madison, Wisconsin, USA.

;

#------------------  SECTION 2. COMPOUND(S) DETAILS -------------------------#

data_shelx

_audit_creation_date                    2023-08-01T17:19:53-00:00
_audit_creation_method                  'WinGX routine CIF_UPDATE'
_audit_conform_dict_name                cif_core.dic
_audit_conform_dict_version             2.4.5
_audit_conform_dict_location            ftp://ftp.iucr.org/pub/cif_core.dic
_publ_requested_category                FI

#----------------------------------------------------------------------------#
#                   CHEMICAL INFORMATION                                     #
#----------------------------------------------------------------------------#

_chemical_formula_sum                   'Cr P2 S7 Tl'
_chemical_formula_weight                542.73
_chemical_absolute_configuration        unk

#----------------------------------------------------------------------------#
#                   UNIT CELL INFORMATION                                    #
#----------------------------------------------------------------------------#

_symmetry_cell_setting                  orthorhombic
_symmetry_space_group_name_H-M          'P 21 21 21'
_symmetry_space_group_name_Hall         'P 2ac 2ab'
_symmetry_Int_Tables_number             19
loop_
    _symmetry_equiv_pos_as_xyz
'x, y, z'
'-x+1/2, -y, z+1/2'
'-x, y+1/2, -z+1/2'
'x+1/2, -y+1/2, -z'

_cell_length_a                          8.4809(4)
_cell_length_b                          9.5324(5)
_cell_length_c                          12.3086(6)
_cell_angle_alpha                       90
_cell_angle_beta                        90
_cell_angle_gamma                       90
_cell_volume                            995.07(9)
_cell_formula_units_Z                   4
_cell_measurement_temperature           193(2)
_cell_measurement_reflns_used           28829
_cell_measurement_theta_min             2.91
_cell_measurement_theta_max             27.48
_cell_measurement_wavelength            0.71073

#----------------------------------------------------------------------------#
#                   CRYSTAL INFORMATION                                      #
#----------------------------------------------------------------------------#

_exptl_crystal_description              plate
_exptl_crystal_colour                   dark
_exptl_crystal_size_max                 0.13
_exptl_crystal_size_mid                 0.114
_exptl_crystal_size_min                 0.024
_exptl_crystal_density_diffrn           3.623
_exptl_crystal_density_method           'not measured'
_exptl_crystal_F_000                    988
loop_
    _exptl_crystal_face_index_h
    _exptl_crystal_face_index_k
    _exptl_crystal_face_index_l
    _exptl_crystal_face_perp_dist
1 1 0 0.057
-1 -1 0 0.057
1 -1 0 0.065
-1 1 0 0.065
0 0 1 0.012
0 0 -1 0.012
0 1 0 0.068
0 -1 0 0.056


#----------------------------------------------------------------------------#
#                   ABSORPTION CORRECTION                                    #
#----------------------------------------------------------------------------#

_exptl_absorpt_coefficient_mu           18.983
_exptl_absorpt_correction_type          multi-scan
_exptl_absorpt_process_details
;
        [c.f. r.h. blessing, acta cryst. (1995), a51, 33-38]
;
_exptl_absorpt_correction_T_min         0.2325
_exptl_absorpt_correction_T_max         0.4859
_shelx_estimated_absorpt_T_min          0.192
_shelx_estimated_absorpt_T_max          0.659

#----------------------------------------------------------------------------#
#                   DATA COLLECTION                                          #
#----------------------------------------------------------------------------#

_diffrn_source                          'Enraf Nonius FR590'
_diffrn_ambient_temperature             193(2)
_diffrn_radiation_wavelength            0.71073
_diffrn_radiation_type                  MoK\a
_diffrn_radiation_monochromator         'horizonally mounted graphite crystal'
_diffrn_radiation_probe                 x-ray
_diffrn_detector                        'CCD plate'
_diffrn_detector_area_resol_mean        9
_diffrn_orient_matrix_ub_11             0.107048
_diffrn_orient_matrix_ub_12             -0.003227
_diffrn_orient_matrix_ub_13             0.033971
_diffrn_orient_matrix_ub_21             -0.026858
_diffrn_orient_matrix_ub_22             -0.091633
_diffrn_orient_matrix_ub_23             0.034959
_diffrn_orient_matrix_ub_31             0.041505
_diffrn_orient_matrix_ub_32             -0.050972
_diffrn_orient_matrix_ub_33             -0.064996
_diffrn_measurement_device              '95mm CCD camera on κ-goniostat'
_diffrn_measurement_device_type         KappaCCD
_diffrn_measurement_method              'CCD rotation images, thick slices'
_diffrn_standards_number                0
_diffrn_standards_interval_time         .
_diffrn_standards_interval_count        .
_diffrn_standards_decay_%               ?
_diffrn_reflns_av_R_equivalents         0.1571
_diffrn_reflns_av_unetI/netI            0.1132
_diffrn_reflns_number                   8620
_diffrn_reflns_limit_h_min              -11
_diffrn_reflns_limit_h_max              11
_diffrn_reflns_limit_k_min              -12
_diffrn_reflns_limit_k_max              12
_diffrn_reflns_limit_l_min              -16
_diffrn_reflns_limit_l_max              15
_diffrn_reflns_theta_min                2.917
_diffrn_reflns_theta_max                27.514
_diffrn_reflns_theta_full               25.242
_diffrn_measured_fraction_theta_full
                                        0.978
_diffrn_measured_fraction_theta_max
                                        0.975
_diffrn_reflns_Laue_measured_fraction_full
                                        0.978
_diffrn_reflns_Laue_measured_fraction_max
                                        0.975
_diffrn_reflns_point_group_measured_fraction_full
                                        0.972
_diffrn_reflns_point_group_measured_fraction_max
                                        0.964
_reflns_Friedel_fraction_full           0.962
_reflns_Friedel_fraction_max            0.949
_reflns_Friedel_coverage                0.694
_reflns_number_total                    2197
_reflns_number_gt                       1631
_reflns_threshold_expression            'I > 2σ(I)'

#----------------------------------------------------------------------------#
#                   COMPUTER PROGRAMS USED                                   #
#----------------------------------------------------------------------------#

_computing_data_collection              'Collect (Bruker AXS BV, 1997-2004)'
_computing_cell_refinement
                                       'HKL Scalepack (Otwinowski & Minor 1997)'
_computing_data_reduction
                             'HKL Denzo and Scalepack (Otwinowski & Minor 1997)'
_computing_structure_refinement         'SHELXL-2018/3 (Sheldrick, 2018)'
_computing_molecular_graphics           'Ortep for Windows (Farrugia, 2012)'
_computing_publication_material
                                   'WinGX publication routines (Farrugia, 2012)'

#----------------------------------------------------------------------------#
#                   STRUCTURE SOLUTION                                       #
#----------------------------------------------------------------------------#


#----------------------------------------------------------------------------#
#                   REFINEMENT INFORMATION                                   #
#----------------------------------------------------------------------------#

_shelx_SHELXL_version_number            2018/3
_refine_ls_structure_factor_coef        Fsqd
_refine_ls_matrix_type                  full
_refine_ls_weighting_scheme             calc
_refine_ls_weighting_details
                      'w=1/[σ²(Fo²)+(0.1235P)²] where P=(Fo²+2Fc²)/3'
_refine_ls_hydrogen_treatment           undef
_refine_ls_extinction_method            none
_refine_ls_number_reflns                2197
_refine_ls_number_parameters            100
_refine_ls_number_restraints            0
_refine_ls_number_constraints           0
_refine_ls_R_factor_all                 0.103
_refine_ls_R_factor_gt                  0.0759
_refine_ls_wR_factor_ref                0.1992
_refine_ls_wR_factor_gt                 0.1815
_refine_ls_goodness_of_fit_ref          1.013
_refine_ls_restrained_S_all             1.013
_refine_ls_shift/su_max                 0
_refine_ls_shift/su_mean                0
_refine_ls_abs_structure_details
;
 Flack x determined using 521 quotients [(I+)-(I-)]/[(I+)+(I-)]
 (Parsons, Flack and Wagner, Acta Cryst. B69 (2013) 249-259).
;
_refine_ls_abs_structure_Flack          -0.014(11)
_refine_diff_density_max                4.086
_refine_diff_density_min                -4.774
_refine_diff_density_rms                0.531

#----------------------------------------------------------------------------#
#                   CONSTRAINTS AND RESTRAINTS                               #
#----------------------------------------------------------------------------#


#----------------------------------------------------------------------------#
#                   ATOMIC TYPES, COORDINATES AND THERMAL PARAMETERS         #
#----------------------------------------------------------------------------#

loop_
    _atom_type_symbol
    _atom_type_description
    _atom_type_scat_dispersion_real
    _atom_type_scat_dispersion_imag
    _atom_type_scat_source
Cr Cr 0.3209 0.6236 'International Tables Vol C Tables 4.2.6.8 and 6.1.1.4'
P P 0.1023 0.0942 'International Tables Vol C Tables 4.2.6.8 and 6.1.1.4'
S S 0.1246 0.1234 'International Tables Vol C Tables 4.2.6.8 and 6.1.1.4'
Tl Tl -2.8358 9.6688 'International Tables Vol C Tables 4.2.6.8 and 6.1.1.4'

loop_
    _atom_site_label
    _atom_site_type_symbol
    _atom_site_fract_x
    _atom_site_fract_y
    _atom_site_fract_z
    _atom_site_U_iso_or_equiv
    _atom_site_adp_type
    _atom_site_occupancy
    _atom_site_site_symmetry_order
    _atom_site_calc_flag
    _atom_site_refinement_flags_posn
    _atom_site_refinement_flags_adp
    _atom_site_refinement_flags_occupancy
    _atom_site_disorder_assembly
    _atom_site_disorder_group
Tl1 Tl 0.31443(14) 0.46775(18) 0.50738(8) 0.0510(5) Uani 1 1 d . . . . .
Cr1 Cr 0.2559(3) 0.9043(4) 0.7505(2) 0.0165(8) Uani 1 1 d . . . . .
S1 S 1.0669(6) 0.8739(6) 0.8938(4) 0.0195(12) Uani 1 1 d . . . . .
S2 S 0.4276(6) 0.7363(6) 0.8399(5) 0.0221(13) Uani 1 1 d . . . . .
S3 S 0.8679(6) 0.5784(6) 0.8647(5) 0.0192(12) Uani 1 1 d . . . . .
S4 S 1.0987(7) 0.7284(7) 0.6605(5) 0.0239(13) Uani 1 1 d . . . . .
P1 P 0.9496(6) 0.7505(6) 0.7870(5) 0.0177(12) Uani 1 1 d . . . . .
P2 P 0.5614(6) 0.7553(7) 0.7045(5) 0.0199(13) Uani 1 1 d . . . . .
S5 S 0.4395(6) 0.8818(6) 0.6039(4) 0.0210(12) Uani 1 1 d . . . . .
S6 S 0.7593(6) 0.8837(7) 0.7386(5) 0.0255(14) Uani 1 1 d . . . . .
S7 S 0.6271(7) 0.5769(6) 0.6295(5) 0.0221(12) Uani 1 1 d . . . . .

loop_
    _atom_site_aniso_label
    _atom_site_aniso_U_11
    _atom_site_aniso_U_22
    _atom_site_aniso_U_33
    _atom_site_aniso_U_23
    _atom_site_aniso_U_13
    _atom_site_aniso_U_12
Tl1 0.0315(6) 0.0822(11) 0.0393(7) -0.0070(7) 0.0018(4) -0.0033(5)
Cr1 0.0115(16) 0.0144(19) 0.0235(19) 0.0010(14) 0.0010(14) 0.0011(14)
S1 0.014(3) 0.022(3) 0.023(3) 0.000(2) 0.003(2) -0.006(2)
S2 0.022(3) 0.019(3) 0.025(3) 0.004(2) 0.005(2) 0.004(2)
S3 0.021(3) 0.011(3) 0.026(3) 0.003(2) -0.002(2) -0.007(2)
S4 0.022(3) 0.023(3) 0.027(3) -0.001(3) 0.005(2) -0.004(2)
P1 0.011(2) 0.017(3) 0.025(3) 0.000(2) 0.000(2) -0.002(2)
P2 0.012(2) 0.023(4) 0.025(3) 0.001(2) 0.004(2) 0.001(2)
S5 0.015(3) 0.021(3) 0.028(3) 0.003(2) 0.004(2) 0.002(2)
S6 0.016(3) 0.020(3) 0.040(4) 0.002(3) -0.005(2) -0.002(2)
S7 0.023(3) 0.018(3) 0.025(3) -0.001(2) -0.002(2) 0.006(2)


#----------------------------------------------------------------------------#
#                   MOLECULAR GEOMETRY                                       #
#----------------------------------------------------------------------------#

_geom_special_details
;
 All esds (except the esd in the dihedral angle between two l.s. planes)
 are estimated using the full covariance matrix.  The cell esds are taken
 into account individually in the estimation of esds in distances, angles
 and torsion angles; correlations between esds in cell parameters are only
 used when they are defined by crystal symmetry.  An approximate (isotropic)
 treatment of cell esds is used for estimating esds involving l.s. planes.
;
loop_
    _geom_bond_atom_site_label_1
    _geom_bond_atom_site_label_2
    _geom_bond_distance
    _geom_bond_site_symmetry_2
    _geom_bond_publ_flag
Cr1 S5 2.393(6) . ?
Cr1 S1 2.401(6) 1_455 ?
Cr1 S4 2.412(7) 1_455 ?
Cr1 S3 2.422(6) 3_656 ?
Cr1 S7 2.423(7) 3_656 ?
Cr1 S2 2.428(6) . ?
S1 P1 2.025(8) . ?
S2 P2 2.024(8) . ?
S3 P1 2.021(8) . ?
S4 P1 2.018(8) . ?
P1 S6 2.138(8) . ?
P2 S5 2.014(8) . ?
P2 S7 2.014(9) . ?
P2 S6 2.119(8) . ?

loop_
    _geom_angle_atom_site_label_1
    _geom_angle_atom_site_label_2
    _geom_angle_atom_site_label_3
    _geom_angle
    _geom_angle_site_symmetry_1
    _geom_angle_site_symmetry_3
    _geom_angle_publ_flag
S5 Cr1 S1 167.8(3) . 1_455 ?
S5 Cr1 S4 87.2(2) . 1_455 ?
S1 Cr1 S4 83.4(2) 1_455 1_455 ?
S5 Cr1 S3 84.4(2) . 3_656 ?
S1 Cr1 S3 102.9(2) 1_455 3_656 ?
S4 Cr1 S3 88.1(2) 1_455 3_656 ?
S5 Cr1 S7 104.7(2) . 3_656 ?
S1 Cr1 S7 84.7(2) 1_455 3_656 ?
S4 Cr1 S7 168.1(2) 1_455 3_656 ?
S3 Cr1 S7 94.0(2) 3_656 3_656 ?
S5 Cr1 S2 83.8(2) . . ?
S1 Cr1 S2 89.3(2) 1_455 . ?
S4 Cr1 S2 94.6(3) 1_455 . ?
S3 Cr1 S2 167.7(2) 3_656 . ?
S7 Cr1 S2 85.8(2) 3_656 . ?
P1 S1 Cr1 85.5(3) . 1_655 ?
P2 S2 Cr1 84.5(3) . . ?
P1 S3 Cr1 115.3(3) . 3_646 ?
P1 S4 Cr1 85.4(3) . 1_655 ?
S4 P1 S3 119.7(4) . . ?
S4 P1 S1 104.7(3) . . ?
S3 P1 S1 109.4(3) . . ?
S4 P1 S6 108.6(4) . . ?
S3 P1 S6 110.8(3) . . ?
S1 P1 S6 101.9(3) . . ?
S5 P2 S7 111.5(4) . . ?
S5 P2 S2 105.8(3) . . ?
S7 P2 S2 117.2(4) . . ?
S5 P2 S6 100.5(4) . . ?
S7 P2 S6 111.0(3) . . ?
S2 P2 S6 109.4(4) . . ?
P2 S5 Cr1 85.6(3) . . ?
P2 S6 P1 108.1(3) . . ?
P2 S7 Cr1 114.0(3) . 3_646 ?

_iucr_refine_instructions_details
;
TITL shelxt_a.res in P2(1)2(1)2(1)
    shelx.res
    created by SHELXL-2018/3 at 17:17:05 on 01-Aug-2023
CELL  0.71073   8.4809   9.5324  12.3086   90.000   90.000   90.000
ZERR     4.00   0.0004   0.0005   0.0006    0.000    0.000    0.000
LATT  -1
SYMM  1/2 - X, - Y, 1/2 + Z
SYMM  - X, 1/2 + Y, 1/2 - Z
SYMM  1/2 + X, 1/2 - Y, - Z
SFAC  CR   P    S    TL
UNIT  4 8 28 4
TEMP -80
SIZE 0.024 0.114 0.13
MERG   2
FMAP   2
PLAN   20
ACTA
BOND
LIST   4
L.S.  10
WGHT    0.123500
FVAR       0.10859
TL1   4    0.314425    0.467751    0.507378    11.00000    0.03146    0.08220 =
         0.03926   -0.00704    0.00179   -0.00335
CR1   1    0.255900    0.904347    0.750513    11.00000    0.01154    0.01439 =
         0.02352    0.00098    0.00100    0.00112
S1    3    1.066869    0.873901    0.893804    11.00000    0.01372    0.02163 =
         0.02313    0.00006    0.00305   -0.00586
S2    3    0.427575    0.736348    0.839876    11.00000    0.02193    0.01941 =
         0.02481    0.00425    0.00523    0.00374
S3    3    0.867919    0.578416    0.864708    11.00000    0.02053    0.01124 =
         0.02582    0.00314   -0.00168   -0.00685
S4    3    1.098725    0.728443    0.660472    11.00000    0.02190    0.02311 =
         0.02671   -0.00147    0.00499   -0.00366
P1    2    0.949567    0.750514    0.787023    11.00000    0.01138    0.01693 =
         0.02469   -0.00045   -0.00027   -0.00217
P2    2    0.561360    0.755308    0.704520    11.00000    0.01185    0.02299 =
         0.02496    0.00074    0.00361    0.00103
S5    3    0.439531    0.881840    0.603921    11.00000    0.01489    0.02053 =
         0.02754    0.00253    0.00430    0.00199
S6    3    0.759297    0.883710    0.738574    11.00000    0.01609    0.02037 =
         0.04018    0.00201   -0.00489   -0.00239
S7    3    0.627092    0.576876    0.629490    11.00000    0.02305    0.01834 =
         0.02496   -0.00057   -0.00215    0.00637
HKLF    4




REM  shelxt_a.res in P2(1)2(1)2(1)
REM wR2 = 0.1992, GooF = S = 1.013, Restrained GooF = 1.013 for all data
REM R1 = 0.0759 for 1631 Fo > 4sig(Fo) and 0.1030 for all 2197 data
REM 100 parameters refined using 0 restraints

END

WGHT      0.1240      0.0000

REM Highest difference peak  4.086,  deepest hole -4.774,  1-sigma level  0.531
Q1    1   0.3228  0.5598  0.4974  11.00000  0.05    4.09
Q2    1   0.3106  0.4716  0.4334  11.00000  0.05    2.74
Q3    1   0.3106  0.4859  0.5753  11.00000  0.05    2.34
Q4    1   0.8403  0.5644  0.9369  11.00000  0.05    1.98
Q5    1   0.3950  0.4858  0.4172  11.00000  0.05    1.63
Q6    1   0.4310  0.8901  0.5305  11.00000  0.05    1.56
Q7    1   0.8577  0.5591  0.7973  11.00000  0.05    1.49
Q8    1   0.8292  0.5645  1.0153  11.00000  0.05    1.48
Q9    1   0.6820  0.4318  0.5734  11.00000  0.05    1.48
Q10   1   0.2482  0.9992  0.7526  11.00000  0.05    1.46
Q11   1   0.2690  0.9248  0.8389  11.00000  0.05    1.39
Q12   1   0.9483  0.7648  0.8593  11.00000  0.05    1.38
Q13   1   0.3086  0.5599  0.4151  11.00000  0.05    1.35
Q14   1   0.7597  0.9816  0.6625  11.00000  0.05    1.33
Q15   1   0.1766  0.3826  0.5075  11.00000  0.05    1.32
Q16   1   1.0520  0.8756  0.8386  11.00000  0.05    1.31
Q17   1   0.1955  0.4419  0.6030  11.00000  0.05    1.31
Q18   1   0.8278  0.7007  0.7094  11.00000  0.05    1.30
Q19   1   0.2630  0.9194  0.6813  11.00000  0.05    1.28
Q20   1   1.1722  0.8623  0.6538  11.00000  0.05    1.28
;

# END of CIF
