#\#CIF_1.1

#  CIF produced by WinGX routine CIF_UPDATE
#  Created on 2023-07-31 at 19:49:20
#  Using CIFtbx version 3.0.4  1 Sep 2006

#  Dictionary name : cif_core.dic
#  Dictionary vers : 2.4.5
#  Request file    : c:\program files (x86)\wingx\files\archive.reqdat
#  CIF files read  : shelx project

#------------------ SECTION 1. GLOBAL INFORMATION ---------------------------#

data_global

#------------------ AUDIT DETAILS -------------------------------------------#

_audit_creation_date            2023-07-31
_audit_creation_method          'WinGX routine CIF_UPDATE'
_audit_conform_dict_name        cif_core.dic
_audit_conform_dict_version     2.4.3
_audit_conform_dict_location    ftp://ftp.iucr.org/pub/cif_core.dic
_audit_update_record            ?

#------------------ AUTHOR DETAILS -------------------------------------------#

# Name and address of author for correspondence

_publ_contact_author_name       ' ,  '
_publ_contact_author_address
;

;
_publ_contact_author_email       ' '
_publ_contact_author_fax         ' '
_publ_contact_author_phone       ' '


# Insert blank lines between references

_publ_section_references
;
Blessing, R. H. (1995) Acta Cryst., A51, 33-38.

Blessing, R. H. (1987) Cryst. Rev. 1, 3-58.

Blessing, R. H. (1989) J. Appl. Cryst. 22, 396-397.

Bruker (2012) APEX2 (Version 2012.10-0), SAINT (version 8.27B), SADABS
(version 2012/1), BrukerAXS Inc, Madison, Wisconsin, USA.

ABSCOR: Higashi, T. (1995). ABSCOR. Rigaku Corporation, Tokyo, Japan.

CAD-4 Software: Enraf-Nonius (1989). CAD-4 Software (or CAD-4 EXPRESS).
Enraf-Nonius, Delft, The Netherlands.

Cambridge Structural Database: Allen, F. R. (2002). Acta Cryst. B58, 380-388.

CAMERON: Watkin, D. J., Prout, C. K. & Pearce, L. J. (1996). CAMERON.
Chemical Crystallography Laboratory, Oxford, England.

CrysAlis CCD, CrysAlis RED and associated programs: Oxford Diffraction (2006).
Program name(s). Oxford Diffraction Ltd, Abingdon, England.

CRYSTALS: Betteridge, P. W., Carruthers, J. R., Cooper, R. I., Prout, K. &
Watkin, D. J. (2003). J. Appl. Cryst. 36, 1487.

COLLECT: Nonius (1998). COLLECT. Nonius BV, Delft, The Netherlands.

DENZO/SCALEPACK:  Otwinowski, Z. & Minor, W. (1997). Methods in Enzymology,
Vol. 276, Macromolecular Crystallography, Part A, edited by C. W. Carter Jr
& R. M. Sweet, pp. 307-326. New York: Academic Press.

DIAMOND: Brandenburg, K.(2006). DIAMOND. Crystal Impact GbR, Bonn, Germany.

DIF4 and REDU4: Stoe & Cie (1991). Program name(s). Stoe & Cie, Darmstadt,
Germany.

DIFABS: Walker, N. &  Stuart, D. (1983). Acta Cryst., A39, 158 - 166.

DIRAX: Duisenberg, A. J. M. (1992). J. Appl. Cryst. 25, 92-96.

DIRDIF-2008: Beurskens, P.T., Beurskens, G., de Gelder, R., Garciía-Granda,
S., Gould, R.O. & Smits, J.M.M. (2008) The DIRDIF-2008 program
system, Crystallography Laboratory, Radboud University  Nijmegen,
The Netherlands.

EDMA: Palatinus, L., Prathapa, S. J. & van Smaalen, S. (2012) J. Appl. Cryst.
45, 575-580.

enCIFer: Allen, F. H., Johnson, O., Shields, G. P., Smith, B. R. & Towler,
M. (2004). J. Appl. Cryst. 37, 335-338.

EVALCCD: Duisenberg, A. J. M., Kroon-Batenburg, L. M. J. & Schreurs,
A. M. M. (2003). J. Appl. Cryst. 36, 220-229.

JANA2000: Petricek, V. & Dusek, M. (2000). JANA2000. Institute of Physics,
Czech Academy of Sciences, Prague, Czech Republic.

MERCURY: Macrae, C. F., Bruno, I. J., Chisholm, J. A., Edgington,
P. R., McCabe, P., Pidcock, E., Rodriguez-Monge, L., Taylor, R.,
van de Streek, J. & Wood, P. A. (2008). J. Appl. Cryst. 41, 466-470.

MOGUL: Bruno, I. J., Cole, J. C., Kessler, M., Luo, J., Motherwell,
W. D. S., Purkis, L. H., Smith, B. R., Taylor, R., Cooper, R. I., Harris,
S. E. & Orpen, A. G. (2004). J. Chem. Inf. Comput. Sci. 44, 2133-2144.

ORTEPII: Johnson, C. K. (1976). ORTEPII. Report ORNL-5138. Oak Ridge
National Laboratory, Tennessee, USA.

ORTEPIII:  Burnett, M. N. & Johnson, C. K. (1996). ORTEPIII.
Report ORNL-6895. Oak Ridge National Laboratory, Tennessee, USA.

ORTEP-3: Farrugia, L. J. (2012). J. Appl. Cryst. 45, 849-854.

PARST: Nardelli, M. (1995). J. Appl. Cryst. 28, 659.

PLATON: Spek, A. L. (2009). Acta. Cryst. D65, 148-155.

PROCESS: Rigaku (1996). PROCESS. Rigaku Corporation, Tokyo, Japan.

PROCESS-AUTO: Rigaku (1998). PROCESS-AUTO. Rigaku Corporation, Tokyo, Japan.

PublCIF: Westrip, S. P. (2010). J. Appl. Cryst. 43, 920-925.

SCHAKAL: Keller, E. (1999) University of Freiburg, Germany.

SHELX: Sheldrick, G. M. (2015). Acta Cryst. C71, 3-8.

SHELXD: Schneider, T. R. & Sheldrick, G. M. (2002) Acta Cryst. D58, 1772-1779.

SHELXT: Sheldrick, G. M. (2015). Acta Cryst. A71, 3-8.

SIR92: Altomare, A., Cascarano, G., Giacovazzo, C., Guagliardi, A., Burla,
M. C., Polidori, G. & Camalli, M. (1994). J. Appl. Cryst. 27, 435.

SIR97: Altomare, A., Burla, M. C., Camalli, M., Cascarano, G. L.,
Giacovazzo, C., Guagliardi, A., Moliterni, A. G. G., Polidori, G. &
Spagna, R. (1999). J. Appl. Cryst. 32, 115-119.

SIR2002: Burla, M. C., Camalli, M., Carrozzini, B., Cascarano, G. L.,
Giacovazzo, C., Polidori, G. & Spagna, R. (2003). J. Appl. Cryst. 36, 1103.

SIR2004: Burla, M. C., Caliandro, R., Camalli, M., Carrozzini, B.,
Cascarano, G. L., De Caro, L., Giacovazzo, C., Polidori, G. & Spagna, R.
(2005). J. Appl. Cryst. 38, 381-388.

SIR2008 & IL MILIONE: Burla, M. C., Caliandro, R., Camalli, M., Carrozzini, B.,
Cascarano, G. L., De Caro, L., Giacovazzo, C., Polidori, G., Siliqi, D.,
& Spagna, R. (2007). J. Appl. Cryst. 40, 609-613.

SIR2011: Burla, M. C., Caliandro, R., Camalli, M., Carrozzini, B.,
Cascarano, G. L., Giacovazzo, C., Mallamo, M., Mazzone, A., Polidori, G.
& Spagna, R. (2012). J. Appl. Cryst. 45, 357-361.

SUPERFLIP: Palatinus, L. & Chapuis, G. (2007) J. Appl. Cryst. 40, 786-790.

TEXSAN: Molecular Structure Corporation & Rigaku (2000). TEXSAN. MSC,
The Woodlands, Texas, USA, and Rigaku Corporation, Tokyo, Japan.

WinGX: Farrugia, L. J. (2012). J. Appl. Cryst. 45, 849-854.

X-AREA, X-RED, X-RED32, X-SHAPE:  Stoe & Cie (2002). Program name(s).
Stoe & Cie GmbH, Darmstadt, Germany.

XCAD4: Harms, K. & Wocadlo, S. (1995). XCAD4. University of Marburg, Germany.

XSCANS: Siemens (1994). XSCANS. Siemens Analytical X-ray Instruments Inc.,
Madison, Wisconsin, USA.

;

#------------------  SECTION 2. COMPOUND(S) DETAILS -------------------------#

data_shelx

_audit_creation_date                    2023-07-31T19:49:20-00:00
_audit_creation_method                  'WinGX routine CIF_UPDATE'
_audit_conform_dict_name                cif_core.dic
_audit_conform_dict_version             2.4.5
_audit_conform_dict_location            ftp://ftp.iucr.org/pub/cif_core.dic
_publ_requested_category                FI

#----------------------------------------------------------------------------#
#                   CHEMICAL INFORMATION                                     #
#----------------------------------------------------------------------------#

_chemical_formula_sum                   'Cr P2 S7 Tl'
_chemical_formula_weight                542.73
_chemical_absolute_configuration        unk

#----------------------------------------------------------------------------#
#                   UNIT CELL INFORMATION                                    #
#----------------------------------------------------------------------------#

_symmetry_cell_setting                  orthorhombic
_symmetry_space_group_name_H-M          'P 21 21 21'
_symmetry_space_group_name_Hall         'P 2ac 2ab'
_symmetry_Int_Tables_number             19
loop_
    _symmetry_equiv_pos_as_xyz
'x, y, z'
'-x+1/2, -y, z+1/2'
'-x, y+1/2, -z+1/2'
'x+1/2, -y+1/2, -z'

_cell_length_a                          8.4785(4)
_cell_length_b                          9.5317(5)
_cell_length_c                          12.2915(5)
_cell_angle_alpha                       90
_cell_angle_beta                        90
_cell_angle_gamma                       90
_cell_volume                            993.33(8)
_cell_formula_units_Z                   4
_cell_measurement_temperature           163(2)
_cell_measurement_reflns_used           29060
_cell_measurement_theta_min             2.91
_cell_measurement_theta_max             27.48
_cell_measurement_wavelength            0.71073

#----------------------------------------------------------------------------#
#                   CRYSTAL INFORMATION                                      #
#----------------------------------------------------------------------------#

_exptl_crystal_description              plate
_exptl_crystal_colour                   dark
_exptl_crystal_size_max                 0.13
_exptl_crystal_size_mid                 0.114
_exptl_crystal_size_min                 0.024
_exptl_crystal_density_diffrn           3.629
_exptl_crystal_density_method           'not measured'
_exptl_crystal_F_000                    988
loop_
    _exptl_crystal_face_index_h
    _exptl_crystal_face_index_k
    _exptl_crystal_face_index_l
    _exptl_crystal_face_perp_dist
1 1 0 0.057
-1 -1 0 0.057
1 -1 0 0.065
-1 1 0 0.065
0 0 1 0.012
0 0 -1 0.012
0 1 0 0.068
0 -1 0 0.056


#----------------------------------------------------------------------------#
#                   ABSORPTION CORRECTION                                    #
#----------------------------------------------------------------------------#

_exptl_absorpt_coefficient_mu           19.016
_exptl_absorpt_correction_type          multi-scan
_exptl_absorpt_process_details
;
        [c.f. r.h. blessing, acta cryst. (1995), a51, 33-38]
;
_exptl_absorpt_correction_T_min         0.2348
_exptl_absorpt_correction_T_max         0.5794
_shelx_estimated_absorpt_T_min          0.191
_shelx_estimated_absorpt_T_max          0.658

#----------------------------------------------------------------------------#
#                   DATA COLLECTION                                          #
#----------------------------------------------------------------------------#

_diffrn_source                          'Enraf Nonius FR590'
_diffrn_ambient_temperature             163(2)
_diffrn_radiation_wavelength            0.71073
_diffrn_radiation_type                  MoK\a
_diffrn_radiation_monochromator         'horizonally mounted graphite crystal'
_diffrn_radiation_probe                 x-ray
_diffrn_detector                        'CCD plate'
_diffrn_detector_area_resol_mean        9
_diffrn_orient_matrix_ub_11             0.106739
_diffrn_orient_matrix_ub_12             -0.008863
_diffrn_orient_matrix_ub_13             0.033923
_diffrn_orient_matrix_ub_21             -0.033863
_diffrn_orient_matrix_ub_22             -0.088603
_diffrn_orient_matrix_ub_23             0.036776
_diffrn_orient_matrix_ub_31             0.03703
_diffrn_orient_matrix_ub_32             -0.055477
_diffrn_orient_matrix_ub_33             -0.064154
_diffrn_measurement_device              '95mm CCD camera on κ-goniostat'
_diffrn_measurement_device_type         KappaCCD
_diffrn_measurement_method              'CCD rotation images, thick slices'
_diffrn_standards_number                0
_diffrn_standards_interval_time         .
_diffrn_standards_interval_count        .
_diffrn_standards_decay_%               ?
_diffrn_reflns_av_R_equivalents         0.2469
_diffrn_reflns_av_unetI/netI            0.1463
_diffrn_reflns_number                   8663
_diffrn_reflns_limit_h_min              -11
_diffrn_reflns_limit_h_max              11
_diffrn_reflns_limit_k_min              -12
_diffrn_reflns_limit_k_max              12
_diffrn_reflns_limit_l_min              -15
_diffrn_reflns_limit_l_max              15
_diffrn_reflns_theta_min                2.919
_diffrn_reflns_theta_max                27.502
_diffrn_reflns_theta_full               25.242
_diffrn_measured_fraction_theta_full
                                        0.978
_diffrn_measured_fraction_theta_max
                                        0.974
_diffrn_reflns_Laue_measured_fraction_full
                                        0.978
_diffrn_reflns_Laue_measured_fraction_max
                                        0.974
_diffrn_reflns_point_group_measured_fraction_full
                                        0.97
_diffrn_reflns_point_group_measured_fraction_max
                                        0.963
_reflns_Friedel_fraction_full           0.959
_reflns_Friedel_fraction_max            0.946
_reflns_Friedel_coverage                0.694
_reflns_number_total                    2187
_reflns_number_gt                       1717
_reflns_threshold_expression            'I > 2σ(I)'

#----------------------------------------------------------------------------#
#                   COMPUTER PROGRAMS USED                                   #
#----------------------------------------------------------------------------#

_computing_data_collection              'Collect (Bruker AXS BV, 1997-2004)'
_computing_cell_refinement
                                       'HKL Scalepack (Otwinowski & Minor 1997)'
_computing_data_reduction
                             'HKL Denzo and Scalepack (Otwinowski & Minor 1997)'
_computing_structure_refinement         'SHELXL-2018/3 (Sheldrick, 2018)'
_computing_molecular_graphics           'Ortep for Windows (Farrugia, 2012)'
_computing_publication_material
                                   'WinGX publication routines (Farrugia, 2012)'

#----------------------------------------------------------------------------#
#                   STRUCTURE SOLUTION                                       #
#----------------------------------------------------------------------------#


#----------------------------------------------------------------------------#
#                   REFINEMENT INFORMATION                                   #
#----------------------------------------------------------------------------#

_shelx_SHELXL_version_number            2018/3
_refine_ls_structure_factor_coef        Fsqd
_refine_ls_matrix_type                  full
_refine_ls_weighting_scheme             calc
_refine_ls_weighting_details
                      'w=1/[σ²(Fo²)+(0.1469P)²] where P=(Fo²+2Fc²)/3'
_refine_ls_hydrogen_treatment           undef
_refine_ls_extinction_method            none
_refine_ls_number_reflns                2187
_refine_ls_number_parameters            100
_refine_ls_number_restraints            0
_refine_ls_number_constraints           0
_refine_ls_R_factor_all                 0.1111
_refine_ls_R_factor_gt                  0.0912
_refine_ls_wR_factor_ref                0.2369
_refine_ls_wR_factor_gt                 0.2175
_refine_ls_goodness_of_fit_ref          1.034
_refine_ls_restrained_S_all             1.034
_refine_ls_shift/su_max                 0
_refine_ls_shift/su_mean                0
_refine_ls_abs_structure_details
;
 Flack x determined using 518 quotients [(I+)-(I-)]/[(I+)+(I-)]
 (Parsons, Flack and Wagner, Acta Cryst. B69 (2013) 249-259).
;
_refine_ls_abs_structure_Flack          -0.06(2)
_refine_diff_density_max                4.826
_refine_diff_density_min                -5.028
_refine_diff_density_rms                0.635

#----------------------------------------------------------------------------#
#                   CONSTRAINTS AND RESTRAINTS                               #
#----------------------------------------------------------------------------#


#----------------------------------------------------------------------------#
#                   ATOMIC TYPES, COORDINATES AND THERMAL PARAMETERS         #
#----------------------------------------------------------------------------#

loop_
    _atom_type_symbol
    _atom_type_description
    _atom_type_scat_dispersion_real
    _atom_type_scat_dispersion_imag
    _atom_type_scat_source
Cr Cr 0.3209 0.6236 'International Tables Vol C Tables 4.2.6.8 and 6.1.1.4'
P P 0.1023 0.0942 'International Tables Vol C Tables 4.2.6.8 and 6.1.1.4'
S S 0.1246 0.1234 'International Tables Vol C Tables 4.2.6.8 and 6.1.1.4'
Tl Tl -2.8358 9.6688 'International Tables Vol C Tables 4.2.6.8 and 6.1.1.4'

loop_
    _atom_site_label
    _atom_site_type_symbol
    _atom_site_fract_x
    _atom_site_fract_y
    _atom_site_fract_z
    _atom_site_U_iso_or_equiv
    _atom_site_adp_type
    _atom_site_occupancy
    _atom_site_site_symmetry_order
    _atom_site_calc_flag
    _atom_site_refinement_flags_posn
    _atom_site_refinement_flags_adp
    _atom_site_refinement_flags_occupancy
    _atom_site_disorder_assembly
    _atom_site_disorder_group
Tl1 Tl 0.31459(15) 0.46232(19) 0.50889(10) 0.0419(5) Uani 1 1 d . . . . .
Cr1 Cr 0.2576(4) 0.9044(5) 0.7507(3) 0.0168(10) Uani 1 1 d . . . . .
S1 S 1.0664(7) 0.8731(8) 0.8941(5) 0.0193(14) Uani 1 1 d . . . . .
S2 S 0.4302(7) 0.7374(7) 0.8402(5) 0.0198(15) Uani 1 1 d . . . . .
S3 S 0.8678(8) 0.5785(7) 0.8644(6) 0.0198(14) Uani 1 1 d . . . . .
S4 S 1.1014(8) 0.7285(8) 0.6601(6) 0.0205(14) Uani 1 1 d . . . . .
P1 P 0.9501(7) 0.7502(7) 0.7864(6) 0.0163(14) Uani 1 1 d . . . . .
P2 P 0.5629(7) 0.7560(8) 0.7037(6) 0.0182(15) Uani 1 1 d . . . . .
S5 S 0.4414(7) 0.8825(7) 0.6037(5) 0.0196(14) Uani 1 1 d . . . . .
S6 S 0.7613(7) 0.8849(8) 0.7360(6) 0.0227(15) Uani 1 1 d . . . . .
S7 S 0.6266(8) 0.5771(7) 0.6282(6) 0.0201(14) Uani 1 1 d . . . . .

loop_
    _atom_site_aniso_label
    _atom_site_aniso_U_11
    _atom_site_aniso_U_22
    _atom_site_aniso_U_33
    _atom_site_aniso_U_23
    _atom_site_aniso_U_13
    _atom_site_aniso_U_12
Tl1 0.0242(7) 0.0649(11) 0.0366(7) -0.0034(7) 0.0018(5) -0.0025(6)
Cr1 0.0087(19) 0.014(2) 0.027(2) -0.0006(18) 0.0003(18) -0.0001(16)
S1 0.009(3) 0.023(4) 0.026(3) -0.001(3) 0.003(2) -0.006(3)
S2 0.017(3) 0.019(4) 0.023(3) 0.005(3) 0.001(2) 0.003(3)
S3 0.014(3) 0.014(3) 0.031(4) 0.003(3) -0.001(2) -0.003(3)
S4 0.016(3) 0.020(4) 0.026(3) -0.001(3) 0.005(2) 0.000(3)
P1 0.008(3) 0.018(4) 0.022(3) 0.000(3) -0.002(2) 0.000(3)
P2 0.006(3) 0.022(4) 0.027(4) 0.001(3) 0.002(2) 0.005(3)
S5 0.012(3) 0.020(4) 0.027(3) 0.002(3) 0.003(2) 0.005(3)
S6 0.012(3) 0.017(4) 0.039(4) 0.004(3) -0.005(3) -0.001(3)
S7 0.013(3) 0.015(4) 0.032(4) -0.001(3) -0.001(2) 0.005(3)


#----------------------------------------------------------------------------#
#                   MOLECULAR GEOMETRY                                       #
#----------------------------------------------------------------------------#

_geom_special_details
;
 All esds (except the esd in the dihedral angle between two l.s. planes)
 are estimated using the full covariance matrix.  The cell esds are taken
 into account individually in the estimation of esds in distances, angles
 and torsion angles; correlations between esds in cell parameters are only
 used when they are defined by crystal symmetry.  An approximate (isotropic)
 treatment of cell esds is used for estimating esds involving l.s. planes.
;
loop_
    _geom_bond_atom_site_label_1
    _geom_bond_atom_site_label_2
    _geom_bond_distance
    _geom_bond_site_symmetry_2
    _geom_bond_publ_flag
Cr1 S5 2.395(7) . ?
Cr1 S4 2.409(8) 1_455 ?
Cr1 S1 2.413(7) 1_455 ?
Cr1 S3 2.426(8) 3_656 ?
Cr1 S2 2.426(8) . ?
Cr1 S7 2.427(8) 3_656 ?
S1 P1 2.024(9) . ?
S2 P2 2.028(10) . ?
S3 P1 2.021(10) . ?
S4 P1 2.025(9) . ?
P1 S6 2.144(9) . ?
P2 S5 2.006(9) . ?
P2 S7 2.014(10) . ?
P2 S6 2.121(9) . ?

loop_
    _geom_angle_atom_site_label_1
    _geom_angle_atom_site_label_2
    _geom_angle_atom_site_label_3
    _geom_angle
    _geom_angle_site_symmetry_1
    _geom_angle_site_symmetry_3
    _geom_angle_publ_flag
S5 Cr1 S4 87.0(3) . 1_455 ?
S5 Cr1 S1 167.8(3) . 1_455 ?
S4 Cr1 S1 83.3(3) 1_455 1_455 ?
S5 Cr1 S3 84.5(3) . 3_656 ?
S4 Cr1 S3 88.0(3) 1_455 3_656 ?
S1 Cr1 S3 102.5(3) 1_455 3_656 ?
S5 Cr1 S2 83.8(3) . . ?
S4 Cr1 S2 94.9(3) 1_455 . ?
S1 Cr1 S2 89.6(3) 1_455 . ?
S3 Cr1 S2 167.9(3) 3_656 . ?
S5 Cr1 S7 105.0(3) . 3_656 ?
S4 Cr1 S7 167.9(3) 1_455 3_656 ?
S1 Cr1 S7 84.7(3) 1_455 3_656 ?
S3 Cr1 S7 94.1(3) 3_656 3_656 ?
S2 Cr1 S7 85.6(3) . 3_656 ?
P1 S1 Cr1 85.5(3) . 1_655 ?
P2 S2 Cr1 84.4(3) . . ?
P1 S3 Cr1 115.4(4) . 3_646 ?
P1 S4 Cr1 85.6(3) . 1_655 ?
S3 P1 S1 109.1(4) . . ?
S3 P1 S4 120.0(5) . . ?
S1 P1 S4 104.6(4) . . ?
S3 P1 S6 111.4(4) . . ?
S1 P1 S6 101.9(4) . . ?
S4 P1 S6 108.2(4) . . ?
S5 P2 S7 111.4(4) . . ?
S5 P2 S2 105.9(4) . . ?
S7 P2 S2 117.1(5) . . ?
S5 P2 S6 100.0(4) . . ?
S7 P2 S6 111.3(4) . . ?
S2 P2 S6 109.6(4) . . ?
P2 S5 Cr1 85.7(3) . . ?
P2 S6 P1 107.4(4) . . ?
P2 S7 Cr1 113.6(4) . 3_646 ?

_iucr_refine_instructions_details
;
TITL shelxt_a.res in P2(1)2(1)2(1)
    shelx.res
    created by SHELXL-2018/3 at 19:48:14 on 31-Jul-2023
CELL  0.71073   8.4785   9.5317  12.2915   90.000   90.000   90.000
ZERR     4.00   0.0004   0.0005   0.0005    0.000    0.000    0.000
LATT  -1
SYMM  1/2 - X, - Y, 1/2 + Z
SYMM  - X, 1/2 + Y, 1/2 - Z
SYMM  1/2 + X, 1/2 - Y, - Z
SFAC  CR   P    S    TL
UNIT  4 8 28 4
TEMP -110
SIZE 0.024 0.114 0.13
MERG   2
FMAP   2
PLAN   20
ACTA
BOND
LIST   4
L.S.  10
WGHT    0.146900
FVAR       0.10560
TL1   4    0.314592    0.462318    0.508886    11.00000    0.02419    0.06490 =
         0.03659   -0.00343    0.00180   -0.00254
CR1   1    0.257558    0.904364    0.750651    11.00000    0.00865    0.01449 =
         0.02729   -0.00058    0.00025   -0.00007
S1    3    1.066416    0.873135    0.894082    11.00000    0.00909    0.02307 =
         0.02576   -0.00137    0.00338   -0.00561
S2    3    0.430207    0.737442    0.840214    11.00000    0.01696    0.01944 =
         0.02309    0.00517    0.00132    0.00250
S3    3    0.867831    0.578453    0.864405    11.00000    0.01375    0.01432 =
         0.03130    0.00336   -0.00092   -0.00345
S4    3    1.101428    0.728465    0.660054    11.00000    0.01597    0.01968 =
         0.02575   -0.00122    0.00491    0.00032
P1    2    0.950110    0.750181    0.786388    11.00000    0.00837    0.01807 =
         0.02243   -0.00043   -0.00223   -0.00019
P2    2    0.562897    0.756001    0.703657    11.00000    0.00601    0.02202 =
         0.02652    0.00128    0.00227    0.00476
S5    3    0.441417    0.882495    0.603660    11.00000    0.01213    0.01977 =
         0.02691    0.00208    0.00323    0.00526
S6    3    0.761280    0.884949    0.735984    11.00000    0.01224    0.01717 =
         0.03863    0.00378   -0.00458   -0.00088
S7    3    0.626645    0.577137    0.628238    11.00000    0.01329    0.01517 =
         0.03171   -0.00088   -0.00143    0.00454
HKLF    4




REM  shelxt_a.res in P2(1)2(1)2(1)
REM wR2 = 0.2369, GooF = S = 1.034, Restrained GooF = 1.034 for all data
REM R1 = 0.0912 for 1717 Fo > 4sig(Fo) and 0.1111 for all 2187 data
REM 100 parameters refined using 0 restraints

END

WGHT      0.1469      0.0000

REM Highest difference peak  4.826,  deepest hole -5.028,  1-sigma level  0.635
Q1    1   0.3191  0.5495  0.4989  11.00000  0.05    4.83
Q2    1   0.3123  0.4565  0.4392  11.00000  0.05    3.35
Q3    1   0.3132  0.4561  0.5842  11.00000  0.05    2.86
Q4    1   0.2525  1.0068  0.7563  11.00000  0.05    2.45
Q5    1   0.3462  0.9606  0.6759  11.00000  0.05    1.99
Q6    1   0.3009  0.8195  0.4791  11.00000  0.05    1.97
Q7    1   0.2420  0.5285  0.6008  11.00000  0.05    1.91
Q8    1   0.6310  0.6702  0.6377  11.00000  0.05    1.72
Q9    1   0.2469  0.8962  0.8237  11.00000  0.05    1.70
Q10   1   0.4198  0.7851  0.6367  11.00000  0.05    1.64
Q11   1   0.8514  0.5537  0.9451  11.00000  0.05    1.61
Q12   1   0.1223  1.0080  0.7528  11.00000  0.05    1.61
Q13   1   1.0728  0.8929  0.9743  11.00000  0.05    1.59
Q14   1   0.3242  0.3571  0.5056  11.00000  0.05    1.58
Q15   1   0.8795  0.5801  0.7863  11.00000  0.05    1.58
Q16   1   0.4229  0.3975  0.4316  11.00000  0.05    1.57
Q17   1   0.2948  0.2411  0.5140  11.00000  0.05    1.56
Q18   1   0.6878  0.8910  0.8359  11.00000  0.05    1.53
Q19   1   0.2007  0.5887  0.5159  11.00000  0.05    1.52
Q20   1   0.7979  0.9717  0.6307  11.00000  0.05    1.51
;

# END of CIF
