#\#CIF_1.1

#  CIF produced by WinGX routine CIF_UPDATE
#  Created on 2022-03-28 at 15:27:25
#  Using CIFtbx version 3.0.4  1 Sep 2006

#  Dictionary name : cif_core.dic
#  Dictionary vers : 2.4.5
#  Request file    : c:\program files (x86)\wingx\files\archive.reqdat
#  CIF files read  : shelx project

#------------------ SECTION 1. GLOBAL INFORMATION ---------------------------#

data_global

#------------------ AUDIT DETAILS -------------------------------------------#

_audit_creation_date            2022-03-28
_audit_creation_method          'WinGX routine CIF_UPDATE'
_audit_conform_dict_name        cif_core.dic
_audit_conform_dict_version     2.4.3
_audit_conform_dict_location    ftp://ftp.iucr.org/pub/cif_core.dic
_audit_update_record            ?

#------------------ AUTHOR DETAILS -------------------------------------------#

# Name and address of author for correspondence

_publ_contact_author_name       ' ,  '
_publ_contact_author_address
;

;
_publ_contact_author_email       ' '
_publ_contact_author_fax         ' '
_publ_contact_author_phone       ' '


# Insert blank lines between references

_publ_section_references
;
Blessing, R. H. (1995) Acta Cryst., A51, 33-38.

Blessing, R. H. (1987) Cryst. Rev. 1, 3-58.

Blessing, R. H. (1989) J. Appl. Cryst. 22, 396-397.

Bruker (2012) APEX2 (Version 2012.10-0), SAINT (version 8.27B), SADABS
(version 2012/1), BrukerAXS Inc, Madison, Wisconsin, USA.

ABSCOR: Higashi, T. (1995). ABSCOR. Rigaku Corporation, Tokyo, Japan.

CAD-4 Software: Enraf-Nonius (1989). CAD-4 Software (or CAD-4 EXPRESS).
Enraf-Nonius, Delft, The Netherlands.

Cambridge Structural Database: Allen, F. R. (2002). Acta Cryst. B58, 380-388.

CAMERON: Watkin, D. J., Prout, C. K. & Pearce, L. J. (1996). CAMERON.
Chemical Crystallography Laboratory, Oxford, England.

CrysAlis CCD, CrysAlis RED and associated programs: Oxford Diffraction (2006).
Program name(s). Oxford Diffraction Ltd, Abingdon, England.

CRYSTALS: Betteridge, P. W., Carruthers, J. R., Cooper, R. I., Prout, K. &
Watkin, D. J. (2003). J. Appl. Cryst. 36, 1487.

COLLECT: Nonius (1998). COLLECT. Nonius BV, Delft, The Netherlands.

DENZO/SCALEPACK:  Otwinowski, Z. & Minor, W. (1997). Methods in Enzymology,
Vol. 276, Macromolecular Crystallography, Part A, edited by C. W. Carter Jr
& R. M. Sweet, pp. 307-326. New York: Academic Press.

DIAMOND: Brandenburg, K.(2006). DIAMOND. Crystal Impact GbR, Bonn, Germany.

DIF4 and REDU4: Stoe & Cie (1991). Program name(s). Stoe & Cie, Darmstadt,
Germany.

DIFABS: Walker, N. &  Stuart, D. (1983). Acta Cryst., A39, 158 - 166.

DIRAX: Duisenberg, A. J. M. (1992). J. Appl. Cryst. 25, 92-96.

DIRDIF-2008: Beurskens, P.T., Beurskens, G., de Gelder, R., Garciía-Granda,
S., Gould, R.O. & Smits, J.M.M. (2008) The DIRDIF-2008 program
system, Crystallography Laboratory, Radboud University  Nijmegen,
The Netherlands.

EDMA: Palatinus, L., Prathapa, S. J. & van Smaalen, S. (2012) J. Appl. Cryst.
45, 575-580.

enCIFer: Allen, F. H., Johnson, O., Shields, G. P., Smith, B. R. & Towler,
M. (2004). J. Appl. Cryst. 37, 335-338.

EVALCCD: Duisenberg, A. J. M., Kroon-Batenburg, L. M. J. & Schreurs,
A. M. M. (2003). J. Appl. Cryst. 36, 220-229.

JANA2000: Petricek, V. & Dusek, M. (2000). JANA2000. Institute of Physics,
Czech Academy of Sciences, Prague, Czech Republic.

MERCURY: Macrae, C. F., Bruno, I. J., Chisholm, J. A., Edgington,
P. R., McCabe, P., Pidcock, E., Rodriguez-Monge, L., Taylor, R.,
van de Streek, J. & Wood, P. A. (2008). J. Appl. Cryst. 41, 466-470.

MOGUL: Bruno, I. J., Cole, J. C., Kessler, M., Luo, J., Motherwell,
W. D. S., Purkis, L. H., Smith, B. R., Taylor, R., Cooper, R. I., Harris,
S. E. & Orpen, A. G. (2004). J. Chem. Inf. Comput. Sci. 44, 2133-2144.

ORTEPII: Johnson, C. K. (1976). ORTEPII. Report ORNL-5138. Oak Ridge
National Laboratory, Tennessee, USA.

ORTEPIII:  Burnett, M. N. & Johnson, C. K. (1996). ORTEPIII.
Report ORNL-6895. Oak Ridge National Laboratory, Tennessee, USA.

ORTEP-3: Farrugia, L. J. (2012). J. Appl. Cryst. 45, 849-854.

PARST: Nardelli, M. (1995). J. Appl. Cryst. 28, 659.

PLATON: Spek, A. L. (2009). Acta. Cryst. D65, 148-155.

PROCESS: Rigaku (1996). PROCESS. Rigaku Corporation, Tokyo, Japan.

PROCESS-AUTO: Rigaku (1998). PROCESS-AUTO. Rigaku Corporation, Tokyo, Japan.

PublCIF: Westrip, S. P. (2010). J. Appl. Cryst. 43, 920-925.

SCHAKAL: Keller, E. (1999) University of Freiburg, Germany.

SHELX: Sheldrick, G. M. (2015). Acta Cryst. C71, 3-8.

SHELXD: Schneider, T. R. & Sheldrick, G. M. (2002) Acta Cryst. D58, 1772-1779.

SHELXT: Sheldrick, G. M. (2015). Acta Cryst. A71, 3-8.

SIR92: Altomare, A., Cascarano, G., Giacovazzo, C., Guagliardi, A., Burla,
M. C., Polidori, G. & Camalli, M. (1994). J. Appl. Cryst. 27, 435.

SIR97: Altomare, A., Burla, M. C., Camalli, M., Cascarano, G. L.,
Giacovazzo, C., Guagliardi, A., Moliterni, A. G. G., Polidori, G. &
Spagna, R. (1999). J. Appl. Cryst. 32, 115-119.

SIR2002: Burla, M. C., Camalli, M., Carrozzini, B., Cascarano, G. L.,
Giacovazzo, C., Polidori, G. & Spagna, R. (2003). J. Appl. Cryst. 36, 1103.

SIR2004: Burla, M. C., Caliandro, R., Camalli, M., Carrozzini, B.,
Cascarano, G. L., De Caro, L., Giacovazzo, C., Polidori, G. & Spagna, R.
(2005). J. Appl. Cryst. 38, 381-388.

SIR2008 & IL MILIONE: Burla, M. C., Caliandro, R., Camalli, M., Carrozzini, B.,
Cascarano, G. L., De Caro, L., Giacovazzo, C., Polidori, G., Siliqi, D.,
& Spagna, R. (2007). J. Appl. Cryst. 40, 609-613.

SIR2011: Burla, M. C., Caliandro, R., Camalli, M., Carrozzini, B.,
Cascarano, G. L., Giacovazzo, C., Mallamo, M., Mazzone, A., Polidori, G.
& Spagna, R. (2012). J. Appl. Cryst. 45, 357-361.

SUPERFLIP: Palatinus, L. & Chapuis, G. (2007) J. Appl. Cryst. 40, 786-790.

TEXSAN: Molecular Structure Corporation & Rigaku (2000). TEXSAN. MSC,
The Woodlands, Texas, USA, and Rigaku Corporation, Tokyo, Japan.

WinGX: Farrugia, L. J. (2012). J. Appl. Cryst. 45, 849-854.

X-AREA, X-RED, X-RED32, X-SHAPE:  Stoe & Cie (2002). Program name(s).
Stoe & Cie GmbH, Darmstadt, Germany.

XCAD4: Harms, K. & Wocadlo, S. (1995). XCAD4. University of Marburg, Germany.

XSCANS: Siemens (1994). XSCANS. Siemens Analytical X-ray Instruments Inc.,
Madison, Wisconsin, USA.

;

#------------------  SECTION 2. COMPOUND(S) DETAILS -------------------------#

data_shelx

_audit_creation_date                    2022-03-28T15:27:25-00:00
_audit_creation_method                  'WinGX routine CIF_UPDATE'
_audit_conform_dict_name                cif_core.dic
_audit_conform_dict_version             2.4.5
_audit_conform_dict_location            ftp://ftp.iucr.org/pub/cif_core.dic
_publ_requested_category                FI

#----------------------------------------------------------------------------#
#                   CHEMICAL INFORMATION                                     #
#----------------------------------------------------------------------------#

_chemical_formula_sum                   'P2 S7 Tl V'
_chemical_formula_weight                541.67
_chemical_absolute_configuration        unk

#----------------------------------------------------------------------------#
#                   UNIT CELL INFORMATION                                    #
#----------------------------------------------------------------------------#

_symmetry_cell_setting                  orthorhombic
_symmetry_space_group_name_H-M          'C 2 2 21'
_symmetry_space_group_name_Hall         'C 2c 2'
_symmetry_Int_Tables_number             20
loop_
    _symmetry_equiv_pos_as_xyz
'x, y, z'
'-x, -y, z+1/2'
'-x, y, -z+1/2'
'x, -y, -z'
'x+1/2, y+1/2, z'
'-x+1/2, -y+1/2, z+1/2'
'-x+1/2, y+1/2, -z+1/2'
'x+1/2, -y+1/2, -z'

_cell_length_a                          8.5345(3)
_cell_length_b                          9.4988(2)
_cell_length_c                          12.4261(4)
_cell_angle_alpha                       90
_cell_angle_beta                        90
_cell_angle_gamma                       90
_cell_volume                            1007.35(5)
_cell_formula_units_Z                   4
_cell_measurement_temperature           168(2)
_cell_measurement_reflns_used           5997
_cell_measurement_theta_min             2.91
_cell_measurement_theta_max             27.48
_cell_measurement_wavelength            0.71073

#----------------------------------------------------------------------------#
#                   CRYSTAL INFORMATION                                      #
#----------------------------------------------------------------------------#

_exptl_crystal_size_max                 0.168
_exptl_crystal_size_mid                 0.156
_exptl_crystal_size_min                 0.04
_exptl_crystal_density_diffrn           3.572
_exptl_crystal_density_method           'not measured'
_exptl_crystal_F_000                    984
loop_
    _exptl_crystal_face_index_h
    _exptl_crystal_face_index_k
    _exptl_crystal_face_index_l
    _exptl_crystal_face_perp_dist
0 0 1 0.02
0 0 -1 0.02
1 1 0 0.078
-1 -1 0 0.078
1 -1 0 0.084
-1 1 0 0.084
0 1 0 0.086
0 -1 0 0.086
-1 1 2 0.064
-1 1 -2 0.066


#----------------------------------------------------------------------------#
#                   ABSORPTION CORRECTION                                    #
#----------------------------------------------------------------------------#

_exptl_absorpt_coefficient_mu           18.601
_exptl_absorpt_correction_type          multi-scan
_exptl_absorpt_process_details
;
        [c.f. r.h. blessing, acta cryst. (1995), a51, 33-38]
;
_exptl_absorpt_correction_T_min         0.1383
_exptl_absorpt_correction_T_max         0.3611
_shelx_estimated_absorpt_T_min          0.146
_shelx_estimated_absorpt_T_max          0.523

#----------------------------------------------------------------------------#
#                   DATA COLLECTION                                          #
#----------------------------------------------------------------------------#

_diffrn_source                          'Enraf Nonius FR590'
_diffrn_ambient_temperature             168(2)
_diffrn_radiation_wavelength            0.71073
_diffrn_radiation_type                  MoK\a
_diffrn_radiation_monochromator         'horizonally mounted graphite crystal'
_diffrn_radiation_probe                 x-ray
_diffrn_detector                        'CCD plate'
_diffrn_detector_area_resol_mean        9
_diffrn_orient_matrix_ub_11             -0.069498
_diffrn_orient_matrix_ub_12             0.018006
_diffrn_orient_matrix_ub_13             -0.063313
_diffrn_orient_matrix_ub_21             -0.084064
_diffrn_orient_matrix_ub_22             0.03486
_diffrn_orient_matrix_ub_23             0.049322
_diffrn_orient_matrix_ub_31             0.042806
_diffrn_orient_matrix_ub_32             0.097692
_diffrn_orient_matrix_ub_33             -0.005931
_diffrn_measurement_device              '95mm CCD camera on κ-goniostat'
_diffrn_measurement_device_type         KappaCCD
_diffrn_measurement_method              'CCD rotation images, thick slices'
_diffrn_standards_number                0
_diffrn_standards_interval_time         .
_diffrn_standards_interval_count        .
_diffrn_standards_decay_%               ?
_diffrn_reflns_av_R_equivalents         0.0921
_diffrn_reflns_av_unetI/netI            0.0568
_diffrn_reflns_number                   3821
_diffrn_reflns_limit_h_min              -9
_diffrn_reflns_limit_h_max              11
_diffrn_reflns_limit_k_min              -12
_diffrn_reflns_limit_k_max              12
_diffrn_reflns_limit_l_min              -16
_diffrn_reflns_limit_l_max              13
_diffrn_reflns_theta_min                3.209
_diffrn_reflns_theta_max                27.464
_diffrn_reflns_theta_full               25.242
_diffrn_measured_fraction_theta_full
                                        1
_diffrn_measured_fraction_theta_max
                                        0.994
_diffrn_reflns_Laue_measured_fraction_full
                                        1
_diffrn_reflns_Laue_measured_fraction_max
                                        0.994
_diffrn_reflns_point_group_measured_fraction_full
                                        1
_diffrn_reflns_point_group_measured_fraction_max
                                        0.997
_reflns_Friedel_fraction_full           1
_reflns_Friedel_fraction_max            1
_reflns_Friedel_coverage                0.714
_reflns_number_total                    1155
_reflns_number_gt                       1122
_reflns_threshold_expression            'I > 2σ(I)'

#----------------------------------------------------------------------------#
#                   COMPUTER PROGRAMS USED                                   #
#----------------------------------------------------------------------------#

_computing_data_collection              'Collect (Bruker AXS BV, 1997-2004)'
_computing_cell_refinement
                                       'HKL Scalepack (Otwinowski & Minor 1997)'
_computing_data_reduction
                             'HKL Denzo and Scalepack (Otwinowski & Minor 1997)'
_computing_structure_refinement         'SHELXL-2018/3 (Sheldrick, 2018)'
_computing_molecular_graphics           'Ortep for Windows (Farrugia, 2012)'
_computing_publication_material
                                   'WinGX publication routines (Farrugia, 2012)'

#----------------------------------------------------------------------------#
#                   STRUCTURE SOLUTION                                       #
#----------------------------------------------------------------------------#


#----------------------------------------------------------------------------#
#                   REFINEMENT INFORMATION                                   #
#----------------------------------------------------------------------------#

_shelx_SHELXL_version_number            2018/3
_refine_ls_structure_factor_coef        Fsqd
_refine_ls_matrix_type                  full
_refine_ls_weighting_scheme             calc
_refine_ls_weighting_details
             'w=1/[σ²(Fo²)+(0.0526P)²+20.7308P] where P=(Fo²+2Fc²)/3'
_refine_ls_hydrogen_treatment           undef
_refine_ls_extinction_method            none
_refine_ls_number_reflns                1155
_refine_ls_number_parameters            52
_refine_ls_number_restraints            0
_refine_ls_number_constraints           0
_refine_ls_R_factor_all                 0.0466
_refine_ls_R_factor_gt                  0.0454
_refine_ls_wR_factor_ref                0.1149
_refine_ls_wR_factor_gt                 0.1138
_refine_ls_goodness_of_fit_ref          1.066
_refine_ls_restrained_S_all             1.066
_refine_ls_shift/su_max                 0
_refine_ls_shift/su_mean                0
_refine_ls_abs_structure_details
;
 Flack x determined using 450 quotients [(I+)-(I-)]/[(I+)+(I-)]
 (Parsons, Flack and Wagner, Acta Cryst. B69 (2013) 249-259).
;
_refine_ls_abs_structure_Flack          -0.007(10)
_refine_diff_density_max                1.636
_refine_diff_density_min                -2.859
_refine_diff_density_rms                0.271

#----------------------------------------------------------------------------#
#                   CONSTRAINTS AND RESTRAINTS                               #
#----------------------------------------------------------------------------#


#----------------------------------------------------------------------------#
#                   ATOMIC TYPES, COORDINATES AND THERMAL PARAMETERS         #
#----------------------------------------------------------------------------#

loop_
    _atom_type_symbol
    _atom_type_description
    _atom_type_scat_dispersion_real
    _atom_type_scat_dispersion_imag
    _atom_type_scat_source
P P 0.1023 0.0942 'International Tables Vol C Tables 4.2.6.8 and 6.1.1.4'
S S 0.1246 0.1234 'International Tables Vol C Tables 4.2.6.8 and 6.1.1.4'
Tl Tl -2.8358 9.6688 'International Tables Vol C Tables 4.2.6.8 and 6.1.1.4'
V V 0.3005 0.5294 'International Tables Vol C Tables 4.2.6.8 and 6.1.1.4'

loop_
    _atom_site_label
    _atom_site_type_symbol
    _atom_site_fract_x
    _atom_site_fract_y
    _atom_site_fract_z
    _atom_site_U_iso_or_equiv
    _atom_site_adp_type
    _atom_site_occupancy
    _atom_site_site_symmetry_order
    _atom_site_calc_flag
    _atom_site_refinement_flags_posn
    _atom_site_refinement_flags_adp
    _atom_site_refinement_flags_occupancy
    _atom_site_disorder_assembly
    _atom_site_disorder_group
Tl1 Tl 0.91798(11) 0.5 0.5 0.0637(5) Uani 1 2 d S T P . .
V1 V 0.5 0.6017(2) 0.25 0.0118(5) Uani 1 2 d S T P . .
P1 P 0.6896(3) 0.2448(3) 0.2933(2) 0.0121(5) Uani 1 1 d . . . . .
S1 S 0.8260(3) 0.2676(3) 0.1611(2) 0.0158(5) Uani 1 1 d . . . . .
S2 S 0.5 0.1087(4) 0.25 0.0192(8) Uani 1 2 d S T P . .
S3 S 0.8123(3) 0.1266(3) 0.3977(2) 0.0148(5) Uani 1 1 d . . . . .
S4 S 0.6073(3) 0.4178(3) 0.3687(2) 0.0164(6) Uani 1 1 d . . . . .

loop_
    _atom_site_aniso_label
    _atom_site_aniso_U_11
    _atom_site_aniso_U_22
    _atom_site_aniso_U_33
    _atom_site_aniso_U_23
    _atom_site_aniso_U_13
    _atom_site_aniso_U_12
Tl1 0.0317(5) 0.1296(11) 0.0299(5) -0.0159(6) 0 0
V1 0.0096(12) 0.0115(10) 0.0142(12) 0 0.0014(9) 0
P1 0.0099(11) 0.0111(11) 0.0153(13) -0.0003(9) -0.0011(10) 0.0013(9)
S1 0.0166(14) 0.0167(11) 0.0141(12) 0.0030(9) 0.0024(9) 0.0045(9)
S2 0.0128(18) 0.0134(15) 0.031(2) 0 -0.0033(16) 0
S3 0.0132(12) 0.0169(12) 0.0143(12) 0.0039(9) 0.0019(10) 0.0039(9)
S4 0.0188(13) 0.0146(12) 0.0158(12) -0.0021(9) -0.0013(10) 0.0060(9)


#----------------------------------------------------------------------------#
#                   MOLECULAR GEOMETRY                                       #
#----------------------------------------------------------------------------#

_geom_special_details
;
 All esds (except the esd in the dihedral angle between two l.s. planes)
 are estimated using the full covariance matrix.  The cell esds are taken
 into account individually in the estimation of esds in distances, angles
 and torsion angles; correlations between esds in cell parameters are only
 used when they are defined by crystal symmetry.  An approximate (isotropic)
 treatment of cell esds is used for estimating esds involving l.s. planes.
;
loop_
    _geom_bond_atom_site_label_1
    _geom_bond_atom_site_label_2
    _geom_bond_distance
    _geom_bond_site_symmetry_2
    _geom_bond_publ_flag
V1 S1 2.431(3) 7_655 ?
V1 S1 2.431(3) 5_455 ?
V1 S3 2.447(3) 7_655 ?
V1 S3 2.447(3) 5_455 ?
V1 S4 2.463(3) 3_655 ?
V1 S4 2.463(3) . ?
P1 S3 2.010(4) . ?
P1 S4 2.018(4) . ?
P1 S1 2.025(4) . ?
P1 S2 2.140(3) . ?

loop_
    _geom_angle_atom_site_label_1
    _geom_angle_atom_site_label_2
    _geom_angle_atom_site_label_3
    _geom_angle
    _geom_angle_site_symmetry_1
    _geom_angle_site_symmetry_3
    _geom_angle_publ_flag
S1 V1 S1 99.19(15) 7_655 5_455 ?
S1 V1 S3 83.01(9) 7_655 7_655 ?
S1 V1 S3 89.78(10) 5_455 7_655 ?
S1 V1 S3 89.78(10) 7_655 5_455 ?
S1 V1 S3 83.01(9) 5_455 5_455 ?
S3 V1 S3 168.88(16) 7_655 5_455 ?
S1 V1 S4 163.57(10) 7_655 3_655 ?
S1 V1 S4 87.73(9) 5_455 3_655 ?
S3 V1 S4 82.13(9) 7_655 3_655 ?
S3 V1 S4 105.92(10) 5_455 3_655 ?
S1 V1 S4 87.73(9) 7_655 . ?
S1 V1 S4 163.57(10) 5_455 . ?
S3 V1 S4 105.92(10) 7_655 . ?
S3 V1 S4 82.13(9) 5_455 . ?
S4 V1 S4 89.64(15) 3_655 . ?
S3 P1 S4 109.67(17) . . ?
S3 P1 S1 106.49(16) . . ?
S4 P1 S1 119.34(16) . . ?
S3 P1 S2 102.64(14) . . ?
S4 P1 S2 110.20(17) . . ?
S1 P1 S2 107.17(15) . . ?
P1 S1 V1 85.01(12) . 5_545 ?
P1 S2 P1 105.7(2) . 3_655 ?
P1 S3 V1 84.91(13) . 5_545 ?
P1 S4 V1 115.40(15) . . ?

_iucr_refine_instructions_details
;
TITL shelxt_a.res in C222(1)
    shelx.res
    created by SHELXL-2018/3 at 15:21:55 on 28-Mar-2022
CELL  0.71073   8.5345   9.4988  12.4261   90.000   90.000   90.000
ZERR     4.00   0.0003   0.0002   0.0004    0.000    0.000    0.000
LATT  -7
SYMM  - X, - Y, 1/2 + Z
SYMM  - X,   Y, 1/2 - Z
SYMM    X, - Y, - Z
SFAC  P    S    TL   V
UNIT  8  28 4 4
TEMP -105
SIZE 0.04 0.156 0.168
MERG   2
FMAP   2
PLAN   20
ACTA
BOND
LIST   4
L.S.  10
WGHT    0.052600   20.730803
FVAR       0.34489
TL1   3    0.917981    0.500000    0.500000    10.50000    0.03167    0.12959 =
         0.02986   -0.01595    0.00000    0.00000
V1    4    0.500000    0.601695    0.250000    10.50000    0.00957    0.01151 =
         0.01424    0.00000    0.00137    0.00000
P1    1    0.689626    0.244836    0.293288    11.00000    0.00995    0.01108 =
         0.01534   -0.00026   -0.00112    0.00126
S1    2    0.825991    0.267592    0.161054    11.00000    0.01662    0.01673 =
         0.01412    0.00299    0.00236    0.00448
S2    2    0.500000    0.108739    0.250000    10.50000    0.01280    0.01343 =
         0.03131    0.00000   -0.00335    0.00000
S3    2    0.812322    0.126647    0.397671    11.00000    0.01320    0.01691 =
         0.01428    0.00386    0.00189    0.00391
S4    2    0.607309    0.417786    0.368692    11.00000    0.01877    0.01464 =
         0.01578   -0.00214   -0.00126    0.00599
HKLF    4




REM  shelxt_a.res in C222(1)
REM wR2 = 0.1149, GooF = S = 1.066, Restrained GooF = 1.066 for all data
REM R1 = 0.0454 for 1122 Fo > 4sig(Fo) and 0.0466 for all 1155 data
REM 52 parameters refined using 0 restraints

END

WGHT      0.0526     20.7309

REM Highest difference peak  1.636,  deepest hole -2.859,  1-sigma level  0.271
Q1    1   0.9146  0.5084  0.5899  11.00000  0.05    1.64
Q2    1   0.4968 -0.0187  0.3285  11.00000  0.05    0.82
Q3    1   0.8996  0.5630  0.6546  11.00000  0.05    0.78
Q4    1   0.6245  0.4421  0.4955  11.00000  0.05    0.77
Q5    1   0.4938  0.0860  0.3288  11.00000  0.05    0.73
Q6    1   0.7975  0.1011  0.5025  11.00000  0.05    0.69
Q7    1   0.4988  0.6074  0.3465  11.00000  0.05    0.68
Q8    1   1.0869  0.5581  0.4994  11.00000  0.05    0.67
Q9    1   0.8133  0.1803  0.4728  11.00000  0.05    0.67
Q10   1   0.8348 -0.0220  0.3767  11.00000  0.05    0.63
Q11   1   1.0097  0.5349  0.4132  11.00000  0.05    0.61
Q12   1   0.6757  0.1568  0.4877  11.00000  0.05    0.61
Q13   1   0.4889  0.1533  0.3185  11.00000  0.05    0.58
Q14   1   0.7123  0.2849  0.0749  11.00000  0.05    0.57
Q15   1   0.7964  0.4585  0.5961  11.00000  0.05    0.57
Q16   1   0.8169  0.1365  0.2985  11.00000  0.05    0.57
Q17   1   0.6809  0.2578  0.1982  11.00000  0.05    0.57
Q18   1   0.9343  0.3947  0.5805  11.00000  0.05    0.56
Q19   1   0.5920  0.5417  0.1687  11.00000  0.05    0.55
Q20   1   0.6009  0.1468  0.1336  11.00000  0.05    0.53
;

# END of CIF
