#\#CIF_1.1

#  CIF produced by WinGX routine CIF_UPDATE
#  Created on 2023-08-01 at 18:21:39
#  Using CIFtbx version 3.0.4  1 Sep 2006

#  Dictionary name : cif_core.dic
#  Dictionary vers : 2.4.5
#  Request file    : c:\program files (x86)\wingx\files\archive.reqdat
#  CIF files read  : shelx project

#------------------ SECTION 1. GLOBAL INFORMATION ---------------------------#

data_global

#------------------ AUDIT DETAILS -------------------------------------------#

_audit_creation_date            2023-08-01
_audit_creation_method          'WinGX routine CIF_UPDATE'
_audit_conform_dict_name        cif_core.dic
_audit_conform_dict_version     2.4.3
_audit_conform_dict_location    ftp://ftp.iucr.org/pub/cif_core.dic
_audit_update_record            ?

#------------------ AUTHOR DETAILS -------------------------------------------#

# Name and address of author for correspondence

_publ_contact_author_name       ' ,  '
_publ_contact_author_address
;

;
_publ_contact_author_email       ' '
_publ_contact_author_fax         ' '
_publ_contact_author_phone       ' '


# Insert blank lines between references

_publ_section_references
;
Blessing, R. H. (1995) Acta Cryst., A51, 33-38.

Blessing, R. H. (1987) Cryst. Rev. 1, 3-58.

Blessing, R. H. (1989) J. Appl. Cryst. 22, 396-397.

Bruker (2012) APEX2 (Version 2012.10-0), SAINT (version 8.27B), SADABS
(version 2012/1), BrukerAXS Inc, Madison, Wisconsin, USA.

ABSCOR: Higashi, T. (1995). ABSCOR. Rigaku Corporation, Tokyo, Japan.

CAD-4 Software: Enraf-Nonius (1989). CAD-4 Software (or CAD-4 EXPRESS).
Enraf-Nonius, Delft, The Netherlands.

Cambridge Structural Database: Allen, F. R. (2002). Acta Cryst. B58, 380-388.

CAMERON: Watkin, D. J., Prout, C. K. & Pearce, L. J. (1996). CAMERON.
Chemical Crystallography Laboratory, Oxford, England.

CrysAlis CCD, CrysAlis RED and associated programs: Oxford Diffraction (2006).
Program name(s). Oxford Diffraction Ltd, Abingdon, England.

CRYSTALS: Betteridge, P. W., Carruthers, J. R., Cooper, R. I., Prout, K. &
Watkin, D. J. (2003). J. Appl. Cryst. 36, 1487.

COLLECT: Nonius (1998). COLLECT. Nonius BV, Delft, The Netherlands.

DENZO/SCALEPACK:  Otwinowski, Z. & Minor, W. (1997). Methods in Enzymology,
Vol. 276, Macromolecular Crystallography, Part A, edited by C. W. Carter Jr
& R. M. Sweet, pp. 307-326. New York: Academic Press.

DIAMOND: Brandenburg, K.(2006). DIAMOND. Crystal Impact GbR, Bonn, Germany.

DIF4 and REDU4: Stoe & Cie (1991). Program name(s). Stoe & Cie, Darmstadt,
Germany.

DIFABS: Walker, N. &  Stuart, D. (1983). Acta Cryst., A39, 158 - 166.

DIRAX: Duisenberg, A. J. M. (1992). J. Appl. Cryst. 25, 92-96.

DIRDIF-2008: Beurskens, P.T., Beurskens, G., de Gelder, R., Garciía-Granda,
S., Gould, R.O. & Smits, J.M.M. (2008) The DIRDIF-2008 program
system, Crystallography Laboratory, Radboud University  Nijmegen,
The Netherlands.

EDMA: Palatinus, L., Prathapa, S. J. & van Smaalen, S. (2012) J. Appl. Cryst.
45, 575-580.

enCIFer: Allen, F. H., Johnson, O., Shields, G. P., Smith, B. R. & Towler,
M. (2004). J. Appl. Cryst. 37, 335-338.

EVALCCD: Duisenberg, A. J. M., Kroon-Batenburg, L. M. J. & Schreurs,
A. M. M. (2003). J. Appl. Cryst. 36, 220-229.

JANA2000: Petricek, V. & Dusek, M. (2000). JANA2000. Institute of Physics,
Czech Academy of Sciences, Prague, Czech Republic.

MERCURY: Macrae, C. F., Bruno, I. J., Chisholm, J. A., Edgington,
P. R., McCabe, P., Pidcock, E., Rodriguez-Monge, L., Taylor, R.,
van de Streek, J. & Wood, P. A. (2008). J. Appl. Cryst. 41, 466-470.

MOGUL: Bruno, I. J., Cole, J. C., Kessler, M., Luo, J., Motherwell,
W. D. S., Purkis, L. H., Smith, B. R., Taylor, R., Cooper, R. I., Harris,
S. E. & Orpen, A. G. (2004). J. Chem. Inf. Comput. Sci. 44, 2133-2144.

ORTEPII: Johnson, C. K. (1976). ORTEPII. Report ORNL-5138. Oak Ridge
National Laboratory, Tennessee, USA.

ORTEPIII:  Burnett, M. N. & Johnson, C. K. (1996). ORTEPIII.
Report ORNL-6895. Oak Ridge National Laboratory, Tennessee, USA.

ORTEP-3: Farrugia, L. J. (2012). J. Appl. Cryst. 45, 849-854.

PARST: Nardelli, M. (1995). J. Appl. Cryst. 28, 659.

PLATON: Spek, A. L. (2009). Acta. Cryst. D65, 148-155.

PROCESS: Rigaku (1996). PROCESS. Rigaku Corporation, Tokyo, Japan.

PROCESS-AUTO: Rigaku (1998). PROCESS-AUTO. Rigaku Corporation, Tokyo, Japan.

PublCIF: Westrip, S. P. (2010). J. Appl. Cryst. 43, 920-925.

SCHAKAL: Keller, E. (1999) University of Freiburg, Germany.

SHELX: Sheldrick, G. M. (2015). Acta Cryst. C71, 3-8.

SHELXD: Schneider, T. R. & Sheldrick, G. M. (2002) Acta Cryst. D58, 1772-1779.

SHELXT: Sheldrick, G. M. (2015). Acta Cryst. A71, 3-8.

SIR92: Altomare, A., Cascarano, G., Giacovazzo, C., Guagliardi, A., Burla,
M. C., Polidori, G. & Camalli, M. (1994). J. Appl. Cryst. 27, 435.

SIR97: Altomare, A., Burla, M. C., Camalli, M., Cascarano, G. L.,
Giacovazzo, C., Guagliardi, A., Moliterni, A. G. G., Polidori, G. &
Spagna, R. (1999). J. Appl. Cryst. 32, 115-119.

SIR2002: Burla, M. C., Camalli, M., Carrozzini, B., Cascarano, G. L.,
Giacovazzo, C., Polidori, G. & Spagna, R. (2003). J. Appl. Cryst. 36, 1103.

SIR2004: Burla, M. C., Caliandro, R., Camalli, M., Carrozzini, B.,
Cascarano, G. L., De Caro, L., Giacovazzo, C., Polidori, G. & Spagna, R.
(2005). J. Appl. Cryst. 38, 381-388.

SIR2008 & IL MILIONE: Burla, M. C., Caliandro, R., Camalli, M., Carrozzini, B.,
Cascarano, G. L., De Caro, L., Giacovazzo, C., Polidori, G., Siliqi, D.,
& Spagna, R. (2007). J. Appl. Cryst. 40, 609-613.

SIR2011: Burla, M. C., Caliandro, R., Camalli, M., Carrozzini, B.,
Cascarano, G. L., Giacovazzo, C., Mallamo, M., Mazzone, A., Polidori, G.
& Spagna, R. (2012). J. Appl. Cryst. 45, 357-361.

SUPERFLIP: Palatinus, L. & Chapuis, G. (2007) J. Appl. Cryst. 40, 786-790.

TEXSAN: Molecular Structure Corporation & Rigaku (2000). TEXSAN. MSC,
The Woodlands, Texas, USA, and Rigaku Corporation, Tokyo, Japan.

WinGX: Farrugia, L. J. (2012). J. Appl. Cryst. 45, 849-854.

X-AREA, X-RED, X-RED32, X-SHAPE:  Stoe & Cie (2002). Program name(s).
Stoe & Cie GmbH, Darmstadt, Germany.

XCAD4: Harms, K. & Wocadlo, S. (1995). XCAD4. University of Marburg, Germany.

XSCANS: Siemens (1994). XSCANS. Siemens Analytical X-ray Instruments Inc.,
Madison, Wisconsin, USA.

;

#------------------  SECTION 2. COMPOUND(S) DETAILS -------------------------#

data_shelx

_audit_creation_date                    2023-08-01T18:21:39-00:00
_audit_creation_method                  'WinGX routine CIF_UPDATE'
_audit_conform_dict_name                cif_core.dic
_audit_conform_dict_version             2.4.5
_audit_conform_dict_location            ftp://ftp.iucr.org/pub/cif_core.dic
_publ_requested_category                FI

#----------------------------------------------------------------------------#
#                   CHEMICAL INFORMATION                                     #
#----------------------------------------------------------------------------#

_chemical_formula_sum                   'Cr P2 S7 Tl'
_chemical_formula_weight                542.73
_chemical_absolute_configuration        unk

#----------------------------------------------------------------------------#
#                   UNIT CELL INFORMATION                                    #
#----------------------------------------------------------------------------#

_symmetry_cell_setting                  orthorhombic
_symmetry_space_group_name_H-M          'C 2 2 21'
_symmetry_space_group_name_Hall         'C 2c 2'
_symmetry_Int_Tables_number             20
loop_
    _symmetry_equiv_pos_as_xyz
'x, y, z'
'-x, -y, z+1/2'
'-x, y, -z+1/2'
'x, -y, -z'
'x+1/2, y+1/2, z'
'-x+1/2, -y+1/2, z+1/2'
'-x+1/2, y+1/2, -z+1/2'
'x+1/2, -y+1/2, -z'

_cell_length_a                          8.4921(5)
_cell_length_b                          9.5362(7)
_cell_length_c                          12.3676(7)
_cell_angle_alpha                       90
_cell_angle_beta                        90
_cell_angle_gamma                       90
_cell_volume                            1001.56(11)
_cell_formula_units_Z                   4
_cell_measurement_temperature           303(2)
_cell_measurement_reflns_used           16052
_cell_measurement_theta_min             2.91
_cell_measurement_theta_max             27.48
_cell_measurement_wavelength            0.71073

#----------------------------------------------------------------------------#
#                   CRYSTAL INFORMATION                                      #
#----------------------------------------------------------------------------#

_exptl_crystal_description              plate
_exptl_crystal_colour                   dark
_exptl_crystal_size_max                 0.13
_exptl_crystal_size_mid                 0.114
_exptl_crystal_size_min                 0.024
_exptl_crystal_density_diffrn           3.599
_exptl_crystal_density_method           'not measured'
_exptl_crystal_F_000                    988
loop_
    _exptl_crystal_face_index_h
    _exptl_crystal_face_index_k
    _exptl_crystal_face_index_l
    _exptl_crystal_face_perp_dist
1 1 0 0.057
-1 -1 0 0.057
1 -1 0 0.065
-1 1 0 0.065
0 0 1 0.012
0 0 -1 0.012
0 1 0 0.068
0 -1 0 0.056


#----------------------------------------------------------------------------#
#                   ABSORPTION CORRECTION                                    #
#----------------------------------------------------------------------------#

_exptl_absorpt_coefficient_mu           18.86
_exptl_absorpt_correction_type          multi-scan
_exptl_absorpt_process_details
;
        [c.f. r.h. blessing, acta cryst. (1995), a51, 33-38]
;
_exptl_absorpt_correction_T_min         0.23
_exptl_absorpt_correction_T_max         0.5297
_shelx_estimated_absorpt_T_min          0.193
_shelx_estimated_absorpt_T_max          0.66

#----------------------------------------------------------------------------#
#                   DATA COLLECTION                                          #
#----------------------------------------------------------------------------#

_diffrn_source                          'Enraf Nonius FR590'
_diffrn_ambient_temperature             303(2)
_diffrn_radiation_wavelength            0.71073
_diffrn_radiation_type                  MoK\a
_diffrn_radiation_monochromator         'horizonally mounted graphite crystal'
_diffrn_radiation_probe                 x-ray
_diffrn_detector                        'CCD plate'
_diffrn_detector_area_resol_mean        9
_diffrn_orient_matrix_ub_11             0.099967
_diffrn_orient_matrix_ub_12             0.029166
_diffrn_orient_matrix_ub_13             0.036337
_diffrn_orient_matrix_ub_21             0.00954
_diffrn_orient_matrix_ub_22             -0.095296
_diffrn_orient_matrix_ub_23             0.033101
_diffrn_orient_matrix_ub_31             0.061499
_diffrn_orient_matrix_ub_32             -0.032626
_diffrn_orient_matrix_ub_33             -0.064201
_diffrn_measurement_device              '95mm CCD camera on κ-goniostat'
_diffrn_measurement_device_type         KappaCCD
_diffrn_measurement_method              'CCD rotation images, thick slices'
_diffrn_standards_number                0
_diffrn_standards_interval_time         .
_diffrn_standards_interval_count        .
_diffrn_standards_decay_%               ?
_diffrn_reflns_av_R_equivalents         0.1419
_diffrn_reflns_av_unetI/netI            0.0961
_diffrn_reflns_number                   4306
_diffrn_reflns_limit_h_min              -11
_diffrn_reflns_limit_h_max              11
_diffrn_reflns_limit_k_min              -12
_diffrn_reflns_limit_k_max              12
_diffrn_reflns_limit_l_min              -16
_diffrn_reflns_limit_l_max              16
_diffrn_reflns_theta_min                3.212
_diffrn_reflns_theta_max                27.504
_diffrn_reflns_theta_full               25.242
_diffrn_measured_fraction_theta_full
                                        0.985
_diffrn_measured_fraction_theta_max
                                        0.972
_diffrn_reflns_Laue_measured_fraction_full
                                        0.985
_diffrn_reflns_Laue_measured_fraction_max
                                        0.972
_diffrn_reflns_point_group_measured_fraction_full
                                        0.977
_diffrn_reflns_point_group_measured_fraction_max
                                        0.956
_reflns_Friedel_fraction_full           0.965
_reflns_Friedel_fraction_max            0.933
_reflns_Friedel_coverage                0.681
_reflns_number_total                    1106
_reflns_number_gt                       852
_reflns_threshold_expression            'I > 2σ(I)'

#----------------------------------------------------------------------------#
#                   COMPUTER PROGRAMS USED                                   #
#----------------------------------------------------------------------------#

_computing_data_collection              'Collect (Bruker AXS BV, 1997-2004)'
_computing_cell_refinement
                                       'HKL Scalepack (Otwinowski & Minor 1997)'
_computing_data_reduction
                             'HKL Denzo and Scalepack (Otwinowski & Minor 1997)'
_computing_structure_refinement         'SHELXL-2018/3 (Sheldrick, 2018)'
_computing_molecular_graphics           'Ortep for Windows (Farrugia, 2012)'
_computing_publication_material
                                   'WinGX publication routines (Farrugia, 2012)'

#----------------------------------------------------------------------------#
#                   STRUCTURE SOLUTION                                       #
#----------------------------------------------------------------------------#


#----------------------------------------------------------------------------#
#                   REFINEMENT INFORMATION                                   #
#----------------------------------------------------------------------------#

_shelx_SHELXL_version_number            2018/3
_refine_ls_structure_factor_coef        Fsqd
_refine_ls_matrix_type                  full
_refine_ls_weighting_scheme             calc
_refine_ls_weighting_details
                      'w=1/[σ²(Fo²)+(0.1153P)²] where P=(Fo²+2Fc²)/3'
_refine_ls_hydrogen_treatment           undef
_refine_ls_extinction_method            'SHELXL-2018/3 (Sheldrick 2018)'
_refine_ls_extinction_expression
                                    Fc^*^=kFc[1+0.001xFc²λ³/sin(2θ)]^-1/4^
_refine_ls_extinction_coef              0.0037(13)
_refine_ls_number_reflns                1106
_refine_ls_number_parameters            53
_refine_ls_number_restraints            0
_refine_ls_number_constraints           0
_refine_ls_R_factor_all                 0.0971
_refine_ls_R_factor_gt                  0.0753
_refine_ls_wR_factor_ref                0.1953
_refine_ls_wR_factor_gt                 0.1789
_refine_ls_goodness_of_fit_ref          1.073
_refine_ls_restrained_S_all             1.073
_refine_ls_shift/su_max                 0
_refine_ls_shift/su_mean                0
_refine_ls_abs_structure_details
;
 Flack x determined using 262 quotients [(I+)-(I-)]/[(I+)+(I-)]
 (Parsons, Flack and Wagner, Acta Cryst. B69 (2013) 249-259).
;
_refine_ls_abs_structure_Flack          -0.020(11)
_refine_diff_density_max                2.842
_refine_diff_density_min                -3.208
_refine_diff_density_rms                0.41

#----------------------------------------------------------------------------#
#                   CONSTRAINTS AND RESTRAINTS                               #
#----------------------------------------------------------------------------#


#----------------------------------------------------------------------------#
#                   ATOMIC TYPES, COORDINATES AND THERMAL PARAMETERS         #
#----------------------------------------------------------------------------#

loop_
    _atom_type_symbol
    _atom_type_description
    _atom_type_scat_dispersion_real
    _atom_type_scat_dispersion_imag
    _atom_type_scat_source
Cr Cr 0.3209 0.6236 'International Tables Vol C Tables 4.2.6.8 and 6.1.1.4'
P P 0.1023 0.0942 'International Tables Vol C Tables 4.2.6.8 and 6.1.1.4'
S S 0.1246 0.1234 'International Tables Vol C Tables 4.2.6.8 and 6.1.1.4'
Tl Tl -2.8358 9.6688 'International Tables Vol C Tables 4.2.6.8 and 6.1.1.4'

loop_
    _atom_site_label
    _atom_site_type_symbol
    _atom_site_fract_x
    _atom_site_fract_y
    _atom_site_fract_z
    _atom_site_U_iso_or_equiv
    _atom_site_adp_type
    _atom_site_occupancy
    _atom_site_site_symmetry_order
    _atom_site_calc_flag
    _atom_site_refinement_flags_posn
    _atom_site_refinement_flags_adp
    _atom_site_refinement_flags_occupancy
    _atom_site_disorder_assembly
    _atom_site_disorder_group
Tl1 Tl 0.43551(19) 0.5 0.5 0.0893(11) Uani 1 2 d S T P . .
Cr1 Cr 0.5 0.9044(4) 0.25 0.0234(10) Uani 1 2 d S T P . .
P1 P 0.1935(5) 0.7536(6) 0.2915(4) 0.0269(11) Uani 1 1 d . . . . .
S1 S 0.3132(5) 0.8772(5) 0.3942(4) 0.0292(12) Uani 1 1 d . . . . .
S2 S 0.3345(6) 0.7329(6) 0.1605(4) 0.0338(12) Uani 1 1 d . . . . .
S3 S 0.1195(6) 0.5790(5) 0.3672(4) 0.0316(12) Uani 1 1 d . . . . .
S4 S 0 0.8855(7) 0.25 0.0365(18) Uani 1 2 d S T P . .

loop_
    _atom_site_aniso_label
    _atom_site_aniso_U_11
    _atom_site_aniso_U_22
    _atom_site_aniso_U_33
    _atom_site_aniso_U_23
    _atom_site_aniso_U_13
    _atom_site_aniso_U_12
Tl1 0.0496(10) 0.161(3) 0.0572(12) 0.0152(13) 0 0
Cr1 0.0161(16) 0.021(2) 0.033(2) 0 0.0010(16) 0
P1 0.020(2) 0.029(3) 0.032(3) -0.001(2) 0.0005(17) -0.0018(19)
S1 0.022(2) 0.032(3) 0.034(2) -0.007(2) 0.0032(18) -0.0048(19)
S2 0.032(2) 0.036(3) 0.034(3) -0.006(2) 0.0059(19) -0.008(2)
S3 0.032(2) 0.024(3) 0.038(3) 0.0038(19) -0.0038(19) -0.013(2)
S4 0.023(3) 0.025(4) 0.061(5) 0 -0.008(3) 0


#----------------------------------------------------------------------------#
#                   MOLECULAR GEOMETRY                                       #
#----------------------------------------------------------------------------#

_geom_special_details
;
 All esds (except the esd in the dihedral angle between two l.s. planes)
 are estimated using the full covariance matrix.  The cell esds are taken
 into account individually in the estimation of esds in distances, angles
 and torsion angles; correlations between esds in cell parameters are only
 used when they are defined by crystal symmetry.  An approximate (isotropic)
 treatment of cell esds is used for estimating esds involving l.s. planes.
;
loop_
    _geom_bond_atom_site_label_1
    _geom_bond_atom_site_label_2
    _geom_bond_distance
    _geom_bond_site_symmetry_2
    _geom_bond_publ_flag
Cr1 S1 2.401(5) 3_655 ?
Cr1 S1 2.401(5) . ?
Cr1 S2 2.424(6) 3_655 ?
Cr1 S2 2.424(6) . ?
Cr1 S3 2.429(6) 5 ?
Cr1 S3 2.429(6) 7 ?
P1 S1 2.009(7) . ?
P1 S3 2.011(7) . ?
P1 S2 2.025(8) . ?
P1 S4 2.132(6) . ?

loop_
    _geom_angle_atom_site_label_1
    _geom_angle_atom_site_label_2
    _geom_angle_atom_site_label_3
    _geom_angle
    _geom_angle_site_symmetry_1
    _geom_angle_site_symmetry_3
    _geom_angle_publ_flag
S1 Cr1 S1 167.6(3) 3_655 . ?
S1 Cr1 S2 83.30(18) 3_655 3_655 ?
S1 Cr1 S2 88.32(19) . 3_655 ?
S1 Cr1 S2 88.32(19) 3_655 . ?
S1 Cr1 S2 83.30(18) . . ?
S2 Cr1 S2 95.2(3) 3_655 . ?
S1 Cr1 S3 103.96(19) 3_655 5 ?
S1 Cr1 S3 84.67(18) . 5 ?
S2 Cr1 S3 86.99(19) 3_655 5 ?
S2 Cr1 S3 167.70(17) . 5 ?
S1 Cr1 S3 84.67(17) 3_655 7 ?
S1 Cr1 S3 103.96(19) . 7 ?
S2 Cr1 S3 167.70(17) 3_655 7 ?
S2 Cr1 S3 86.99(19) . 7 ?
S3 Cr1 S3 93.5(3) 5 7 ?
S1 P1 S3 110.4(3) . . ?
S1 P1 S2 105.3(3) . . ?
S3 P1 S2 118.5(3) . . ?
S1 P1 S4 101.3(3) . . ?
S3 P1 S4 111.1(3) . . ?
S2 P1 S4 108.7(3) . . ?
P1 S1 Cr1 85.9(2) . . ?
P1 S2 Cr1 84.9(2) . . ?
P1 S3 Cr1 114.8(3) . 5_445 ?
P1 S4 P1 107.7(4) 3 . ?

_iucr_refine_instructions_details
;
TITL shelxt_a.res in C222(1)
    shelx.res
    created by SHELXL-2018/3 at 18:20:21 on 01-Aug-2023
CELL  0.71073   8.4921   9.5362  12.3676   90.000   90.000   90.000
ZERR     4.00   0.0005   0.0007   0.0007    0.000    0.000    0.000
LATT  -7
SYMM  - X, - Y, 1/2 + Z
SYMM  - X,   Y, 1/2 - Z
SYMM    X, - Y, - Z
SFAC  CR   P    S    TL
UNIT  4 8 28 4
TEMP 30
SIZE 0.024 0.114 0.13
MERG   2
FMAP   2
PLAN   20
ACTA
BOND
LIST   4
L.S.  10
WGHT    0.115300
EXTI    0.003667
FVAR       0.11496
TL1   4    0.435506    0.500000    0.500000    10.50000    0.04959    0.16118 =
         0.05724    0.01520    0.00000    0.00000
CR1   1    0.500000    0.904430    0.250000    10.50000    0.01611    0.02144 =
         0.03277    0.00000    0.00098    0.00000
P1    2    0.193467    0.753590    0.291477    11.00000    0.01980    0.02910 =
         0.03184   -0.00106    0.00051   -0.00178
S1    3    0.313246    0.877177    0.394190    11.00000    0.02177    0.03230 =
         0.03364   -0.00670    0.00322   -0.00477
S2    3    0.334479    0.732941    0.160451    11.00000    0.03187    0.03550 =
         0.03395   -0.00565    0.00591   -0.00809
S3    3    0.119531    0.578994    0.367187    11.00000    0.03212    0.02431 =
         0.03822    0.00375   -0.00380   -0.01286
S4    3    0.000000    0.885505    0.250000    10.50000    0.02304    0.02508 =
         0.06135    0.00000   -0.00793    0.00000

HKLF    4




REM  shelxt_a.res in C222(1)
REM wR2 = 0.1953, GooF = S = 1.073, Restrained GooF = 1.073 for all data
REM R1 = 0.0753 for 852 Fo > 4sig(Fo) and 0.0971 for all 1106 data
REM 53 parameters refined using 0 restraints

END

WGHT      0.1153      0.0000

REM Highest difference peak  2.842,  deepest hole -3.208,  1-sigma level  0.410
Q1    1   0.4320  0.4959  0.5721  11.00000  0.05    2.84
Q2    1   0.4035  0.5709  0.5092  11.00000  0.05    1.98
Q3    1   0.4966  0.9105  0.3233  11.00000  0.05    1.23
Q4    1   0.2000  0.7677  0.3646  11.00000  0.05    1.09
Q5    1   0.1319  0.4890  0.3553  11.00000  0.05    1.07
Q6    1   0.1257  0.5795  0.2909  11.00000  0.05    1.06
Q7    1   0.3285  0.7262  0.2193  11.00000  0.05    1.06
Q8    1   0.5000  1.0036  0.2500  10.50000  0.05    0.94
Q9    1   0.1054  0.5880  0.2523  11.00000  0.05    0.94
Q10   1   0.3258  0.8629  0.4696  11.00000  0.05    0.94
Q11   1   0.2477  1.0564  0.3730  11.00000  0.05    0.91
Q12   1   0.3409  0.7274  0.0818  11.00000  0.05    0.87
Q13   1   0.1478  0.6648  0.3731  11.00000  0.05    0.83
Q14   1   0.3642  0.6848  0.3907  11.00000  0.05    0.81
Q15   1   0.1853  0.7566  0.2644  11.00000  0.05    0.81
Q16   1   0.3124  0.5987  0.3885  11.00000  0.05    0.80
Q17   1  -0.0011  0.8972  0.3389  11.00000  0.05    0.76
Q18   1   0.5011  0.9239  0.3899  11.00000  0.05    0.75
Q19   1   0.1797  0.9547  0.3970  11.00000  0.05    0.74
Q20   1   0.3346  0.8438  0.1216  11.00000  0.05    0.72
;

# END of CIF
