#\#CIF_1.1

#  CIF produced by WinGX routine CIF_UPDATE
#  Created on 2023-07-31 at 19:35:02
#  Using CIFtbx version 3.0.4  1 Sep 2006

#  Dictionary name : cif_core.dic
#  Dictionary vers : 2.4.5
#  Request file    : c:\program files (x86)\wingx\files\archive.reqdat
#  CIF files read  : shelx project

#------------------ SECTION 1. GLOBAL INFORMATION ---------------------------#

data_global

#------------------ AUDIT DETAILS -------------------------------------------#

_audit_creation_date            2023-07-31
_audit_creation_method          'WinGX routine CIF_UPDATE'
_audit_conform_dict_name        cif_core.dic
_audit_conform_dict_version     2.4.3
_audit_conform_dict_location    ftp://ftp.iucr.org/pub/cif_core.dic
_audit_update_record            ?

#------------------ AUTHOR DETAILS -------------------------------------------#

# Name and address of author for correspondence

_publ_contact_author_name       ' ,  '
_publ_contact_author_address
;

;
_publ_contact_author_email       ' '
_publ_contact_author_fax         ' '
_publ_contact_author_phone       ' '


# Insert blank lines between references

_publ_section_references
;
Blessing, R. H. (1995) Acta Cryst., A51, 33-38.

Blessing, R. H. (1987) Cryst. Rev. 1, 3-58.

Blessing, R. H. (1989) J. Appl. Cryst. 22, 396-397.

Bruker (2012) APEX2 (Version 2012.10-0), SAINT (version 8.27B), SADABS
(version 2012/1), BrukerAXS Inc, Madison, Wisconsin, USA.

ABSCOR: Higashi, T. (1995). ABSCOR. Rigaku Corporation, Tokyo, Japan.

CAD-4 Software: Enraf-Nonius (1989). CAD-4 Software (or CAD-4 EXPRESS).
Enraf-Nonius, Delft, The Netherlands.

Cambridge Structural Database: Allen, F. R. (2002). Acta Cryst. B58, 380-388.

CAMERON: Watkin, D. J., Prout, C. K. & Pearce, L. J. (1996). CAMERON.
Chemical Crystallography Laboratory, Oxford, England.

CrysAlis CCD, CrysAlis RED and associated programs: Oxford Diffraction (2006).
Program name(s). Oxford Diffraction Ltd, Abingdon, England.

CRYSTALS: Betteridge, P. W., Carruthers, J. R., Cooper, R. I., Prout, K. &
Watkin, D. J. (2003). J. Appl. Cryst. 36, 1487.

COLLECT: Nonius (1998). COLLECT. Nonius BV, Delft, The Netherlands.

DENZO/SCALEPACK:  Otwinowski, Z. & Minor, W. (1997). Methods in Enzymology,
Vol. 276, Macromolecular Crystallography, Part A, edited by C. W. Carter Jr
& R. M. Sweet, pp. 307-326. New York: Academic Press.

DIAMOND: Brandenburg, K.(2006). DIAMOND. Crystal Impact GbR, Bonn, Germany.

DIF4 and REDU4: Stoe & Cie (1991). Program name(s). Stoe & Cie, Darmstadt,
Germany.

DIFABS: Walker, N. &  Stuart, D. (1983). Acta Cryst., A39, 158 - 166.

DIRAX: Duisenberg, A. J. M. (1992). J. Appl. Cryst. 25, 92-96.

DIRDIF-2008: Beurskens, P.T., Beurskens, G., de Gelder, R., Garciía-Granda,
S., Gould, R.O. & Smits, J.M.M. (2008) The DIRDIF-2008 program
system, Crystallography Laboratory, Radboud University  Nijmegen,
The Netherlands.

EDMA: Palatinus, L., Prathapa, S. J. & van Smaalen, S. (2012) J. Appl. Cryst.
45, 575-580.

enCIFer: Allen, F. H., Johnson, O., Shields, G. P., Smith, B. R. & Towler,
M. (2004). J. Appl. Cryst. 37, 335-338.

EVALCCD: Duisenberg, A. J. M., Kroon-Batenburg, L. M. J. & Schreurs,
A. M. M. (2003). J. Appl. Cryst. 36, 220-229.

JANA2000: Petricek, V. & Dusek, M. (2000). JANA2000. Institute of Physics,
Czech Academy of Sciences, Prague, Czech Republic.

MERCURY: Macrae, C. F., Bruno, I. J., Chisholm, J. A., Edgington,
P. R., McCabe, P., Pidcock, E., Rodriguez-Monge, L., Taylor, R.,
van de Streek, J. & Wood, P. A. (2008). J. Appl. Cryst. 41, 466-470.

MOGUL: Bruno, I. J., Cole, J. C., Kessler, M., Luo, J., Motherwell,
W. D. S., Purkis, L. H., Smith, B. R., Taylor, R., Cooper, R. I., Harris,
S. E. & Orpen, A. G. (2004). J. Chem. Inf. Comput. Sci. 44, 2133-2144.

ORTEPII: Johnson, C. K. (1976). ORTEPII. Report ORNL-5138. Oak Ridge
National Laboratory, Tennessee, USA.

ORTEPIII:  Burnett, M. N. & Johnson, C. K. (1996). ORTEPIII.
Report ORNL-6895. Oak Ridge National Laboratory, Tennessee, USA.

ORTEP-3: Farrugia, L. J. (2012). J. Appl. Cryst. 45, 849-854.

PARST: Nardelli, M. (1995). J. Appl. Cryst. 28, 659.

PLATON: Spek, A. L. (2009). Acta. Cryst. D65, 148-155.

PROCESS: Rigaku (1996). PROCESS. Rigaku Corporation, Tokyo, Japan.

PROCESS-AUTO: Rigaku (1998). PROCESS-AUTO. Rigaku Corporation, Tokyo, Japan.

PublCIF: Westrip, S. P. (2010). J. Appl. Cryst. 43, 920-925.

SCHAKAL: Keller, E. (1999) University of Freiburg, Germany.

SHELX: Sheldrick, G. M. (2015). Acta Cryst. C71, 3-8.

SHELXD: Schneider, T. R. & Sheldrick, G. M. (2002) Acta Cryst. D58, 1772-1779.

SHELXT: Sheldrick, G. M. (2015). Acta Cryst. A71, 3-8.

SIR92: Altomare, A., Cascarano, G., Giacovazzo, C., Guagliardi, A., Burla,
M. C., Polidori, G. & Camalli, M. (1994). J. Appl. Cryst. 27, 435.

SIR97: Altomare, A., Burla, M. C., Camalli, M., Cascarano, G. L.,
Giacovazzo, C., Guagliardi, A., Moliterni, A. G. G., Polidori, G. &
Spagna, R. (1999). J. Appl. Cryst. 32, 115-119.

SIR2002: Burla, M. C., Camalli, M., Carrozzini, B., Cascarano, G. L.,
Giacovazzo, C., Polidori, G. & Spagna, R. (2003). J. Appl. Cryst. 36, 1103.

SIR2004: Burla, M. C., Caliandro, R., Camalli, M., Carrozzini, B.,
Cascarano, G. L., De Caro, L., Giacovazzo, C., Polidori, G. & Spagna, R.
(2005). J. Appl. Cryst. 38, 381-388.

SIR2008 & IL MILIONE: Burla, M. C., Caliandro, R., Camalli, M., Carrozzini, B.,
Cascarano, G. L., De Caro, L., Giacovazzo, C., Polidori, G., Siliqi, D.,
& Spagna, R. (2007). J. Appl. Cryst. 40, 609-613.

SIR2011: Burla, M. C., Caliandro, R., Camalli, M., Carrozzini, B.,
Cascarano, G. L., Giacovazzo, C., Mallamo, M., Mazzone, A., Polidori, G.
& Spagna, R. (2012). J. Appl. Cryst. 45, 357-361.

SUPERFLIP: Palatinus, L. & Chapuis, G. (2007) J. Appl. Cryst. 40, 786-790.

TEXSAN: Molecular Structure Corporation & Rigaku (2000). TEXSAN. MSC,
The Woodlands, Texas, USA, and Rigaku Corporation, Tokyo, Japan.

WinGX: Farrugia, L. J. (2012). J. Appl. Cryst. 45, 849-854.

X-AREA, X-RED, X-RED32, X-SHAPE:  Stoe & Cie (2002). Program name(s).
Stoe & Cie GmbH, Darmstadt, Germany.

XCAD4: Harms, K. & Wocadlo, S. (1995). XCAD4. University of Marburg, Germany.

XSCANS: Siemens (1994). XSCANS. Siemens Analytical X-ray Instruments Inc.,
Madison, Wisconsin, USA.

;

#------------------  SECTION 2. COMPOUND(S) DETAILS -------------------------#

data_shelx

_audit_creation_date                    2023-07-31T19:35:02-00:00
_audit_creation_method                  'WinGX routine CIF_UPDATE'
_audit_conform_dict_name                cif_core.dic
_audit_conform_dict_version             2.4.5
_audit_conform_dict_location            ftp://ftp.iucr.org/pub/cif_core.dic
_publ_requested_category                FI

#----------------------------------------------------------------------------#
#                   CHEMICAL INFORMATION                                     #
#----------------------------------------------------------------------------#

_chemical_formula_sum                   'Cr P2 S7 Tl'
_chemical_formula_weight                542.73
_chemical_absolute_configuration        unk

#----------------------------------------------------------------------------#
#                   UNIT CELL INFORMATION                                    #
#----------------------------------------------------------------------------#

_symmetry_cell_setting                  orthorhombic
_symmetry_space_group_name_H-M          'P 21 21 21'
_symmetry_space_group_name_Hall         'P 2ac 2ab'
_symmetry_Int_Tables_number             19
loop_
    _symmetry_equiv_pos_as_xyz
'x, y, z'
'-x+1/2, -y, z+1/2'
'-x, y+1/2, -z+1/2'
'x+1/2, -y+1/2, -z'

_cell_length_a                          8.4745(3)
_cell_length_b                          9.5293(4)
_cell_length_c                          12.2658(4)
_cell_angle_alpha                       90
_cell_angle_beta                        90
_cell_angle_gamma                       90
_cell_volume                            990.54(6)
_cell_formula_units_Z                   4
_cell_measurement_temperature           113(2)
_cell_measurement_reflns_used           29939
_cell_measurement_theta_min             2.91
_cell_measurement_theta_max             27.48
_cell_measurement_wavelength            0.71073

#----------------------------------------------------------------------------#
#                   CRYSTAL INFORMATION                                      #
#----------------------------------------------------------------------------#

_exptl_crystal_description              plate
_exptl_crystal_colour                   dark
_exptl_crystal_size_max                 0.13
_exptl_crystal_size_mid                 0.114
_exptl_crystal_size_min                 0.024
_exptl_crystal_density_diffrn           3.639
_exptl_crystal_density_method           'not measured'
_exptl_crystal_F_000                    988
loop_
    _exptl_crystal_face_index_h
    _exptl_crystal_face_index_k
    _exptl_crystal_face_index_l
    _exptl_crystal_face_perp_dist
1 1 0 0.057
-1 -1 0 0.057
1 -1 0 0.065
-1 1 0 0.065
0 0 1 0.012
0 0 -1 0.012
0 1 0 0.068
0 -1 0 0.056


#----------------------------------------------------------------------------#
#                   ABSORPTION CORRECTION                                    #
#----------------------------------------------------------------------------#

_exptl_absorpt_coefficient_mu           19.07
_exptl_absorpt_correction_type          multi-scan
_exptl_absorpt_process_details
;
        [c.f. r.h. blessing, acta cryst. (1995), a51, 33-38]
;
_exptl_absorpt_correction_T_min         0.2294
_exptl_absorpt_correction_T_max         0.4918
_shelx_estimated_absorpt_T_min          0.191
_shelx_estimated_absorpt_T_max          0.658

#----------------------------------------------------------------------------#
#                   DATA COLLECTION                                          #
#----------------------------------------------------------------------------#

_diffrn_source                          'Enraf Nonius FR590'
_diffrn_ambient_temperature             113(2)
_diffrn_radiation_wavelength            0.71073
_diffrn_radiation_type                  MoK\a
_diffrn_radiation_monochromator         'horizonally mounted graphite crystal'
_diffrn_radiation_probe                 x-ray
_diffrn_detector                        'CCD plate'
_diffrn_detector_area_resol_mean        9
_diffrn_orient_matrix_ub_11             0.106517
_diffrn_orient_matrix_ub_12             -0.016288
_diffrn_orient_matrix_ub_13             0.032721
_diffrn_orient_matrix_ub_21             -0.041091
_diffrn_orient_matrix_ub_22             -0.085151
_diffrn_orient_matrix_ub_23             0.038268
_diffrn_orient_matrix_ub_31             0.029832
_diffrn_orient_matrix_ub_32             -0.05913
_diffrn_orient_matrix_ub_33             -0.064122
_diffrn_measurement_device              '95mm CCD camera on κ-goniostat'
_diffrn_measurement_device_type         KappaCCD
_diffrn_measurement_method              'CCD rotation images, thick slices'
_diffrn_standards_number                0
_diffrn_standards_interval_time         .
_diffrn_standards_interval_count        .
_diffrn_standards_decay_%               ?
_diffrn_reflns_av_R_equivalents         0.1384
_diffrn_reflns_av_unetI/netI            0.0902
_diffrn_reflns_number                   8505
_diffrn_reflns_limit_h_min              -11
_diffrn_reflns_limit_h_max              11
_diffrn_reflns_limit_k_min              -12
_diffrn_reflns_limit_k_max              12
_diffrn_reflns_limit_l_min              -15
_diffrn_reflns_limit_l_max              15
_diffrn_reflns_theta_min                2.922
_diffrn_reflns_theta_max                27.502
_diffrn_reflns_theta_full               25.242
_diffrn_measured_fraction_theta_full
                                        0.974
_diffrn_measured_fraction_theta_max
                                        0.972
_diffrn_reflns_Laue_measured_fraction_full
                                        0.974
_diffrn_reflns_Laue_measured_fraction_max
                                        0.972
_diffrn_reflns_point_group_measured_fraction_full
                                        0.965
_diffrn_reflns_point_group_measured_fraction_max
                                        0.959
_reflns_Friedel_fraction_full           0.951
_reflns_Friedel_fraction_max            0.942
_reflns_Friedel_coverage                0.692
_reflns_number_total                    2176
_reflns_number_gt                       1943
_reflns_threshold_expression            'I > 2σ(I)'

#----------------------------------------------------------------------------#
#                   COMPUTER PROGRAMS USED                                   #
#----------------------------------------------------------------------------#

_computing_data_collection              'Collect (Bruker AXS BV, 1997-2004)'
_computing_cell_refinement
                                       'HKL Scalepack (Otwinowski & Minor 1997)'
_computing_data_reduction
                             'HKL Denzo and Scalepack (Otwinowski & Minor 1997)'
_computing_structure_refinement         'SHELXL-2018/3 (Sheldrick, 2018)'
_computing_molecular_graphics           'Ortep for Windows (Farrugia, 2012)'
_computing_publication_material
                                   'WinGX publication routines (Farrugia, 2012)'

#----------------------------------------------------------------------------#
#                   STRUCTURE SOLUTION                                       #
#----------------------------------------------------------------------------#


#----------------------------------------------------------------------------#
#                   REFINEMENT INFORMATION                                   #
#----------------------------------------------------------------------------#

_shelx_SHELXL_version_number            2018/3
_refine_ls_structure_factor_coef        Fsqd
_refine_ls_matrix_type                  full
_refine_ls_weighting_scheme             calc
_refine_ls_weighting_details
                      'w=1/[σ²(Fo²)+(0.1118P)²] where P=(Fo²+2Fc²)/3'
_refine_ls_hydrogen_treatment           undef
_refine_ls_extinction_method            none
_refine_ls_number_reflns                2176
_refine_ls_number_parameters            100
_refine_ls_number_restraints            0
_refine_ls_number_constraints           0
_refine_ls_R_factor_all                 0.0714
_refine_ls_R_factor_gt                  0.0633
_refine_ls_wR_factor_ref                0.167
_refine_ls_wR_factor_gt                 0.1595
_refine_ls_goodness_of_fit_ref          1.073
_refine_ls_restrained_S_all             1.073
_refine_ls_shift/su_max                 0
_refine_ls_shift/su_mean                0
_refine_ls_abs_structure_details
;
 Flack x determined using 701 quotients [(I+)-(I-)]/[(I+)+(I-)]
 (Parsons, Flack and Wagner, Acta Cryst. B69 (2013) 249-259).
;
_refine_ls_abs_structure_Flack          -0.004(8)
_refine_diff_density_max                4.593
_refine_diff_density_min                -5.35
_refine_diff_density_rms                0.597

#----------------------------------------------------------------------------#
#                   CONSTRAINTS AND RESTRAINTS                               #
#----------------------------------------------------------------------------#


#----------------------------------------------------------------------------#
#                   ATOMIC TYPES, COORDINATES AND THERMAL PARAMETERS         #
#----------------------------------------------------------------------------#

loop_
    _atom_type_symbol
    _atom_type_description
    _atom_type_scat_dispersion_real
    _atom_type_scat_dispersion_imag
    _atom_type_scat_source
Cr Cr 0.3209 0.6236 'International Tables Vol C Tables 4.2.6.8 and 6.1.1.4'
P P 0.1023 0.0942 'International Tables Vol C Tables 4.2.6.8 and 6.1.1.4'
S S 0.1246 0.1234 'International Tables Vol C Tables 4.2.6.8 and 6.1.1.4'
Tl Tl -2.8358 9.6688 'International Tables Vol C Tables 4.2.6.8 and 6.1.1.4'

loop_
    _atom_site_label
    _atom_site_type_symbol
    _atom_site_fract_x
    _atom_site_fract_y
    _atom_site_fract_z
    _atom_site_U_iso_or_equiv
    _atom_site_adp_type
    _atom_site_occupancy
    _atom_site_site_symmetry_order
    _atom_site_calc_flag
    _atom_site_refinement_flags_posn
    _atom_site_refinement_flags_adp
    _atom_site_refinement_flags_occupancy
    _atom_site_disorder_assembly
    _atom_site_disorder_group
Tl1 Tl 0.31455(9) 0.45731(12) 0.51026(7) 0.0287(3) Uani 1 1 d . . . . .
Cr1 Cr 0.2587(3) 0.9044(3) 0.7512(2) 0.0123(7) Uani 1 1 d . . . . .
S1 S 1.0678(5) 0.8735(6) 0.8938(4) 0.0148(10) Uani 1 1 d . . . . .
S2 S 0.4324(5) 0.7377(5) 0.8396(4) 0.0152(10) Uani 1 1 d . . . . .
S3 S 0.8675(5) 0.5791(5) 0.8641(4) 0.0142(10) Uani 1 1 d . . . . .
S4 S 1.1037(5) 0.7268(6) 0.6595(4) 0.0149(10) Uani 1 1 d . . . . .
P1 P 0.9513(5) 0.7500(5) 0.7851(4) 0.0130(10) Uani 1 1 d . . . . .
P2 P 0.5638(5) 0.7558(5) 0.7024(4) 0.0127(10) Uani 1 1 d . . . . .
S5 S 0.4416(5) 0.8838(6) 0.6036(4) 0.0155(10) Uani 1 1 d . . . . .
S6 S 0.7635(5) 0.8834(6) 0.7337(4) 0.0175(10) Uani 1 1 d . . . . .
S7 S 0.6261(5) 0.5770(6) 0.6271(4) 0.0153(10) Uani 1 1 d . . . . .

loop_
    _atom_site_aniso_label
    _atom_site_aniso_U_11
    _atom_site_aniso_U_22
    _atom_site_aniso_U_33
    _atom_site_aniso_U_23
    _atom_site_aniso_U_13
    _atom_site_aniso_U_12
Tl1 0.0193(4) 0.0412(6) 0.0256(5) -0.0016(4) 0.0012(3) -0.0021(4)
Cr1 0.0081(13) 0.0113(16) 0.0176(16) -0.0010(12) -0.0001(12) 0.0018(12)
S1 0.010(2) 0.017(3) 0.017(2) -0.0017(19) 0.0031(17) -0.0037(19)
S2 0.015(2) 0.012(3) 0.019(2) 0.0043(18) 0.0029(17) 0.002(2)
S3 0.013(2) 0.009(2) 0.021(2) -0.0002(18) -0.0005(17) -0.0004(18)
S4 0.0118(19) 0.015(3) 0.018(2) -0.002(2) 0.0019(17) -0.0006(18)
P1 0.010(2) 0.010(3) 0.019(2) -0.0009(18) 0.0001(18) -0.001(2)
P2 0.007(2) 0.015(3) 0.017(2) 0.0013(19) 0.0018(16) 0.000(2)
S5 0.012(2) 0.019(3) 0.016(2) 0.0012(18) 0.0030(17) 0.001(2)
S6 0.0102(19) 0.017(3) 0.025(3) 0.000(2) -0.0039(17) 0.0012(19)
S7 0.014(2) 0.013(3) 0.019(2) -0.0002(19) -0.0018(17) 0.0039(19)


#----------------------------------------------------------------------------#
#                   MOLECULAR GEOMETRY                                       #
#----------------------------------------------------------------------------#

_geom_special_details
;
 All esds (except the esd in the dihedral angle between two l.s. planes)
 are estimated using the full covariance matrix.  The cell esds are taken
 into account individually in the estimation of esds in distances, angles
 and torsion angles; correlations between esds in cell parameters are only
 used when they are defined by crystal symmetry.  An approximate (isotropic)
 treatment of cell esds is used for estimating esds involving l.s. planes.
;
loop_
    _geom_bond_atom_site_label_1
    _geom_bond_atom_site_label_2
    _geom_bond_distance
    _geom_bond_site_symmetry_2
    _geom_bond_publ_flag
Cr1 S5 2.392(5) . ?
Cr1 S1 2.400(5) 1_455 ?
Cr1 S4 2.420(6) 1_455 ?
Cr1 S2 2.422(6) . ?
Cr1 S7 2.426(6) 3_656 ?
Cr1 S3 2.433(6) 3_656 ?
S1 P1 2.033(7) . ?
S2 P2 2.025(7) . ?
S3 P1 2.023(7) . ?
S4 P1 2.022(7) . ?
P1 S6 2.133(7) . ?
P2 S5 2.007(7) . ?
P2 S7 2.009(7) . ?
P2 S6 2.119(7) . ?

loop_
    _geom_angle_atom_site_label_1
    _geom_angle_atom_site_label_2
    _geom_angle_atom_site_label_3
    _geom_angle
    _geom_angle_site_symmetry_1
    _geom_angle_site_symmetry_3
    _geom_angle_publ_flag
S5 Cr1 S1 168.0(2) . 1_455 ?
S5 Cr1 S4 86.68(19) . 1_455 ?
S1 Cr1 S4 83.50(19) 1_455 1_455 ?
S5 Cr1 S2 83.74(19) . . ?
S1 Cr1 S2 90.19(19) 1_455 . ?
S4 Cr1 S2 94.5(2) 1_455 . ?
S5 Cr1 S7 105.10(19) . 3_656 ?
S1 Cr1 S7 84.65(19) 1_455 3_656 ?
S4 Cr1 S7 168.1(2) 1_455 3_656 ?
S2 Cr1 S7 85.7(2) . 3_656 ?
S5 Cr1 S3 84.30(19) . 3_656 ?
S1 Cr1 S3 102.21(19) 1_455 3_656 ?
S4 Cr1 S3 88.3(2) 1_455 3_656 ?
S2 Cr1 S3 167.5(2) . 3_656 ?
S7 Cr1 S3 94.1(2) 3_656 3_656 ?
P1 S1 Cr1 85.5(2) . 1_655 ?
P2 S2 Cr1 84.7(2) . . ?
P1 S3 Cr1 115.3(3) . 3_646 ?
P1 S4 Cr1 85.2(2) . 1_655 ?
S4 P1 S3 120.1(3) . . ?
S4 P1 S1 104.6(3) . . ?
S3 P1 S1 108.8(3) . . ?
S4 P1 S6 108.4(3) . . ?
S3 P1 S6 111.1(3) . . ?
S1 P1 S6 102.2(3) . . ?
S5 P2 S7 111.9(3) . . ?
S5 P2 S2 105.6(3) . . ?
S7 P2 S2 117.0(3) . . ?
S5 P2 S6 100.0(3) . . ?
S7 P2 S6 111.1(3) . . ?
S2 P2 S6 109.8(3) . . ?
P2 S5 Cr1 85.8(2) . . ?
P2 S6 P1 107.9(3) . . ?
P2 S7 Cr1 113.5(3) . 3_646 ?

_iucr_refine_instructions_details
;
TITL shelxt_a.res in P2(1)2(1)2(1)
    shelx.res
    created by SHELXL-2018/3 at 19:33:49 on 31-Jul-2023
CELL  0.71073   8.4745   9.5293  12.2658   90.000   90.000   90.000
ZERR     4.00   0.0003   0.0004   0.0004    0.000    0.000    0.000
LATT  -1
SYMM  1/2 - X, - Y, 1/2 + Z
SYMM  - X, 1/2 + Y, 1/2 - Z
SYMM  1/2 + X, 1/2 - Y, - Z
SFAC  CR   P    S    TL
UNIT  4 8 28 4
TEMP -160
SIZE 0.024 0.114 0.13
MERG   2
FMAP   2
PLAN   20
ACTA
BOND
LIST   4
L.S.  10
WGHT    0.111800
FVAR       0.13540
TL1   4    0.314548    0.457315    0.510261    11.00000    0.01928    0.04119 =
         0.02559   -0.00160    0.00117   -0.00214
CR1   1    0.258653    0.904410    0.751247    11.00000    0.00813    0.01131 =
         0.01761   -0.00101   -0.00015    0.00177
S1    3    1.067751    0.873456    0.893757    11.00000    0.00982    0.01741 =
         0.01711   -0.00175    0.00309   -0.00372
S2    3    0.432377    0.737705    0.839578    11.00000    0.01488    0.01207 =
         0.01865    0.00435    0.00291    0.00238
S3    3    0.867512    0.579138    0.864112    11.00000    0.01317    0.00857 =
         0.02084   -0.00025   -0.00052   -0.00042
S4    3    1.103660    0.726772    0.659527    11.00000    0.01179    0.01535 =
         0.01757   -0.00242    0.00185   -0.00058
P1    2    0.951317    0.749962    0.785150    11.00000    0.00985    0.01005 =
         0.01924   -0.00094    0.00011   -0.00137
P2    2    0.563830    0.755842    0.702422    11.00000    0.00687    0.01457 =
         0.01652    0.00131    0.00177    0.00008
S5    3    0.441570    0.883758    0.603557    11.00000    0.01228    0.01851 =
         0.01561    0.00121    0.00302    0.00058
S6    3    0.763515    0.883414    0.733687    11.00000    0.01023    0.01700 =
         0.02514    0.00049   -0.00394    0.00117
S7    3    0.626075    0.576984    0.627119    11.00000    0.01353    0.01330 =
         0.01909   -0.00020   -0.00184    0.00394
HKLF    4




REM  shelxt_a.res in P2(1)2(1)2(1)
REM wR2 = 0.1670, GooF = S = 1.073, Restrained GooF = 1.073 for all data
REM R1 = 0.0633 for 1943 Fo > 4sig(Fo) and 0.0714 for all 2176 data
REM 100 parameters refined using 0 restraints

END

WGHT      0.1114      0.0000

REM Highest difference peak  4.593,  deepest hole -5.350,  1-sigma level  0.597
Q1    1   0.3197  0.5459  0.4991  11.00000  0.05    4.59
Q2    1   0.3141  0.4568  0.4435  11.00000  0.05    3.23
Q3    1   0.3162  0.4535  0.5815  11.00000  0.05    2.35
Q4    1   0.8341  0.5496  0.9396  11.00000  0.05    2.30
Q5    1   0.3238  0.4083  0.5925  11.00000  0.05    2.25
Q6    1   0.3739  0.5343  0.5939  11.00000  0.05    2.11
Q7    1   0.2824  0.5413  0.5848  11.00000  0.05    2.04
Q8    1   0.8216  0.5559  1.0131  11.00000  0.05    1.84
Q9    1   0.8494  0.5479  0.9964  11.00000  0.05    1.81
Q10   1   0.2469  0.5315  0.4243  11.00000  0.05    1.74
Q11   1   0.3285  0.8243  0.6774  11.00000  0.05    1.69
Q12   1   0.4520  0.3782  0.5153  11.00000  0.05    1.68
Q13   1   0.8032  0.9622  0.6417  11.00000  0.05    1.63
Q14   1   0.2335  0.4056  0.5980  11.00000  0.05    1.63
Q15   1   0.6545  0.4541  0.5531  11.00000  0.05    1.62
Q16   1   0.2100  0.4129  0.4271  11.00000  0.05    1.61
Q17   1   0.4252  0.7401  0.9130  11.00000  0.05    1.54
Q18   1   0.1818  0.3814  0.5117  11.00000  0.05    1.53
Q19   1   0.3940  0.5208  0.4208  11.00000  0.05    1.53
Q20   1   0.6825  0.8909  0.8312  11.00000  0.05    1.50
;

# END of CIF
